BEGIN:VCALENDAR
VERSION:2.0
PRODID:-//Young People&#039;s Chorus of NYC - ECPv6.2.9//NONSGML v1.0//EN
CALSCALE:GREGORIAN
METHOD:PUBLISH
X-ORIGINAL-URL:https://old.ypc.org
X-WR-CALDESC:Events for Young People&#039;s Chorus of NYC
REFRESH-INTERVAL;VALUE=DURATION:PT1H
X-Robots-Tag:noindex
X-PUBLISHED-TTL:PT1H
BEGIN:VTIMEZONE
TZID:UTC
BEGIN:STANDARD
TZOFFSETFROM:+0000
TZOFFSETTO:+0000
TZNAME:UTC
DTSTART:20170101T000000
END:STANDARD
END:VTIMEZONE
BEGIN:VEVENT
DTSTART;VALUE=DATE:20170605
DTEND;VALUE=DATE:20170612
DTSTAMP:20260419T232330
CREATED:20170504T011010Z
LAST-MODIFIED:20201207T181546Z
UID:3438-1496620800-1497225599@old.ypc.org
SUMMARY:Tampere Vocal Music Festival
DESCRIPTION:« All Events \n\n\n\n\n \n \n\nJune 5 to June 11\, 2017\n \n \n\nYoung People’s Chorus of New York City\, under the direction of Artistic Director/Founder Francisco J. Núñez\, has been invited to represent the Americas in the renowned Songbridge program of the Tampere Vocal Music Festival.  Held under the auspices of UNESCO and endorsed by the IFCM (International Federation for  Choral Music)\, Songbridge will feature YPC and just two other youth choirs – the Indonesian Children and Youth Choir representing Asia and the Vox Aurea Children’s Choir from Jyvaskyla\, Finland\, representing Europe.  The entire Tampere Vocal Festival\, a celebration of Finland’s centenary\, will welcome over 50 choirs from around the world.  A key element of the Songbridge Gala Concert is that each of the three choirs will give the world premiere of a composition written by a composer of their choice that represents each choir’s own country and be in harmony with this year’s Songbridge theme\, “Freedom of Speech.”  YPC has commissioned composer Michael Gordon\, who will be present for the world premiere of his work “To Sing.”\n\n \n \n \n \n \n\n \n \n\n\n\n\nDate:\nJune 5 to 11\, 2017 \n\n\n\n\n\n \n\n\nVenue:\nTampere Vocal Music Festival
URL:https://old.ypc.org/event/tampere-finland/
LOCATION:Tampere Vocal Music Festival\, Tullikamarin aukio 2\, 33100\, Tampere\, Finland
CATEGORIES:Event,Performance,Public
ATTACH;FMTTYPE=image/jpeg:https://old.ypc.org/wp-content/uploads/2020/10/summer-tour.jpg
GEO:61.4984618;23.7766557
X-APPLE-STRUCTURED-LOCATION;VALUE=URI;X-ADDRESS=Tampere Vocal Music Festival Tullikamarin aukio 2 33100 Tampere Finland;X-APPLE-RADIUS=500;X-TITLE=Tullikamarin aukio 2\, 33100:geo:23.7766557,61.4984618
END:VEVENT
END:VCALENDAR