BEGIN:VCALENDAR
VERSION:2.0
PRODID:-//Young People&#039;s Chorus of NYC - ECPv6.2.9//NONSGML v1.0//EN
CALSCALE:GREGORIAN
METHOD:PUBLISH
X-ORIGINAL-URL:https://old.ypc.org
X-WR-CALDESC:Events for Young People&#039;s Chorus of NYC
REFRESH-INTERVAL;VALUE=DURATION:PT1H
X-Robots-Tag:noindex
X-PUBLISHED-TTL:PT1H
BEGIN:VTIMEZONE
TZID:UTC
BEGIN:STANDARD
TZOFFSETFROM:+0000
TZOFFSETTO:+0000
TZNAME:UTC
DTSTART:20160101T000000
END:STANDARD
END:VTIMEZONE
BEGIN:VEVENT
DTSTART;VALUE=DATE:20180428
DTEND;VALUE=DATE:20180429
DTSTAMP:20260419T214219
CREATED:20171023T225042Z
LAST-MODIFIED:20201207T181749Z
UID:6519-1524873600-1524959999@old.ypc.org
SUMMARY:Women Inspiring Tomorrow Conference 2018
DESCRIPTION:« All Events\n \n \n\nSATURDAY\, APRIL 28 at 12:30 PM\nGrand Hyatt Hotel\n \n \n\nWIT serves the young women and alumnae of the Young People’s Chorus of New York City by encouraging mentoring relationships with accomplished women from various professions as part of YPC’s College Bound Program. This year’s conference theme is Encourage and Engage\, and will include networking opportunities and a formal lunch. \nWIT Pro Tickets: $150 \nAlumnae Tickets: Free of Charge (Registration is required)\nUnderwritten by a generous donor \nWIT Table Sponsorship: $1500\n(Includes four WIT Pro tickets and underwriting of six YPC chorister tickets\, plus listing in all program materials)\n\n \n\n \n \n \n\n \n \n \n \n \n \n\n \n \nKEYNOTE SPEAKER\nLaura Schwab\nPresident\, Aston Martin the Americas \n\n \n \n \n\nBe Encouraged by the Young Professionals Perspective\nA conversation with YPC Alumnae\nBe Engaged with our WIT Pros\nPresented by the Gravitas Guru\, Raleigh Mayer\nLeave inspired after a featured interview with our Keynote Speaker\nLaura Schwab\, President\, Aston Martin the Americas\n\n \n \n \n \nDETAILS\n \n\n\nDate & Time: \nSaturday\, April 28\n12:30 – 3:00 p.m.\n\n \n\n\nVenue: \nGrand Hyatt Manhattan Ballroom\n109 E 42nd St\, New York\, NY 10017\n\n \n\n\n \n\n \n \n \n \n \nMajor support for WIT: Women Inspiring Tomorrow was provided by:
URL:https://old.ypc.org/event/women-inspiring-tomorrow-conference-2018/
LOCATION:Grand Hyatt New York\, 109 East 42nd Street\, New York\, NY\, United States
CATEGORIES:Event,Special Event
ATTACH;FMTTYPE=image/jpeg:https://old.ypc.org/wp-content/uploads/2020/10/YPC__BER1568-1.jpg
GEO:40.7520617;-73.9762995
X-APPLE-STRUCTURED-LOCATION;VALUE=URI;X-ADDRESS=Grand Hyatt New York 109 East 42nd Street New York NY United States;X-APPLE-RADIUS=500;X-TITLE=109 East 42nd Street:geo:-73.9762995,40.7520617
END:VEVENT
BEGIN:VEVENT
DTSTART;TZID=UTC:20161022T123000
DTEND;TZID=UTC:20161022T150000
DTSTAMP:20260419T214219
CREATED:20160929T200232Z
LAST-MODIFIED:20220617T193351Z
UID:2113-1477139400-1477148400@old.ypc.org
SUMMARY:Women Inspiring Tomorrow Conference 2016
DESCRIPTION:« All Events \n\n\n\n\n\n\n\nWOMEN INSPIRING TOMORROW (WIT) CONFERENCE 2016\n\n\n\n\n\n\n\nSATURDAY\, OCTOBER 22\, 12:30 P.M. \n\n\n\nAt the Third Annual WIT Conference\, high school-aged YPC choristers and young alumnae met and learned from successful women in a variety of fields over a formal lunch\, speeches\, fashion presentation by Lafayette 148 New York\, and panel discussion with special guests Honorable Gale A. Brewer and Rehema Ellis. The theme was Integrity in Politics\, Journalism\, and the Arts. \n\n\n\n \n\n\n\n\nLearn more about WIT\n\n\n\n\n\n\n\n\n\n\n\n\nSPECIAL GUESTS\n\n\n\n\n\n\n\n\n\nHONORABLE GALE A. BREWER\n\n\n\nManhattan Borough President\, City of New York \n\n\n\nGale A. Brewer is the 27th Manhattan Borough President\, responsible for advising the Mayor and City Council on borough concerns\, commenting on all land-use matters in the borough\, advocating for the borough in the municipal budget process\, and appointing members of Manhattan’s 12 Community Boards. \n\n\n\n\n\n\n\n\n\nAILYN PÉREZ\n\n\n\nOperatic Soprano \n\n\n\nHailed by the New York Times as “a beautiful woman who commands the stage” and “a major soprano\,” Ailyn Pérez is increasingly in demand at leading international venues. Recent honours include The Metropolitan Opera’s 2016 Beverly Sills Award\, the 15th annual Plácido Domingo Award\, and the 2012 Richard Tucker Award (thereby becoming the only Hispanic recipient in the award’s 35-year history). \n\n\n\n\n\n\n\n\n\nREHEMA ELLIS\n\n\n\nChief Education Correspondent\, NBC News \n\n\n\nRehema Ellis was named the chief education correspondent at NBC News in 2010. She plays an integral part of NBC News’ “Education Nation” initiative. Ellis has been part of major headliner stories\, including the attacks on the World Trade Center. She has distinguished herself as a lead correspondent and received numerous awards including local and national Emmys. \n\n\n\n\n\n\n\nVIEW EVENT PHOTOS
URL:https://old.ypc.org/event/women-inspiring-tomorrow-conference-2016/
LOCATION:Grand Hyatt New York\, 109 East 42nd Street\, New York\, NY\, United States
CATEGORIES:Event,Public,Special Event
ATTACH;FMTTYPE=image/jpeg:https://old.ypc.org/wp-content/uploads/2020/10/WIT-final-photo.jpg
GEO:40.7520617;-73.9762995
X-APPLE-STRUCTURED-LOCATION;VALUE=URI;X-ADDRESS=Grand Hyatt New York 109 East 42nd Street New York NY United States;X-APPLE-RADIUS=500;X-TITLE=109 East 42nd Street:geo:-73.9762995,40.7520617
END:VEVENT
END:VCALENDAR