BEGIN:VCALENDAR
VERSION:2.0
PRODID:-//Young People&#039;s Chorus of NYC - ECPv6.2.9//NONSGML v1.0//EN
CALSCALE:GREGORIAN
METHOD:PUBLISH
X-WR-CALNAME:Young People&#039;s Chorus of NYC
X-ORIGINAL-URL:https://old.ypc.org
X-WR-CALDESC:Events for Young People&#039;s Chorus of NYC
REFRESH-INTERVAL;VALUE=DURATION:PT1H
X-Robots-Tag:noindex
X-PUBLISHED-TTL:PT1H
BEGIN:VTIMEZONE
TZID:America/New_York
BEGIN:DAYLIGHT
TZOFFSETFROM:-0500
TZOFFSETTO:-0400
TZNAME:EDT
DTSTART:20210314T070000
END:DAYLIGHT
BEGIN:STANDARD
TZOFFSETFROM:-0400
TZOFFSETTO:-0500
TZNAME:EST
DTSTART:20211107T060000
END:STANDARD
BEGIN:DAYLIGHT
TZOFFSETFROM:-0500
TZOFFSETTO:-0400
TZNAME:EDT
DTSTART:20220313T070000
END:DAYLIGHT
BEGIN:STANDARD
TZOFFSETFROM:-0400
TZOFFSETTO:-0500
TZNAME:EST
DTSTART:20221106T060000
END:STANDARD
END:VTIMEZONE
BEGIN:VEVENT
DTSTART;VALUE=DATE:20211120
DTEND;VALUE=DATE:20220131
DTSTAMP:20260420T062731
CREATED:20211006T170407Z
LAST-MODIFIED:20220610T162620Z
UID:32908-1637366400-1643587199@old.ypc.org
SUMMARY:Alone Together – Reflections On a Year That Changed Us
DESCRIPTION:« All Events \n\n\n\n\n\n\n\nALONE TOGETHER – REFLECTIONS ON A YEAR THAT CHANGED US\n\n\n\nJanuary 7 – January 30 \n\n\n\nIn Collaboration with High Line Nine507 W 27th St\, New York\, NY 10001January 7 – January 30 \n\n\n\nConcepted and curated by Francisco J. NúñezFeaturing works by Filmmakers Ansley Sawyer and Francisco J. NúñezComposers and Songwriters:  Samuel Adler\, Derek Bermel\, Thomas Cabaniss\, Paquito D’Rivera/Alexis Romay\, Aneesa Folds\, Gordon Getty\, Michael Gordon\, Michael Harrison\, Ted Hearne\, Yuka Honda\, David Lang\, Elizabeth Núñez\, Francisco J. Núñez\, Jim Papoulis\, and Paola PrestiniConductors: Emma Hathaway\, Caitlin Henning\, Francisco J. Núñez\, Elizabeth Núñez\, Maria Pena\, Sophia Papoulis\, and Sonny WillisChoreographers: Jean Borges\, Tommy Scrivens and Megan Williams \n\n\n\nAloneTogether is a transcendent musical journey into the subconscious mind of today’s youth during a time of global turmoil and transformation. Expressed through new pieces created by 15 of the world’s leading composers and emerging songwriters\, AloneTogether takes an innovative\, experimental approach toward understanding and expressing the hearts and minds of children through the course of the pandemic.  For the first time\, YPC enthusiasts will see choristers perform these works in new mediums\, including video\, art\, and film\, in addition to live performances.  \n\n\n\nAloneTogether comprises spoken word\, poetry\, sculpture\, video art\, music\, and film and features 500 YPC choristers\, 15 composers and emerging songwriters\, seven poets\, three choreographers\, and two filmmakers. Filmmaker Ansley Sawyer brings the choristers’ stories to life through film\, with newly commissioned works by composers Samuel Adler\, Derek Bermel\, Thomas Cabaniss\, Paquito D’Rivera\, Aneesa Folds\, Michael Gordon\, Michael Harrison\, Ted Hearne\, Yuka C. Honda\, David Lang\, Elizabeth Núñez\, Francisco J. Núñez\, Jim Papoulis\, and Paola Prestini. Additional films by Francisco J. Núñez and a work by YPC’s Composer-In-Residence\, Gordon Getty\, round out the exhibition. The installation is the culmination of YPC’s newest commissioning initiative. \n\n\n\nAloneTogether is a free exhibit and is open for viewing from January 7 through January 30\, Friday – Sunday from 12pm – 6pm.  Private viewings throughout the week must be made via appointment. Contact Courtenay Casey at ccasey@ypc.org to schedule your special viewing of AloneTogether. \n\n\n\n*Visitors aged 12 and up must be fully vaccinated against Covid-19 and show proof of vaccination upon entry. Masks are required at all times. \n\n\n\n\nLearn More\n\n\n\n\n\n\n\n\n\n\n\n\nDETAILS\n\n\n\nDate: \n\n\n\nJanuary 7\, 2022 – January 30\, 2022 \n\n\n\nTime: \n\n\n\nFriday – Sunday from 12pm – 6pm \n\n\n\nLocation: \n\n\n\nHigh Line Nine \n\n\n\n507 W 27th St \n\n\n\nNew York\, NY 10001
URL:https://old.ypc.org/event/alone-together-reflections-on-a-year-that-changed-us/
LOCATION:High Line Nine\, 507 W 27th St\, New York\, NY\, 10001\, United States
CATEGORIES:Public
ATTACH;FMTTYPE=image/png:https://old.ypc.org/wp-content/uploads/2021/10/350x355.png
GEO:40.750573;-74.0028726
X-APPLE-STRUCTURED-LOCATION;VALUE=URI;X-ADDRESS=High Line Nine 507 W 27th St New York NY 10001 United States;X-APPLE-RADIUS=500;X-TITLE=507 W 27th St:geo:-74.0028726,40.750573
END:VEVENT
BEGIN:VEVENT
DTSTART;TZID=America/New_York:20211211T190000
DTEND;TZID=America/New_York:20211211T220000
DTSTAMP:20260420T062731
CREATED:20211111T175631Z
LAST-MODIFIED:20230127T195910Z
UID:34711-1639249200-1639260000@old.ypc.org
SUMMARY:A Very Merry New York
DESCRIPTION:« All Events \n\n\n\n\n\n\n\nA VERY MERRY NEW YORK\n\n\n\nDecember 11\, 2021 \n\n\n\nThe Young People’s Chorus of New York City returned to the holiday stage! And this year\, you could experience the winter magic as it was meant to be felt – live and in the theater.  \n\n\n\nUnder the direction of YPC Artistic Director Francisco J. Núñez and Associate Artistic Director Elizabeth Núñez A Very Merry New York was a music-filled holiday extravaganza that spotlighted nearly 600 choristers of the Young People’s Chorus as they brought the city holiday spirit to life through singing\, dancing\, and storytelling.  \n\n\n\nWith a story by Tony Award-winning Broadway lyricist Lynn Ahrens and a guest appearance by renowned baritone Lester Lynch\, this was the family event that was sure to be the centerpiece of a joyous holiday season.  \n\n\n\n\nBuy Tickets\n\n\n\n\n\n\n\n\nDETAILS\n\n\n\nDate: \n\n\n\nDecember 11\, 2021 \n\n\n\nTime: \n\n\n\n7:00pm EST \n\n\n\nLocation: \n\n\n\nUnited Palace \n\n\n\n4140 Broadway at West 175th Street \n\n\n\nNew York City
URL:https://old.ypc.org/event/a-very-merry-new-york/
LOCATION:United Palace\, 4140 Broadway\, New York\, NY\, 10033\, United States
CATEGORIES:Public
ATTACH;FMTTYPE=image/jpeg:https://old.ypc.org/wp-content/uploads/2021/11/350x355.jpg
GEO:40.8465512;-73.9379109
X-APPLE-STRUCTURED-LOCATION;VALUE=URI;X-ADDRESS=United Palace 4140 Broadway New York NY 10033 United States;X-APPLE-RADIUS=500;X-TITLE=4140 Broadway:geo:-73.9379109,40.8465512
END:VEVENT
END:VCALENDAR