BEGIN:VCALENDAR
VERSION:2.0
PRODID:-//Young People&#039;s Chorus of NYC - ECPv6.2.9//NONSGML v1.0//EN
CALSCALE:GREGORIAN
METHOD:PUBLISH
X-WR-CALNAME:Young People&#039;s Chorus of NYC
X-ORIGINAL-URL:https://old.ypc.org
X-WR-CALDESC:Events for Young People&#039;s Chorus of NYC
REFRESH-INTERVAL;VALUE=DURATION:PT1H
X-Robots-Tag:noindex
X-PUBLISHED-TTL:PT1H
BEGIN:VTIMEZONE
TZID:UTC
BEGIN:STANDARD
TZOFFSETFROM:+0000
TZOFFSETTO:+0000
TZNAME:UTC
DTSTART:20170101T000000
END:STANDARD
END:VTIMEZONE
BEGIN:VEVENT
DTSTART;VALUE=DATE:20171020
DTEND;VALUE=DATE:20171022
DTSTAMP:20260422T135007
CREATED:20170627T223744Z
LAST-MODIFIED:20210223T193515Z
UID:3768-1508457600-1508630399@old.ypc.org
SUMMARY:White Light Festival - Dancing Voices
DESCRIPTION:« All Events \n\n\n\n\n \n \n\nFriday\, October 20 at 7:30 p.m.\nSaturday\, October 21 at 3:00 p.m.\nSaturday\, October 21 at 7:30 p.m.\n \n \n\nIconoclastic composer and performer Meredith Monk looks to the future through an intergenerational production with the Young People’s Chorus of New York City. The “body sings and the voice dances” in this program that captures the kinetic energy and pioneering philosophy of Monk’s six-decade exploration of the human voice as an instrument\, transmitted and luminously present in this U.S. premiere of her multidimensional\, multiperceptual work. \nTickets are available here. \nFor ticketing information and general questions\, please call 212-721-6500.\n\n \n\n\n \n \n \n \nLincoln Center Behind the Scenes\n“The Composer” (Episode One)\n \n \n \n“The Performers” (Episode Two)\n \n \n \n \n \n“The Artistic Director” (Episode Three)\n \n \n \n“Dress Rehearsal” (Episode Four)\n \n \n \n\n \n \n\n\n\n\nDate & Time: \nFriday\, October 20 at 7:30 p.m.\nSaturday\, October 21 at 3:00 p.m.\nSaturday\, October 21 at 7:30 p.m. \n\n\n\n\n\n\n \n\n\nVenue: \nGerald W. Lynch Theater at John Jay College\n524 W 59th St\, New York\, NY 10019\nTickets:\nOnline\nBy Phone: 212-721-6500
URL:https://old.ypc.org/event/white-light-festival-dancing-voices/
LOCATION:Gerald W. Lynch Theater at John Jay College\, 524 West 59th Street\, New York\, NY\, 10019\, United States
CATEGORIES:Event,Performance
ATTACH;FMTTYPE=image/jpeg:https://old.ypc.org/wp-content/uploads/2020/10/white-light.jpg
GEO:40.7707237;-73.9892342
X-APPLE-STRUCTURED-LOCATION;VALUE=URI;X-ADDRESS=Gerald W. Lynch Theater at John Jay College 524 West 59th Street New York NY 10019 United States;X-APPLE-RADIUS=500;X-TITLE=524 West 59th Street:geo:-73.9892342,40.7707237
END:VEVENT
END:VCALENDAR