BEGIN:VCALENDAR
VERSION:2.0
PRODID:-//Young People&#039;s Chorus of NYC - ECPv6.2.9//NONSGML v1.0//EN
CALSCALE:GREGORIAN
METHOD:PUBLISH
X-WR-CALNAME:Young People&#039;s Chorus of NYC
X-ORIGINAL-URL:https://old.ypc.org
X-WR-CALDESC:Events for Young People&#039;s Chorus of NYC
REFRESH-INTERVAL;VALUE=DURATION:PT1H
X-Robots-Tag:noindex
X-PUBLISHED-TTL:PT1H
BEGIN:VTIMEZONE
TZID:America/New_York
BEGIN:DAYLIGHT
TZOFFSETFROM:-0500
TZOFFSETTO:-0400
TZNAME:EDT
DTSTART:20220313T070000
END:DAYLIGHT
BEGIN:STANDARD
TZOFFSETFROM:-0400
TZOFFSETTO:-0500
TZNAME:EST
DTSTART:20221106T060000
END:STANDARD
END:VTIMEZONE
BEGIN:VEVENT
DTSTART;VALUE=DATE:20220715
DTEND;VALUE=DATE:20220728
DTSTAMP:20260422T182850
CREATED:20220605T163503Z
LAST-MODIFIED:20220628T150952Z
UID:39662-1657843200-1658966399@old.ypc.org
SUMMARY:YPC at Festival Napa Valley
DESCRIPTION:« All Events \n\n\n\n\n\n\nYPC AT FESTIVAL NAPA VALLEY\n\n\n\nJULY 15 – JULY 24\, 2022 \n\n\n\nThe Young People’s Chorus of New York City will return to the Festival Napa Valley stage for three spectacular performances. \n\n\n\nOn Thursday\, July 14\, YPC will perform a concert for families and children at Festival Live! at the CIA at Copia at 11:00 am. On Saturday\, July 16\, 6:30pm\, YPC will perform the world premiere of ‘Polaris’ by Nia Imani Franklin\, along with Gordon Getty’s ‘Young America’. Lester Lynch\, the renowned baritone\, will also reunite with YPC for a selection of hymns and spirituals. Finally\, on Sunday\, July 17\, YPC will perform as part of the Arts for All Gala with Trisha Yearwood at Nickel & Nickel. \n\n\n\nThe 2022 season of Festival Napa Valley will feature a variety of renowned artists and emerging talent of many genres. Encouraging inclusiveness\, diversity\, and innovation and leveraging music’s unparalleled ability to bring people together and provide a sense of belonging\, Festival Napa Valley plays a vital role in building a healthy\, vibrant community. \n\n\n\nFor more information about Festival Napa Valley and to purchase tickets\, please visit their website. \n\n\n\n\n\n\n\n\n\nDETAILS\n\n\n\nDate: \n\n\n\nJuly 15th – July 24th\, 2022 \n\n\n\nLocation: \n\n\n\nNapa\, CA\, 94581
URL:https://old.ypc.org/event/ypc-at-festival-napa-valley/
LOCATION:Festival Napa Valley\, Napa\, CA\, 95481\, United States
CATEGORIES:Public
ATTACH;FMTTYPE=image/jpeg:https://old.ypc.org/wp-content/uploads/2022/03/FestivalNapaValley.jpg
GEO:39.1331805;-123.1663077
END:VEVENT
BEGIN:VEVENT
DTSTART;VALUE=DATE:20220719
DTEND;VALUE=DATE:20220726
DTSTAMP:20260422T182850
CREATED:20220607T151403Z
LAST-MODIFIED:20220613T145440Z
UID:45056-1658188800-1658793599@old.ypc.org
SUMMARY:YPC National Studio at The Music Academy Of The West
DESCRIPTION:« All Events \n\n\n\n\nYPC NATIONAL STUDIO\nJULY 19TH – JULY 25TH\, 2022 \n\n\n\n \nAn immersive week of conducting\, singing\, score study\, and conversation\, in residence at the Music Academy of the West – among the nation’s preeminent institutions for gifted young musicians.\n \n\n\nTrain with renowned conductor Francisco J. Núñez\, Founder and Artistic Director of the Young People’s Chorus of New York City\, and the YPC team of master teachers\nLearn new repertoire for choirs of all ages\, voicings\, and levels of experience\nRefine conducting gestures\, score analysis\, and vocal techniques\nExplore innovative ideas for recruitment and retention\nParticipate in discussions surrounding the 21st century youth choir\n\nFor more information or how to register\, contact NationalLab@ypc.org. \n\n\nDETAILS\nDate: \nJuly 19th – July 25th\, 2022 \n\n\nLocation: \n\nMusic Academy of the West \nSanta Barbara\, CA
URL:https://old.ypc.org/event/ypc-national-studio/
LOCATION:Santa Barbara\, CA
CATEGORIES:Public
ATTACH;FMTTYPE=image/png:https://old.ypc.org/wp-content/uploads/2022/06/studiofeaturedimageArtboard.png
END:VEVENT
BEGIN:VEVENT
DTSTART;TZID=America/New_York:20220719T000000
DTEND;TZID=America/New_York:20220725T235959
DTSTAMP:20260422T182850
CREATED:20220626T144351Z
LAST-MODIFIED:20220627T155750Z
UID:47785-1658188800-1658793599@old.ypc.org
SUMMARY:YPC National Lab at Music Academy of the West
DESCRIPTION:« All Events \n\n\n\n\nYPC NATIONAL LAB\nJULY 19TH – JULY 25TH\, 2022 \n  \n\n\n\n\nYPC National\, the national choral organization inspired by the Young People’s Chorus of New York City\, is proud to collaborate with Music Academy of the West to provide this week-long artistic experience in a beautiful\, artistic\, and inspiring setting.\n \n\n\n\n\nYPC National Lab is open to individual singers and established choirs\, ages 12-18.\n \nSeven days and six nights nested oceanside at the renowned Music Academy of the West – among the nation’s preeminent institutions for gifted young musicians.\n\n\nTrain with renowned conductor Francisco J. Núñez\, Founder and Artistic Director of the Young People’s Chorus of New York City\, and the YPC team of master teachers\nMeet and sing with other young people from around the country\nLearn fun and challenging new repertoire\, and perform a concert\, including singing the World Premiere of a new work\nWelcome BBQ\, swimming\, movie nights\, dancing\, and more!\nEnjoy the experience of living on a college campus for a full week\n\nFor more information or how to register\, contact NationalLab@ypc.org. \n\n\n\n\n\n\nDETAILS\nDate: \nJuly 19th – July 25th\, 2022 \n\n\nLocation: \n\nMusic Academy of the West \nSanta Barbara\, CA
URL:https://old.ypc.org/event/ypc-national-lab/
LOCATION:Santa Barbara\, CA
CATEGORIES:Public
ATTACH;FMTTYPE=image/png:https://old.ypc.org/wp-content/uploads/2022/06/LabDraftArtboard-3.png
END:VEVENT
END:VCALENDAR