BEGIN:VCALENDAR
VERSION:2.0
PRODID:-//Young People&#039;s Chorus of NYC - ECPv6.2.9//NONSGML v1.0//EN
CALSCALE:GREGORIAN
METHOD:PUBLISH
X-WR-CALNAME:Young People&#039;s Chorus of NYC
X-ORIGINAL-URL:https://old.ypc.org
X-WR-CALDESC:Events for Young People&#039;s Chorus of NYC
REFRESH-INTERVAL;VALUE=DURATION:PT1H
X-Robots-Tag:noindex
X-PUBLISHED-TTL:PT1H
BEGIN:VTIMEZONE
TZID:America/New_York
BEGIN:DAYLIGHT
TZOFFSETFROM:-0500
TZOFFSETTO:-0400
TZNAME:EDT
DTSTART:20220313T070000
END:DAYLIGHT
BEGIN:STANDARD
TZOFFSETFROM:-0400
TZOFFSETTO:-0500
TZNAME:EST
DTSTART:20221106T060000
END:STANDARD
END:VTIMEZONE
BEGIN:VEVENT
DTSTART;VALUE=DATE:20220715
DTEND;VALUE=DATE:20220728
DTSTAMP:20260422T193045
CREATED:20220605T163503Z
LAST-MODIFIED:20220628T150952Z
UID:39662-1657843200-1658966399@old.ypc.org
SUMMARY:YPC at Festival Napa Valley
DESCRIPTION:« All Events \n\n\n\n\n\n\nYPC AT FESTIVAL NAPA VALLEY\n\n\n\nJULY 15 – JULY 24\, 2022 \n\n\n\nThe Young People’s Chorus of New York City will return to the Festival Napa Valley stage for three spectacular performances. \n\n\n\nOn Thursday\, July 14\, YPC will perform a concert for families and children at Festival Live! at the CIA at Copia at 11:00 am. On Saturday\, July 16\, 6:30pm\, YPC will perform the world premiere of ‘Polaris’ by Nia Imani Franklin\, along with Gordon Getty’s ‘Young America’. Lester Lynch\, the renowned baritone\, will also reunite with YPC for a selection of hymns and spirituals. Finally\, on Sunday\, July 17\, YPC will perform as part of the Arts for All Gala with Trisha Yearwood at Nickel & Nickel. \n\n\n\nThe 2022 season of Festival Napa Valley will feature a variety of renowned artists and emerging talent of many genres. Encouraging inclusiveness\, diversity\, and innovation and leveraging music’s unparalleled ability to bring people together and provide a sense of belonging\, Festival Napa Valley plays a vital role in building a healthy\, vibrant community. \n\n\n\nFor more information about Festival Napa Valley and to purchase tickets\, please visit their website. \n\n\n\n\n\n\n\n\n\nDETAILS\n\n\n\nDate: \n\n\n\nJuly 15th – July 24th\, 2022 \n\n\n\nLocation: \n\n\n\nNapa\, CA\, 94581
URL:https://old.ypc.org/event/ypc-at-festival-napa-valley/
LOCATION:Festival Napa Valley\, Napa\, CA\, 95481\, United States
CATEGORIES:Public
ATTACH;FMTTYPE=image/jpeg:https://old.ypc.org/wp-content/uploads/2022/03/FestivalNapaValley.jpg
GEO:39.1331805;-123.1663077
END:VEVENT
END:VCALENDAR