BEGIN:VCALENDAR
VERSION:2.0
PRODID:-//Young People&#039;s Chorus of NYC - ECPv6.2.9//NONSGML v1.0//EN
CALSCALE:GREGORIAN
METHOD:PUBLISH
X-ORIGINAL-URL:https://old.ypc.org
X-WR-CALDESC:Events for Young People&#039;s Chorus of NYC
REFRESH-INTERVAL;VALUE=DURATION:PT1H
X-Robots-Tag:noindex
X-PUBLISHED-TTL:PT1H
BEGIN:VTIMEZONE
TZID:America/New_York
BEGIN:DAYLIGHT
TZOFFSETFROM:-0500
TZOFFSETTO:-0400
TZNAME:EDT
DTSTART:20220313T070000
END:DAYLIGHT
BEGIN:STANDARD
TZOFFSETFROM:-0400
TZOFFSETTO:-0500
TZNAME:EST
DTSTART:20221106T060000
END:STANDARD
END:VTIMEZONE
BEGIN:VEVENT
DTSTART;TZID=America/New_York:20220614T080000
DTEND;TZID=America/New_York:20220614T170000
DTSTAMP:20260422T181921
CREATED:20220614T135757Z
LAST-MODIFIED:20220614T194222Z
UID:46365-1655193600-1655226000@old.ypc.org
SUMMARY:MASTER CLASS WITH ANTHONY ROTH CONSTANZO
DESCRIPTION:« All Events \n\n\n\nMASTER CLASS WITH ANTHONY ROTH CONSTANZO\n\n\n\nJUNE 14\, 2022PRIVATE EVENT \n\n\n\nPRIVATE EVENTThe Young People’s Chorus of New York City\, Founder/Artistic Director/MacArthur Fellow Francisco J. Núñez\, Creative Director Elizabeth Núñez\, and YPC Vocal Area Coordinator Sarah Knight present an intimate Master Class by celebrated countertenor Anthony Roth Costanzo. Mr. Costanzo is currently reprising the title role of Akhnaten at the Metropolitan Opera and will share his expertise for this once-in-a-lifetime evening. Selected YPC choristers aspiring to careers in music will each sing an aria for Mr. Roth Costanzo’s comments. Based on his years of thrilling audiences throughout the world\, he will inspire the singers with suggestions on technique\, musicality\, rapport with the audience\, and perhaps share one or two secrets on how he transforms each aria into a breathtaking song of beauty. \n\n\n\n\n\n\n\n\n\nDETAILS\n\n\n\nDate: Tuesday\, June 14\, 2022 \n\n\n\nTime: 5:30 p.m. \n\n\n\nLocation: Sculpture Court of The National Arts Club
URL:https://old.ypc.org/event/master-class-with-anthony-roth-constanzo/
CATEGORIES:Public
ATTACH;FMTTYPE=image/png:https://old.ypc.org/wp-content/uploads/2022/06/anthonyrothcostanzosquare-300x300-1.png
END:VEVENT
END:VCALENDAR