BEGIN:VCALENDAR
VERSION:2.0
PRODID:-//Young People&#039;s Chorus of NYC - ECPv6.2.9//NONSGML v1.0//EN
CALSCALE:GREGORIAN
METHOD:PUBLISH
X-ORIGINAL-URL:https://old.ypc.org
X-WR-CALDESC:Events for Young People&#039;s Chorus of NYC
REFRESH-INTERVAL;VALUE=DURATION:PT1H
X-Robots-Tag:noindex
X-PUBLISHED-TTL:PT1H
BEGIN:VTIMEZONE
TZID:America/New_York
BEGIN:DAYLIGHT
TZOFFSETFROM:-0500
TZOFFSETTO:-0400
TZNAME:EDT
DTSTART:20220313T070000
END:DAYLIGHT
BEGIN:STANDARD
TZOFFSETFROM:-0400
TZOFFSETTO:-0500
TZNAME:EST
DTSTART:20221106T060000
END:STANDARD
END:VTIMEZONE
BEGIN:VEVENT
DTSTART;TZID=America/New_York:20220605T150000
DTEND;TZID=America/New_York:20220605T150000
DTSTAMP:20260422T225050
CREATED:20220311T211931Z
LAST-MODIFIED:20220610T144944Z
UID:39394-1654441200-1654441200@old.ypc.org
SUMMARY:YPC's Annual Spring Concert
DESCRIPTION:« All Events \n\n\n\n\n\n\n\n\n\n\nRAISING VOICES: SPRING IN THE CITY\n\nJUNE 5TH\, 2022 \n\n\n\n\n\n\nJoin us as we celebrate the joy of Spring in New York City with music and dance on Sunday\, June 5th at United Palace. \nRaising Voices: Spring in the City will feature all of our young artists performing a diverse array of musical numbers\, from Broadway favorites to classical choral pieces. \nAll of YPC’s Performance and Community choruses will be highlighted in a spectacular show. Bring the whole family. \n\nPurchase tickets here. \n  \n\n\n\nDETAILS\nDate: \nJune 5th at 3:00pm \nLocation: \n\nThe United Palace \n4140 Broadway \nNew York\, NY\, 10033 \n 
URL:https://old.ypc.org/event/ypcs-annual-spring-concert/
LOCATION:United Palace\, 4140 Broadway\, New York\, NY\, 10033\, United States
CATEGORIES:Public
ATTACH;FMTTYPE=image/jpeg:https://old.ypc.org/wp-content/uploads/2022/03/1-3-300x300-1.jpg
GEO:40.8465512;-73.9379109
X-APPLE-STRUCTURED-LOCATION;VALUE=URI;X-ADDRESS=United Palace 4140 Broadway New York NY 10033 United States;X-APPLE-RADIUS=500;X-TITLE=4140 Broadway:geo:-73.9379109,40.8465512
END:VEVENT
END:VCALENDAR