BEGIN:VCALENDAR
VERSION:2.0
PRODID:-//Young People&#039;s Chorus of NYC - ECPv6.2.9//NONSGML v1.0//EN
CALSCALE:GREGORIAN
METHOD:PUBLISH
X-WR-CALNAME:Young People&#039;s Chorus of NYC
X-ORIGINAL-URL:https://old.ypc.org
X-WR-CALDESC:Events for Young People&#039;s Chorus of NYC
REFRESH-INTERVAL;VALUE=DURATION:PT1H
X-Robots-Tag:noindex
X-PUBLISHED-TTL:PT1H
BEGIN:VTIMEZONE
TZID:America/New_York
BEGIN:DAYLIGHT
TZOFFSETFROM:-0500
TZOFFSETTO:-0400
TZNAME:EDT
DTSTART:20210314T070000
END:DAYLIGHT
BEGIN:STANDARD
TZOFFSETFROM:-0400
TZOFFSETTO:-0500
TZNAME:EST
DTSTART:20211107T060000
END:STANDARD
END:VTIMEZONE
BEGIN:VEVENT
DTSTART;VALUE=DATE:20210406
DTEND;VALUE=DATE:20210907
DTSTAMP:20260425T162937
CREATED:20210512T190603Z
LAST-MODIFIED:20220615T184259Z
UID:27447-1617667200-1630972799@old.ypc.org
SUMMARY:Ellen Reid's SOUNDWALK | Wolf Trap
DESCRIPTION:« All Events \n\n\n\n\n\n\n\nELLEN REID SOUNDWALK | WOLF TRAP\n\n\n\nApril 6\, 2021 – September 6\, 2021 \n\n\n\n\n\n\n\nSOCIALLY-DISTANCED SOUND ART AT WOLF TRAP\n\n\n\nEllen Reid SOUNDWALK is a GPS-enabled work of free public art that uses music to illuminate the natural environment. Created by Pulitzer Prize-winning composer Ellen Reid\, SOUNDWALK is tailor-made for Wolf Trap National Park for the Performing Arts\, created to encourage calm reflection and introspection\, and can be experienced while following social distancing guidelines. \n\n\n\nThe expansive score for Ellen Reid SOUNDWALK features music performed by the Young People’s Chorus of New York City\, Francisco J. Núñez\, Founder / Artistic Director. \n\n\n\n\n\n\n\n\n\n\nLearn More\n\n\n\nLearn More\n\n\n\n\n\n\n\n\n\n\n\n\nDETAILS\n\n\n\n\n\n\n\nDate: \n\n\n\nApril 6 – September 6\, 2021 \n\n\n\n\n\nLocation: \n\n\n\nWolf Trap National Park for the Performing Arts
URL:https://old.ypc.org/event/ellen-reid-soundwalk-wolf-trap/
LOCATION:VIDEO 1
CATEGORIES:Public
ATTACH;FMTTYPE=image/jpeg:https://old.ypc.org/wp-content/uploads/2020/10/Soundwalk1.jpg
END:VEVENT
BEGIN:VEVENT
DTSTART;TZID=America/New_York:20210611T190000
DTEND;TZID=America/New_York:20210611T200000
DTSTAMP:20260425T162937
CREATED:20210604T183735Z
LAST-MODIFIED:20220610T024614Z
UID:27977-1623438000-1623441600@old.ypc.org
SUMMARY:Hello Singers–The Big Sing
DESCRIPTION:« All Events \n\n\n\n\n\n\n\nHELLO SINGERS–THE BIG SING\n\n\n\nFriday\, June 11 at 7:00 p.m. EDT \n\n\n\n\n\n\n\nJoin the Young People’s Chorus of New York City for the release of YPC’s Hello Singers–The Big Sing\, the virtual year-end finale of our in-school music program. This YouTube premiere sing-along concert features songs such as “Pure Imagination\,” “I Wish I Knew How It Would Feel To Be Free\,” and “La Sopa De Isabel\,” plus YPC’s conductors and a live band\, using 360-degree technology. The concert provides an immersive way for YPC’s school program to engage with musicians as if it were a live event. Tune into YPC.org on June 11 at 7:00 p.m. ET to participate in this at-home concert experience! \n\n\n\nFeaturing: \n\n\n\nFrancisco J. Núñez\, Founder and Artistic Director \n\n\n\nElizabeth Núñez\, Associate Artistic Director \n\n\n\nSophia Papoulis\, Associate Conductor \n\n\n\nMaria Peña\, Assistant Conductor \n\n\n\nCaitlin Henning\, Assistant Conductor \n\n\n\nSonny Willis\, Assistant Conductor \n\n\n\nEmma Hathaway\, Assistant Conductor \n\n\n\n\n\n\n\n\n\nAbout Hello Singers\n\n\n\nIn 2020\, YPC pivoted to virtual programming with the launch of “Hello Singers\,” a series of  pre-recorded virtual lessons that expanded the reach of YPC’s school choruses to include the entire student body. Under the direction of Elizabeth Núñez\, YPC’s Associate Artistic Director\, this hybrid model has been distributed to schools across New York City\, with the option for live\, online synchronous sessions with a YPC conductor and accompanist. The culmination of this new curriculum\, Hello Singers–The Big Sing is a virtual event for all participating chorus members\, their families\, and the wider YPC community. \n\n\n\n\n\n\n\n\n\n\n\nDETAILS\n\n\n\n\n\nDate: \n\n\n\nJune 11\, 2021 \n\n\n\nTime: \n\n\n\n7:00 – 7:45 p.m. EDT \n\n\n\n\n\nLocation: \n\n\n\nWatch on YPC.org or YouTube
URL:https://old.ypc.org/event/hello-singers-the-big-sing/
LOCATION:VIDEO 1
CATEGORIES:Public
ATTACH;FMTTYPE=image/jpeg:https://old.ypc.org/wp-content/uploads/2021/06/hello-singer-big-sing-e1622831521332.jpg
END:VEVENT
END:VCALENDAR