BEGIN:VCALENDAR
VERSION:2.0
PRODID:-//Young People&#039;s Chorus of NYC - ECPv6.2.9//NONSGML v1.0//EN
CALSCALE:GREGORIAN
METHOD:PUBLISH
X-WR-CALNAME:Young People&#039;s Chorus of NYC
X-ORIGINAL-URL:https://old.ypc.org
X-WR-CALDESC:Events for Young People&#039;s Chorus of NYC
REFRESH-INTERVAL;VALUE=DURATION:PT1H
X-Robots-Tag:noindex
X-PUBLISHED-TTL:PT1H
BEGIN:VTIMEZONE
TZID:America/New_York
BEGIN:DAYLIGHT
TZOFFSETFROM:-0500
TZOFFSETTO:-0400
TZNAME:EDT
DTSTART:20220313T070000
END:DAYLIGHT
BEGIN:STANDARD
TZOFFSETFROM:-0400
TZOFFSETTO:-0500
TZNAME:EST
DTSTART:20221106T060000
END:STANDARD
END:VTIMEZONE
BEGIN:VEVENT
DTSTART;TZID=America/New_York:20220509T190000
DTEND;TZID=America/New_York:20220509T190000
DTSTAMP:20260422T214543
CREATED:20220307T202756Z
LAST-MODIFIED:20220610T152446Z
UID:39161-1652122800-1652122800@old.ypc.org
SUMMARY:YPC's Annual Gala Benefit Concert
DESCRIPTION:  \n\n\n\n\n« All Events \n\n\n\n\nMAY 9TH\, 20227:00 PM ET \n\n\n\n\n \nDETAILS\nDate: \nMonday\, May 9th\, 2022 \nTime: \n7:00 pm \nLocation: \n\nJazz at Lincoln Center’s Frederick P. Rose Hall Broadway at 60th Street
URL:https://old.ypc.org/event/ypcs-annual-gala-2022/
LOCATION:Jazz at Lincoln Center’s Frederick P. Rose Hall\, Broadway at 60th Street\, New York\, NY\, 10023\, United States
CATEGORIES:Public
ATTACH;FMTTYPE=image/jpeg:https://old.ypc.org/wp-content/uploads/2022/03/galasquareevemt.jpg
GEO:40.7689403;-73.9822078
X-APPLE-STRUCTURED-LOCATION;VALUE=URI;X-ADDRESS=Jazz at Lincoln Center’s Frederick P. Rose Hall Broadway at 60th Street New York NY 10023 United States;X-APPLE-RADIUS=500;X-TITLE=Broadway at 60th Street:geo:-73.9822078,40.7689403
END:VEVENT
BEGIN:VEVENT
DTSTART;TZID=America/New_York:20220514T130000
DTEND;TZID=America/New_York:20220514T150000
DTSTAMP:20260422T214543
CREATED:20220308T210541Z
LAST-MODIFIED:20220711T164319Z
UID:39265-1652533200-1652540400@old.ypc.org
SUMMARY:Japan Parade
DESCRIPTION:« All Events \n\n\n\n\n\n\n\n\n\nYPC AT JAPAN PARADE\n\n\n\nMAY 14TH\, 20221:00 – 3:00 PM ET \n\n\n\nMembers of the Young People’s Chorus of New York City are delighted to perform as part of the beloved 14th Annual Japan Parade\, a family-friendly event curated by the Japanese community of New York to promote a deeper understanding of Japanese culture.  \n\n\n\nThe parade route will run South along Central Park West from 81st street to 68th street\, and will culminate in Central Park for a celebration of Japanese culture; complete with free samplings of popular Japanese cuisine and performances throughout the day. \n\n\n\n\n\n\n\n\n\n\n\n\n\n\n\nDETAILS\n\n\n\nDate: \n\n\n\nSaturday\, May 14th\, 2022 \n\n\n\nTime: \n\n\n\n1:00 – 3:00 pm \n\n\n\nLocation: \n\n\n\nThe parade route goes South on Central Park West from 68th to 81st street
URL:https://old.ypc.org/event/japan-parade/
CATEGORIES:Public
ATTACH;FMTTYPE=image/jpeg:https://old.ypc.org/wp-content/uploads/2022/03/japanday2.jpg
END:VEVENT
BEGIN:VEVENT
DTSTART;VALUE=DATE:20220517
DTEND;VALUE=DATE:20220523
DTSTAMP:20260422T214543
CREATED:20220308T175235Z
LAST-MODIFIED:20220610T145718Z
UID:39142-1652745600-1653263999@old.ypc.org
SUMMARY:Stephen Petronio Dance Company
DESCRIPTION:« All Events \n\n\n\n\n\n\n\nYPC WITH THE STEPHEN PETRONIO DANCE COMPANY\n\n\n\nMAY 17TH – MAY 22ND\, 2022 \n\n\n\n\n\nThe Young People’s Chorus of New York City is thrilled to join the Stephen Petronio Dance Company on stage for their 2022 season at the Joyce Theater. YPC will perform “Bridge Over Troubled Water” and “Balm in Gilead” in collaboration with Brooklyn-based performance artist and composer Monstah Black for the world premiere of New New Prayer For Now. Initially conceived as a moving meditation during the Covid-19 lockdown\, this bold and visceral dialogue between bodies\, space and the viewer’s eye is a call for connection and hope. \n\n\n\nYPC will also perform compositions based on the poetry of Walt Whitman and Emily Dickinson for a re-staging of Petronio’s Bloom (2006)\, the joyful and iconic collaboration with Rufus Wainwright. \n\n\n\nTickets start at $10. For more information and to purchase tickets\, please visit The Joyce Theater’s website. \n\n\n\n\n\n\n\n\n\n\n\nDETAILS\n\n\n\nDate: \n\n\n\nMay 17 & May 18 at 7:30pmMay 19 – 21 at 8pmMay 22 at 2pm \n\n\n\nCurtain Chat: Wed\, May 18 \n\n\n\nTime: \n\n\n\nPerformance times vary\, see above for details \n\n\n\nLocation: \n\n\n\nThe Joyce Theater175 Eighth AvenueNew York\, NY\, 10011
URL:https://old.ypc.org/event/ypc-with-the-stephen-petronio-dance-company-at-the-joyce-theater/
LOCATION:The Joyce Theater\, 175 Eighth Avenue\, New York\, NY\, 10011\, United States
CATEGORIES:Public
ATTACH;FMTTYPE=image/jpeg:https://old.ypc.org/wp-content/uploads/2022/03/New-Prayer-For-Now-by-Stephen-Petronio.-Video-still-by-John-Fitzgerald.-Dancers-L-to-R-Ryan-Pliss-Nicholas-Sciscione-Mac-Twining-1-1.jpg
GEO:40.7428216;-74.0007046
X-APPLE-STRUCTURED-LOCATION;VALUE=URI;X-ADDRESS=The Joyce Theater 175 Eighth Avenue New York NY 10011 United States;X-APPLE-RADIUS=500;X-TITLE=175 Eighth Avenue:geo:-74.0007046,40.7428216
END:VEVENT
END:VCALENDAR