BEGIN:VCALENDAR
VERSION:2.0
PRODID:-//Young People&#039;s Chorus of NYC - ECPv6.2.9//NONSGML v1.0//EN
CALSCALE:GREGORIAN
METHOD:PUBLISH
X-WR-CALNAME:Young People&#039;s Chorus of NYC
X-ORIGINAL-URL:https://old.ypc.org
X-WR-CALDESC:Events for Young People&#039;s Chorus of NYC
REFRESH-INTERVAL;VALUE=DURATION:PT1H
X-Robots-Tag:noindex
X-PUBLISHED-TTL:PT1H
BEGIN:VTIMEZONE
TZID:America/New_York
BEGIN:DAYLIGHT
TZOFFSETFROM:-0500
TZOFFSETTO:-0400
TZNAME:EDT
DTSTART:20210314T070000
END:DAYLIGHT
BEGIN:STANDARD
TZOFFSETFROM:-0400
TZOFFSETTO:-0500
TZNAME:EST
DTSTART:20211107T060000
END:STANDARD
BEGIN:DAYLIGHT
TZOFFSETFROM:-0500
TZOFFSETTO:-0400
TZNAME:EDT
DTSTART:20220313T070000
END:DAYLIGHT
BEGIN:STANDARD
TZOFFSETFROM:-0400
TZOFFSETTO:-0500
TZNAME:EST
DTSTART:20221106T060000
END:STANDARD
END:VTIMEZONE
BEGIN:VEVENT
DTSTART;VALUE=DATE:20211120
DTEND;VALUE=DATE:20220131
DTSTAMP:20260423T100434
CREATED:20211006T170407Z
LAST-MODIFIED:20220610T162620Z
UID:32908-1637366400-1643587199@old.ypc.org
SUMMARY:Alone Together – Reflections On a Year That Changed Us
DESCRIPTION:« All Events \n\n\n\n\n\n\n\nALONE TOGETHER – REFLECTIONS ON A YEAR THAT CHANGED US\n\n\n\nJanuary 7 – January 30 \n\n\n\nIn Collaboration with High Line Nine507 W 27th St\, New York\, NY 10001January 7 – January 30 \n\n\n\nConcepted and curated by Francisco J. NúñezFeaturing works by Filmmakers Ansley Sawyer and Francisco J. NúñezComposers and Songwriters:  Samuel Adler\, Derek Bermel\, Thomas Cabaniss\, Paquito D’Rivera/Alexis Romay\, Aneesa Folds\, Gordon Getty\, Michael Gordon\, Michael Harrison\, Ted Hearne\, Yuka Honda\, David Lang\, Elizabeth Núñez\, Francisco J. Núñez\, Jim Papoulis\, and Paola PrestiniConductors: Emma Hathaway\, Caitlin Henning\, Francisco J. Núñez\, Elizabeth Núñez\, Maria Pena\, Sophia Papoulis\, and Sonny WillisChoreographers: Jean Borges\, Tommy Scrivens and Megan Williams \n\n\n\nAloneTogether is a transcendent musical journey into the subconscious mind of today’s youth during a time of global turmoil and transformation. Expressed through new pieces created by 15 of the world’s leading composers and emerging songwriters\, AloneTogether takes an innovative\, experimental approach toward understanding and expressing the hearts and minds of children through the course of the pandemic.  For the first time\, YPC enthusiasts will see choristers perform these works in new mediums\, including video\, art\, and film\, in addition to live performances.  \n\n\n\nAloneTogether comprises spoken word\, poetry\, sculpture\, video art\, music\, and film and features 500 YPC choristers\, 15 composers and emerging songwriters\, seven poets\, three choreographers\, and two filmmakers. Filmmaker Ansley Sawyer brings the choristers’ stories to life through film\, with newly commissioned works by composers Samuel Adler\, Derek Bermel\, Thomas Cabaniss\, Paquito D’Rivera\, Aneesa Folds\, Michael Gordon\, Michael Harrison\, Ted Hearne\, Yuka C. Honda\, David Lang\, Elizabeth Núñez\, Francisco J. Núñez\, Jim Papoulis\, and Paola Prestini. Additional films by Francisco J. Núñez and a work by YPC’s Composer-In-Residence\, Gordon Getty\, round out the exhibition. The installation is the culmination of YPC’s newest commissioning initiative. \n\n\n\nAloneTogether is a free exhibit and is open for viewing from January 7 through January 30\, Friday – Sunday from 12pm – 6pm.  Private viewings throughout the week must be made via appointment. Contact Courtenay Casey at ccasey@ypc.org to schedule your special viewing of AloneTogether. \n\n\n\n*Visitors aged 12 and up must be fully vaccinated against Covid-19 and show proof of vaccination upon entry. Masks are required at all times. \n\n\n\n\nLearn More\n\n\n\n\n\n\n\n\n\n\n\n\nDETAILS\n\n\n\nDate: \n\n\n\nJanuary 7\, 2022 – January 30\, 2022 \n\n\n\nTime: \n\n\n\nFriday – Sunday from 12pm – 6pm \n\n\n\nLocation: \n\n\n\nHigh Line Nine \n\n\n\n507 W 27th St \n\n\n\nNew York\, NY 10001
URL:https://old.ypc.org/event/alone-together-reflections-on-a-year-that-changed-us/
LOCATION:High Line Nine\, 507 W 27th St\, New York\, NY\, 10001\, United States
CATEGORIES:Public
ATTACH;FMTTYPE=image/png:https://old.ypc.org/wp-content/uploads/2021/10/350x355.png
GEO:40.750573;-74.0028726
X-APPLE-STRUCTURED-LOCATION;VALUE=URI;X-ADDRESS=High Line Nine 507 W 27th St New York NY 10001 United States;X-APPLE-RADIUS=500;X-TITLE=507 W 27th St:geo:-74.0028726,40.750573
END:VEVENT
BEGIN:VEVENT
DTSTART;TZID=America/New_York:20211205T150000
DTEND;TZID=America/New_York:20211205T150000
DTSTAMP:20260423T100434
CREATED:20210902T153627Z
LAST-MODIFIED:20220621T145025Z
UID:31213-1638716400-1638716400@old.ypc.org
SUMMARY:Bethel Woods  - An Afternoon of Choral Artistry
DESCRIPTION:« All Events \n\n\n\n\n\n\n\nAN AFTERNOON OF CHORAL ARTISTRY FEATURING YOUNG PEOPLE’S CHORUS OF NEW YORK CITY\n\n\n\nSunday\, April 22 at 3:00 pmBethel Woods Event Gallery \n\n\n\n\n\n\n\nYoung People’s Chorus of New York City conducted by Artistic Director Francisco Núñez performs “An Afternoon of Choral Artistry\,” presented by Shandelee Music Festival in collaboration with Bethel Woods Center for the Arts. Tickets for this event\, which is part of the P.L.A.Y. The Classics concert series\, are $35 for general admission\, $30 for Shandelee Music Festival members\, and $10 for students. \n\n\n\nFor this concert\, YPC’s award-winning choristers will weave together a program of choral classics\, spirituals\, songs from the Broadway stage\, and many surprises\, complete with show-stopping choreography in a “don’t miss” event. \n\n\n\n\n\n\n\n\n\n\n\n\n\n\n\n\n\nDETAILS\n\n\n\n\n\nDate & Time: \n\n\n\nSunday\, April 22 at 3:00 p.m. \n\n\n\n\n\nVenue:Bethel Woods Event Gallery200 Hurd Rd\, Bethel\, NY 12720 \n\n\n\nTickets:General Admission $35\, Students $10Purchase here
URL:https://old.ypc.org/event/bethel-woods-2021-2/
LOCATION:Bethel Woods Event Gallery\, 200 Hurd Rd\, Bethel\, NY\, 12720\, United States
CATEGORIES:Public
ATTACH;FMTTYPE=image/jpeg:https://old.ypc.org/wp-content/uploads/2018/01/ypc-bethel-woods-1.jpg
GEO:41.6971197;-74.877752
X-APPLE-STRUCTURED-LOCATION;VALUE=URI;X-ADDRESS=Bethel Woods Event Gallery 200 Hurd Rd Bethel NY 12720 United States;X-APPLE-RADIUS=500;X-TITLE=200 Hurd Rd:geo:-74.877752,41.6971197
END:VEVENT
BEGIN:VEVENT
DTSTART;TZID=America/New_York:20211205T150000
DTEND;TZID=America/New_York:20211205T170000
DTSTAMP:20260423T100435
CREATED:20201201T130026Z
LAST-MODIFIED:20220610T161716Z
UID:22412-1638716400-1638723600@old.ypc.org
SUMMARY:Afternoon of Choral Artistry Featuring Young People's Chorus of New York City
DESCRIPTION:« All Events \n\n\n\n\n\n\n\nAFTERNOON OF CHORAL ARTISTRY FEATURING YOUNG PEOPLE’S CHORUS OF NEW YORK CITY\n\n\n\nDec 5\, 20213:00 pm ET \n\n\n\n\n\n\n\nYoung People’s Chorus of New York City conducted by Artistic Director Francisco Núñez performs “An Afternoon of Choral Artistry\,” presented by Shandelee Music Festival in collaboration with Bethel Woods Center for the Arts. Tickets for this event\, which is part of the P.L.A.Y. The Classics fifth annual concert series\, are $37 for general admission and $17 for students. \n\n\n\nFor this concert\, YPC’s award-winning choristers will weave together a program of choral classics\, spirituals\, songs from the Broadway stage\, and many surprises\, complete with show-stopping choreography in a “don’t miss” event. \n\n\n\n \n\n\n\n\n\n\n\n\nBuy Tickets\n\n\n\n\n\n\n \n\n\n\n\n\n\n\n\n\n\n\n\n\n\n\nDETAILS\n\n\n\n\n\nDate: \n\n\n\nDec 5\, 2021 \n\n\n\nTime: \n\n\n\n3:00 p.m. \n\n\n\n\n\nLocation: \n\n\n\nBethel Woods Center for the Arts \n\n\n\n\n\n\n\n\n\n\n\n\n\n\n\nLocation: \n\n\n\nBethel Woods Center for the Arts
URL:https://old.ypc.org/event/bethel-woods-2021/
LOCATION:Bethel Woods Event Gallery\, 200 Hurd Rd\, Bethel\, NY\, 12720\, United States
CATEGORIES:Public
ATTACH;FMTTYPE=image/jpeg:https://old.ypc.org/wp-content/uploads/2021/05/unnamed-1.jpg
GEO:41.6971197;-74.877752
X-APPLE-STRUCTURED-LOCATION;VALUE=URI;X-ADDRESS=Bethel Woods Event Gallery 200 Hurd Rd Bethel NY 12720 United States;X-APPLE-RADIUS=500;X-TITLE=200 Hurd Rd:geo:-74.877752,41.6971197
END:VEVENT
BEGIN:VEVENT
DTSTART;TZID=America/New_York:20211211T190000
DTEND;TZID=America/New_York:20211211T220000
DTSTAMP:20260423T100435
CREATED:20211111T175631Z
LAST-MODIFIED:20230127T195910Z
UID:34711-1639249200-1639260000@old.ypc.org
SUMMARY:A Very Merry New York
DESCRIPTION:« All Events \n\n\n\n\n\n\n\nA VERY MERRY NEW YORK\n\n\n\nDecember 11\, 2021 \n\n\n\nThe Young People’s Chorus of New York City returned to the holiday stage! And this year\, you could experience the winter magic as it was meant to be felt – live and in the theater.  \n\n\n\nUnder the direction of YPC Artistic Director Francisco J. Núñez and Associate Artistic Director Elizabeth Núñez A Very Merry New York was a music-filled holiday extravaganza that spotlighted nearly 600 choristers of the Young People’s Chorus as they brought the city holiday spirit to life through singing\, dancing\, and storytelling.  \n\n\n\nWith a story by Tony Award-winning Broadway lyricist Lynn Ahrens and a guest appearance by renowned baritone Lester Lynch\, this was the family event that was sure to be the centerpiece of a joyous holiday season.  \n\n\n\n\nBuy Tickets\n\n\n\n\n\n\n\n\nDETAILS\n\n\n\nDate: \n\n\n\nDecember 11\, 2021 \n\n\n\nTime: \n\n\n\n7:00pm EST \n\n\n\nLocation: \n\n\n\nUnited Palace \n\n\n\n4140 Broadway at West 175th Street \n\n\n\nNew York City
URL:https://old.ypc.org/event/a-very-merry-new-york/
LOCATION:United Palace\, 4140 Broadway\, New York\, NY\, 10033\, United States
CATEGORIES:Public
ATTACH;FMTTYPE=image/jpeg:https://old.ypc.org/wp-content/uploads/2021/11/350x355.jpg
GEO:40.8465512;-73.9379109
X-APPLE-STRUCTURED-LOCATION;VALUE=URI;X-ADDRESS=United Palace 4140 Broadway New York NY 10033 United States;X-APPLE-RADIUS=500;X-TITLE=4140 Broadway:geo:-73.9379109,40.8465512
END:VEVENT
BEGIN:VEVENT
DTSTART;TZID=America/New_York:20211216T190000
DTEND;TZID=America/New_York:20211216T210000
DTSTAMP:20260423T100435
CREATED:20211216T204634Z
LAST-MODIFIED:20220610T154318Z
UID:37228-1639681200-1639688400@old.ypc.org
SUMMARY:42nd Annual A City Singing at Christmas
DESCRIPTION:« All Events \n\n\n\n\n\n\n\n42ND ANNUAL A CITY SINGING TOGETHER\n\n\n\nDECEMBER 16\, 20217:00 PM – 9:00 PM ET \n\n\n\nYoung People’s Chorus of New York City conducted by Artistic Director Francisco J. Núñez joins the St. Agnes Cathedral Choir – Rockville Centre\, the St. Patrick’s Cathedral Choir\, the Cathedral Organs and the New York Symphonic Bass for a joyful Christmas celebration at the majestic St. Patrick’s Cathedral. Performances include traditional and contemporary Christmas hymns and carols\, and the evening will culminate with all attendees joining together to sing Silent Night by candle light. \n\n\n\nAdmission is FREE. Come early for best seats. \n\n\n\nFeaturing: \n\n\n\nYoung People’s Chorus of New YorkFrancisco Nüñez\, Director \n\n\n\nSt. Agnes Cathedral Choir\, Rockville CentreMichael Bower\, Music Director \n\n\n\nSt. Patrick’s Cathedral ChoirDr. Jennifer Pascual\, Director \n\n\n\nThe Cathedral OrgansDaniel Brondel and Michael Hey\, Organists \n\n\n\nNew York Symphonic Brass \n\n\n\n\n\n\n\n\n\nDETAILS\n\n\n\nDate: \n\n\n\nThursday\, December 16 \n\n\n\nTime: \n\n\n\n7:00 pm – 9:00 pm \n\n\n\nLocation: \n\n\n\nSt. Patrick’s Cathedral \n\n\n\n5th Avenue between 50th and 51st Streets \n\n\n\nNew York\, NY 10022
URL:https://old.ypc.org/event/42nd-annual-a-city-singing-at-christmas/
LOCATION:St. Patricks Cathedral\, 5th Avenue between 50th/51st Streets\, New York\, NY\, 10022\, United States
CATEGORIES:Public
ATTACH;FMTTYPE=image/jpeg:https://old.ypc.org/wp-content/uploads/2021/12/296x300ypc-copy.jpg
GEO:40.7599904;-73.9782327
X-APPLE-STRUCTURED-LOCATION;VALUE=URI;X-ADDRESS=St. Patricks Cathedral 5th Avenue between 50th/51st Streets New York NY 10022 United States;X-APPLE-RADIUS=500;X-TITLE=5th Avenue between 50th/51st Streets:geo:-73.9782327,40.7599904
END:VEVENT
END:VCALENDAR