BEGIN:VCALENDAR
VERSION:2.0
PRODID:-//Young People&#039;s Chorus of NYC - ECPv6.2.9//NONSGML v1.0//EN
CALSCALE:GREGORIAN
METHOD:PUBLISH
X-WR-CALNAME:Young People&#039;s Chorus of NYC
X-ORIGINAL-URL:https://old.ypc.org
X-WR-CALDESC:Events for Young People&#039;s Chorus of NYC
REFRESH-INTERVAL;VALUE=DURATION:PT1H
X-Robots-Tag:noindex
X-PUBLISHED-TTL:PT1H
BEGIN:VTIMEZONE
TZID:America/New_York
BEGIN:DAYLIGHT
TZOFFSETFROM:-0500
TZOFFSETTO:-0400
TZNAME:EDT
DTSTART:20210314T070000
END:DAYLIGHT
BEGIN:STANDARD
TZOFFSETFROM:-0400
TZOFFSETTO:-0500
TZNAME:EST
DTSTART:20211107T060000
END:STANDARD
END:VTIMEZONE
BEGIN:VEVENT
DTSTART;TZID=America/New_York:20210831T140000
DTEND;TZID=America/New_York:20210831T160000
DTSTAMP:20260422T012924
CREATED:20210901T001223Z
LAST-MODIFIED:20210901T002219Z
UID:30894-1630418400-1630425600@old.ypc.org
SUMMARY:Chorale Rehearsal
DESCRIPTION:Tuesday 8/31\, 2:00-4:00 p.m.\nYPC’s Home \nVisit the chorister login page for more info or to contact your conductor. \n< Back to Chorister Calendar
URL:https://old.ypc.org/event/chorale-rehearsal/
LOCATION:YPC’s Home\, 37 W 65th Street\, 2nd Floor\, New York\, NY\, 10023\, United States
CATEGORIES:Performance Chorus,Private
GEO:40.7728753;-73.9812519
X-APPLE-STRUCTURED-LOCATION;VALUE=URI;X-ADDRESS=YPC’s Home 37 W 65th Street 2nd Floor New York NY 10023 United States;X-APPLE-RADIUS=500;X-TITLE=37 W 65th Street\, 2nd Floor:geo:-73.9812519,40.7728753
END:VEVENT
BEGIN:VEVENT
DTSTART;TZID=America/New_York:20210831T163000
DTEND;TZID=America/New_York:20210831T180000
DTSTAMP:20260422T012924
CREATED:20210831T162443Z
LAST-MODIFIED:20210901T000805Z
UID:30761-1630427400-1630432800@old.ypc.org
SUMMARY:Julia Wolfe Group Rehearsal
DESCRIPTION:Tuesday 8/31\, 4:30-6:00 p.m.\nYPC’s Home \nVisit the chorister login page for more info or to contact your conductor. \n< Back to Chorister Calendar
URL:https://old.ypc.org/event/julia-wolfe-group-rehearsal/
LOCATION:YPC’s Home\, 37 W 65th Street\, 2nd Floor\, New York\, NY\, 10023\, United States
CATEGORIES:Performance Chorus,Private
GEO:40.7728753;-73.9812519
X-APPLE-STRUCTURED-LOCATION;VALUE=URI;X-ADDRESS=YPC’s Home 37 W 65th Street 2nd Floor New York NY 10023 United States;X-APPLE-RADIUS=500;X-TITLE=37 W 65th Street\, 2nd Floor:geo:-73.9812519,40.7728753
END:VEVENT
BEGIN:VEVENT
DTSTART;TZID=America/New_York:20210901T130000
DTEND;TZID=America/New_York:20210901T140000
DTSTAMP:20260422T012924
CREATED:20210828T144832Z
LAST-MODIFIED:20210831T150241Z
UID:30650-1630501200-1630504800@old.ypc.org
SUMMARY:9/11 Group Rehearsal
DESCRIPTION:Wednesday\, 1:00-2:00 p.m.\nYPC’s Home \nVisit the chorister login page for more info or to contact your conductor. \n< Back to Chorister Calendar
URL:https://old.ypc.org/event/9-11-group-rehearsal/
LOCATION:YPC’s Home\, 37 W 65th Street\, 2nd Floor\, New York\, NY\, 10023\, United States
CATEGORIES:Performance Chorus,Private
GEO:40.7728753;-73.9812519
X-APPLE-STRUCTURED-LOCATION;VALUE=URI;X-ADDRESS=YPC’s Home 37 W 65th Street 2nd Floor New York NY 10023 United States;X-APPLE-RADIUS=500;X-TITLE=37 W 65th Street\, 2nd Floor:geo:-73.9812519,40.7728753
END:VEVENT
BEGIN:VEVENT
DTSTART;TZID=America/New_York:20210901T140000
DTEND;TZID=America/New_York:20210901T160000
DTSTAMP:20260422T012924
CREATED:20210901T001412Z
LAST-MODIFIED:20210901T001412Z
UID:30897-1630504800-1630512000@old.ypc.org
SUMMARY:Chorale Rehearsal
DESCRIPTION:Wednesday 9/1\, 2:00-4:00 p.m.\nYPC’s Home \nVisit the chorister login page for more info or to contact your conductor. \n< Back to Chorister Calendar
URL:https://old.ypc.org/event/chorale-rehearsal-2/
LOCATION:YPC’s Home\, 37 W 65th Street\, 2nd Floor\, New York\, NY\, 10023\, United States
CATEGORIES:Performance Chorus,Private
GEO:40.7728753;-73.9812519
X-APPLE-STRUCTURED-LOCATION;VALUE=URI;X-ADDRESS=YPC’s Home 37 W 65th Street 2nd Floor New York NY 10023 United States;X-APPLE-RADIUS=500;X-TITLE=37 W 65th Street\, 2nd Floor:geo:-73.9812519,40.7728753
END:VEVENT
BEGIN:VEVENT
DTSTART;TZID=America/New_York:20210901T163000
DTEND;TZID=America/New_York:20210901T180000
DTSTAMP:20260422T012924
CREATED:20210831T210059Z
LAST-MODIFIED:20210901T000728Z
UID:30764-1630513800-1630519200@old.ypc.org
SUMMARY:Julia Wolfe Group Rehearsal
DESCRIPTION:Wednesday 9/1\, 4:30-6:00 p.m.\nYPC’s Home \nVisit the chorister login page for more info or to contact your conductor. \n< Back to Chorister Calendar
URL:https://old.ypc.org/event/julia-wolfe-group-rehearsal-2/
LOCATION:YPC’s Home\, 37 W 65th Street\, 2nd Floor\, New York\, NY\, 10023\, United States
CATEGORIES:Performance Chorus,Private
GEO:40.7728753;-73.9812519
X-APPLE-STRUCTURED-LOCATION;VALUE=URI;X-ADDRESS=YPC’s Home 37 W 65th Street 2nd Floor New York NY 10023 United States;X-APPLE-RADIUS=500;X-TITLE=37 W 65th Street\, 2nd Floor:geo:-73.9812519,40.7728753
END:VEVENT
BEGIN:VEVENT
DTSTART;TZID=America/New_York:20210902T150000
DTEND;TZID=America/New_York:20210902T180000
DTSTAMP:20260422T012924
CREATED:20210901T001533Z
LAST-MODIFIED:20210902T173321Z
UID:30900-1630594800-1630605600@old.ypc.org
SUMMARY:Chorale Rehearsal - updated time
DESCRIPTION:Thursday 9/2\, 3:00-6:00 p.m.\nYPC’s Home \nA zoom link is available for this rehearsal.  Please go to the chorister login and click the pink “Join Full Chorale Rehearsal” button.  The password is listed directly underneath the button. \nVisit the chorister login page for more info or to contact your conductor. \n< Back to Chorister Calendar
URL:https://old.ypc.org/event/chorale-rehearsal-3/
LOCATION:YPC’s Home\, 37 W 65th Street\, 2nd Floor\, New York\, NY\, 10023\, United States
CATEGORIES:Performance Chorus,Private
GEO:40.7728753;-73.9812519
X-APPLE-STRUCTURED-LOCATION;VALUE=URI;X-ADDRESS=YPC’s Home 37 W 65th Street 2nd Floor New York NY 10023 United States;X-APPLE-RADIUS=500;X-TITLE=37 W 65th Street\, 2nd Floor:geo:-73.9812519,40.7728753
END:VEVENT
END:VCALENDAR