BEGIN:VCALENDAR
VERSION:2.0
PRODID:-//Young People&#039;s Chorus of NYC - ECPv6.2.9//NONSGML v1.0//EN
CALSCALE:GREGORIAN
METHOD:PUBLISH
X-WR-CALNAME:Young People&#039;s Chorus of NYC
X-ORIGINAL-URL:https://old.ypc.org
X-WR-CALDESC:Events for Young People&#039;s Chorus of NYC
REFRESH-INTERVAL;VALUE=DURATION:PT1H
X-Robots-Tag:noindex
X-PUBLISHED-TTL:PT1H
BEGIN:VTIMEZONE
TZID:America/New_York
BEGIN:DAYLIGHT
TZOFFSETFROM:-0500
TZOFFSETTO:-0400
TZNAME:EDT
DTSTART:20210314T070000
END:DAYLIGHT
BEGIN:STANDARD
TZOFFSETFROM:-0400
TZOFFSETTO:-0500
TZNAME:EST
DTSTART:20211107T060000
END:STANDARD
END:VTIMEZONE
BEGIN:VEVENT
DTSTART;TZID=America/New_York:20210601T161500
DTEND;TZID=America/New_York:20210601T171500
DTSTAMP:20260422T035531
CREATED:20210519T153719Z
LAST-MODIFIED:20210519T153719Z
UID:27542-1622564100-1622567700@old.ypc.org
SUMMARY:Community Junior Chorus Rehearsal
DESCRIPTION:
URL:https://old.ypc.org/event/community-junior-chorus-rehearsal/2021-06-01/
LOCATION:Zoom Rehearsal
CATEGORIES:Community Chorus,Private
END:VEVENT
BEGIN:VEVENT
DTSTART;TZID=America/New_York:20210601T170000
DTEND;TZID=America/New_York:20210601T181500
DTSTAMP:20260422T035531
CREATED:20210521T163529Z
LAST-MODIFIED:20210521T163529Z
UID:27730-1622566800-1622571300@old.ypc.org
SUMMARY:Amani Rehearsal
DESCRIPTION:Weekly on Tuesdays from 5:00-6:15 P.M.\nVisit the chorister login page for more info or to contact your conductor. \nhttps://us02web.zoom.us/j/86947099058\nMeeting ID: 869 4709 9058\nRefer to the chorister login for password. \n< Back to Chorister Calendar
URL:https://old.ypc.org/event/amani-rehearsal-10/2021-06-01/
LOCATION:Zoom Rehearsal
CATEGORIES:Performance Chorus,Private
END:VEVENT
BEGIN:VEVENT
DTSTART;TZID=America/New_York:20210601T170000
DTEND;TZID=America/New_York:20210601T181500
DTSTAMP:20260422T035531
CREATED:20210521T163838Z
LAST-MODIFIED:20210521T163838Z
UID:27735-1622566800-1622571300@old.ypc.org
SUMMARY:Chorale (Lower Voices) Rehearsal
DESCRIPTION:Weekly on Tuesdays from 5:00-6:15 P.M.\nAt YPC’s Home – Cohort B \nVisit the chorister login page for more info or to contact your conductor. \nhttps://zoom.us/j/95086013130\nMeeting ID: 950 8601 3130\nRefer to chorister login for password. \n< Back to Chorister Calendar
URL:https://old.ypc.org/event/chorale-lower-voices-rehearsal-8/2021-06-01/
LOCATION:Zoom Rehearsal
CATEGORIES:Performance Chorus,Private
END:VEVENT
BEGIN:VEVENT
DTSTART;TZID=America/New_York:20210601T170000
DTEND;TZID=America/New_York:20210601T183000
DTSTAMP:20260422T035531
CREATED:20210505T194454Z
LAST-MODIFIED:20210528T170326Z
UID:27262-1622566800-1622572200@old.ypc.org
SUMMARY:Goodbye\, Mr. Chips Rehearsal
DESCRIPTION:Tuesday from 5:00-6:30 P.M.\nVisit the chorister login page for more info or to contact your conductor. \n< Back to Chorister Calendar
URL:https://old.ypc.org/event/goodbye-mr-chips-rehearsal-10/
LOCATION:YPC’s Home\, 37 W 65th Street\, 2nd Floor\, New York\, NY\, 10023\, United States
CATEGORIES:Performance Chorus,Private
GEO:40.7728753;-73.9812519
X-APPLE-STRUCTURED-LOCATION;VALUE=URI;X-ADDRESS=YPC’s Home 37 W 65th Street 2nd Floor New York NY 10023 United States;X-APPLE-RADIUS=500;X-TITLE=37 W 65th Street\, 2nd Floor:geo:-73.9812519,40.7728753
END:VEVENT
BEGIN:VEVENT
DTSTART;TZID=America/New_York:20210601T173000
DTEND;TZID=America/New_York:20210601T184500
DTSTAMP:20260422T035531
CREATED:20210521T164050Z
LAST-MODIFIED:20210521T164050Z
UID:27740-1622568600-1622573100@old.ypc.org
SUMMARY:Cantare Rehearsal
DESCRIPTION:Weekly on Tuesdays from 5:30-6:45 P.M.\nVisit the chorister login page for more info or to contact your conductor. \nhttps://zoom.us/j/97885767486\nMeeting ID: 978 8576 7486\nRefer to chorister login for password. \n< Back to Chorister Calendar
URL:https://old.ypc.org/event/cantare-rehearsal-14/2021-06-01/
LOCATION:Zoom Rehearsal
CATEGORIES:Performance Chorus,Private
END:VEVENT
BEGIN:VEVENT
DTSTART;TZID=America/New_York:20210602T163000
DTEND;TZID=America/New_York:20210602T173000
DTSTAMP:20260422T035531
CREATED:20210521T161352Z
LAST-MODIFIED:20210521T171904Z
UID:27698-1622651400-1622655000@old.ypc.org
SUMMARY:Intermezzo Added Rehearsal
DESCRIPTION:Wednesday from 4:30-5:30 P.M.\nVisit the chorister login page for more info or to contact your conductor. \nhttps://zoom.us/j/99804484914 \nMeeting ID: 998 0448 4914 \nRefer to chorister login for password. \n< Back to Chorister Calendar
URL:https://old.ypc.org/event/intermezzo-added-rehearsal-3/
LOCATION:Zoom Rehearsal
CATEGORIES:Performance Chorus,Private
END:VEVENT
BEGIN:VEVENT
DTSTART;TZID=America/New_York:20210602T170000
DTEND;TZID=America/New_York:20210602T181500
DTSTAMP:20260422T035531
CREATED:20210521T164324Z
LAST-MODIFIED:20210521T164324Z
UID:27745-1622653200-1622657700@old.ypc.org
SUMMARY:Chorale (Full) Rehearsal
DESCRIPTION:Weekly on Wednesdays from 5:00-6:15 P.M.\nAt YPC’s Home – Cohort C \nVisit the chorister login page for more info or to contact your conductor. \nhttps://zoom.us/j/95236652829\nMeeting ID: 952 3665 2829\nRefer to chorister login for password. \n< Back to Chorister Calendar
URL:https://old.ypc.org/event/chorale-full-rehearsal-10/2021-06-02/
LOCATION:Zoom Rehearsal
CATEGORIES:Performance Chorus,Private
END:VEVENT
BEGIN:VEVENT
DTSTART;TZID=America/New_York:20210602T170000
DTEND;TZID=America/New_York:20210602T183000
DTSTAMP:20260422T035531
CREATED:20210505T194549Z
LAST-MODIFIED:20210528T170424Z
UID:27265-1622653200-1622658600@old.ypc.org
SUMMARY:Goodbye\, Mr. Chips Rehearsal
DESCRIPTION:Wednesday from 5:00-6:30 P.M.\nVisit the chorister login page for more info or to contact your conductor. \n< Back to Chorister Calendar
URL:https://old.ypc.org/event/goodbye-mr-chips-rehearsal-13/
LOCATION:YPC’s Home\, 37 W 65th Street\, 2nd Floor\, New York\, NY\, 10023\, United States
CATEGORIES:Performance Chorus,Private
GEO:40.7728753;-73.9812519
X-APPLE-STRUCTURED-LOCATION;VALUE=URI;X-ADDRESS=YPC’s Home 37 W 65th Street 2nd Floor New York NY 10023 United States;X-APPLE-RADIUS=500;X-TITLE=37 W 65th Street\, 2nd Floor:geo:-73.9812519,40.7728753
END:VEVENT
BEGIN:VEVENT
DTSTART;TZID=America/New_York:20210603T163000
DTEND;TZID=America/New_York:20210603T193000
DTSTAMP:20260422T035531
CREATED:20210325T150517Z
LAST-MODIFIED:20210325T150517Z
UID:25873-1622737800-1622748600@old.ypc.org
SUMMARY:SAT Class - Individual Conferences
DESCRIPTION:Individual conferences will be between 4:30-7:30 P.M.\nVisit the chorister login page for more info or to contact your conductor. \nZoom link provided by SAT instructor \n< Back to Chorister Calendar
URL:https://old.ypc.org/event/sat-class-individual-conferences/
LOCATION:NY
CATEGORIES:Performance Chorus,Private
END:VEVENT
BEGIN:VEVENT
DTSTART;TZID=America/New_York:20210603T170000
DTEND;TZID=America/New_York:20210603T180000
DTSTAMP:20260422T035531
CREATED:20210519T154052Z
LAST-MODIFIED:20210519T154052Z
UID:27550-1622739600-1622743200@old.ypc.org
SUMMARY:Community Senior Chorus Rehearsal
DESCRIPTION:Weekly on Thursdays from 5:00-6:00 P.M.\nVisit the chorister login page for more info or to contact your conductor. \nhttps://us02web.zoom.us/j/82709013243\nMeeting ID: 827 0901 3243\nRefer to chorister login page for password. \n< Back to Chorister Calendar
URL:https://old.ypc.org/event/community-senior-chorus-rehearsal-2/2021-06-03/
LOCATION:Zoom Rehearsal
CATEGORIES:Community Chorus,Private
END:VEVENT
BEGIN:VEVENT
DTSTART;TZID=America/New_York:20210603T173000
DTEND;TZID=America/New_York:20210603T184500
DTSTAMP:20260422T035531
CREATED:20210521T164928Z
LAST-MODIFIED:20210521T164928Z
UID:27755-1622741400-1622745900@old.ypc.org
SUMMARY:Cantare Rehearsal
DESCRIPTION:Weekly on Thursdays from 5:30-6:45 P.M.\nVisit the chorister login page for more info or to contact your conductor. \nhttps://zoom.us/j/91710398628\nMeeting ID: 917 1039 8628\nRefer to chorister login for password. \n< Back to Chorister Calendar
URL:https://old.ypc.org/event/cantare-rehearsal-15/
LOCATION:Zoom Rehearsal
CATEGORIES:Performance Chorus,Private
END:VEVENT
BEGIN:VEVENT
DTSTART;TZID=America/New_York:20210604T163000
DTEND;TZID=America/New_York:20210604T180000
DTSTAMP:20260422T035531
CREATED:20210521T161510Z
LAST-MODIFIED:20210521T171807Z
UID:27701-1622824200-1622829600@old.ypc.org
SUMMARY:Intermezzo Added Rehearsal
DESCRIPTION:Friday from 4:30-6:00 P.M.\nVisit the chorister login page for more info or to contact your conductor. \nhttps://zoom.us/j/99804484914 \nMeeting ID: 998 0448 4914 \nRefer to chorister login for password. \n< Back to Chorister Calendar
URL:https://old.ypc.org/event/intermezzo-added-rehearsal-4/
LOCATION:Zoom Rehearsal
CATEGORIES:Performance Chorus,Private
END:VEVENT
BEGIN:VEVENT
DTSTART;TZID=America/New_York:20210604T163000
DTEND;TZID=America/New_York:20210604T183000
DTSTAMP:20260422T035531
CREATED:20210505T195035Z
LAST-MODIFIED:20210528T170523Z
UID:27276-1622824200-1622831400@old.ypc.org
SUMMARY:Goodbye\, Mr. Chips Rehearsal
DESCRIPTION:Friday from 4:30-6:30 P.M.\nVisit the chorister login page for more info or to contact your conductor. \n< Back to Chorister Calendar
URL:https://old.ypc.org/event/goodbye-mr-chips-rehearsal-12/
LOCATION:YPC’s Home\, 37 W 65th Street\, 2nd Floor\, New York\, NY\, 10023\, United States
CATEGORIES:Performance Chorus,Private
GEO:40.7728753;-73.9812519
X-APPLE-STRUCTURED-LOCATION;VALUE=URI;X-ADDRESS=YPC’s Home 37 W 65th Street 2nd Floor New York NY 10023 United States;X-APPLE-RADIUS=500;X-TITLE=37 W 65th Street\, 2nd Floor:geo:-73.9812519,40.7728753
END:VEVENT
BEGIN:VEVENT
DTSTART;TZID=America/New_York:20210605T080000
DTEND;TZID=America/New_York:20210605T123000
DTSTAMP:20260422T035531
CREATED:20210325T150805Z
LAST-MODIFIED:20210325T150805Z
UID:25876-1622880000-1622896200@old.ypc.org
SUMMARY:SAT Class - College Board SAT
DESCRIPTION:8:00 A.M. – 12:30 P.M.\nVisit the chorister login page for more info or to contact your conductor. \nZoom link provided by SAT instructor \n< Back to Chorister Calendar
URL:https://old.ypc.org/event/sat-class-college-board-sat/
LOCATION:NY
CATEGORIES:Performance Chorus,Private
END:VEVENT
BEGIN:VEVENT
DTSTART;TZID=America/New_York:20210605T090000
DTEND;TZID=America/New_York:20210605T170000
DTSTAMP:20260422T035531
CREATED:20210505T194823Z
LAST-MODIFIED:20210528T170729Z
UID:27268-1622883600-1622912400@old.ypc.org
SUMMARY:Goodbye\, Mr. Chips Group 1 Record
DESCRIPTION:Saturday from 9:00 A.M.-4:00/5:00 P.M.\nLocation: DiMenna Center\n450 West 37th St\, New York\, NY 10018\nPlease bring water\, a substantial lunch\, and additional snacks for the day. \nVisit the chorister login page for more info or to contact your conductor. \n< Back to Chorister Calendar
URL:https://old.ypc.org/event/goodbye-mr-chips-group-1-record/
LOCATION:Dimenna Center\, 450 West 37th St\, New York\, NY\, 10018\, United States
CATEGORIES:Performance Chorus,Private
GEO:40.7127753;-74.0059728
X-APPLE-STRUCTURED-LOCATION;VALUE=URI;X-ADDRESS=Dimenna Center 450 West 37th St New York NY 10018 United States;X-APPLE-RADIUS=500;X-TITLE=450 West 37th St:geo:-74.0059728,40.7127753
END:VEVENT
BEGIN:VEVENT
DTSTART;TZID=America/New_York:20210606T090000
DTEND;TZID=America/New_York:20210606T130000
DTSTAMP:20260422T035531
CREATED:20210505T194932Z
LAST-MODIFIED:20210528T170853Z
UID:27272-1622970000-1622984400@old.ypc.org
SUMMARY:Goodbye\, Mr. Chips Group 2 Record
DESCRIPTION:Sunday from 9:00 A.M.-1:00 P.M.\nLocation: DiMenna Center\n450 West 37th St\, New York\, NY 10018\nPlease bring water and a substantial snack. \nVisit the chorister login page for more info or to contact your conductor. \n< Back to Chorister Calendar
URL:https://old.ypc.org/event/goodbye-mr-chips-group-2-record/
LOCATION:Dimenna Center\, 450 West 37th St\, New York\, NY\, 10018\, United States
CATEGORIES:Performance Chorus,Private
GEO:40.7127753;-74.0059728
X-APPLE-STRUCTURED-LOCATION;VALUE=URI;X-ADDRESS=Dimenna Center 450 West 37th St New York NY 10018 United States;X-APPLE-RADIUS=500;X-TITLE=450 West 37th St:geo:-74.0059728,40.7127753
END:VEVENT
END:VCALENDAR