BEGIN:VCALENDAR
VERSION:2.0
PRODID:-//Young People&#039;s Chorus of NYC - ECPv6.2.9//NONSGML v1.0//EN
CALSCALE:GREGORIAN
METHOD:PUBLISH
X-ORIGINAL-URL:https://old.ypc.org
X-WR-CALDESC:Events for Young People&#039;s Chorus of NYC
REFRESH-INTERVAL;VALUE=DURATION:PT1H
X-Robots-Tag:noindex
X-PUBLISHED-TTL:PT1H
BEGIN:VTIMEZONE
TZID:America/New_York
BEGIN:DAYLIGHT
TZOFFSETFROM:-0500
TZOFFSETTO:-0400
TZNAME:EDT
DTSTART:20210314T070000
END:DAYLIGHT
BEGIN:STANDARD
TZOFFSETFROM:-0400
TZOFFSETTO:-0500
TZNAME:EST
DTSTART:20211107T060000
END:STANDARD
END:VTIMEZONE
BEGIN:VEVENT
DTSTART;TZID=America/New_York:20210503T163000
DTEND;TZID=America/New_York:20210503T173000
DTSTAMP:20260422T074729
CREATED:20210426T225103Z
LAST-MODIFIED:20210506T180644Z
UID:26944-1620059400-1620063000@old.ypc.org
SUMMARY:Intermezzo Rehearsal
DESCRIPTION:Weekly on Mondays from 4:30-5:30 P.M.\nVisit the chorister login page for more info or to contact your conductor. \nhttps://zoom.us/j/188622087 \nMeeting ID: 188 622 087 \nRefer to chorister login page for password. \n< Back to Chorister Calendar
URL:https://old.ypc.org/event/intermezzo-rehearsal-9/
LOCATION:Zoom Rehearsal
CATEGORIES:Performance Chorus,Private
END:VEVENT
BEGIN:VEVENT
DTSTART;TZID=America/New_York:20210503T163000
DTEND;TZID=America/New_York:20210503T183000
DTSTAMP:20260422T074729
CREATED:20210426T225514Z
LAST-MODIFIED:20210426T233621Z
UID:26951-1620059400-1620066600@old.ypc.org
SUMMARY:Chorale (Treble Voices) Rehearsal
DESCRIPTION:Weekly on Mondays from 4:30-6:30 P.M.\nAt YPC – Cohort A \nVisit the chorister login page for more info or to contact your conductor. \nhttps://us02web.zoom.us/j/84338716290\nMeeting ID: 843 3871 6290\nRefer to chorister login page for password. \n< Back to Chorister Calendar
URL:https://old.ypc.org/event/chorale-treble-voices-rehearsal-7/2021-05-03/
LOCATION:Zoom Rehearsal
CATEGORIES:Performance Chorus,Private
END:VEVENT
BEGIN:VEVENT
DTSTART;TZID=America/New_York:20210504T160000
DTEND;TZID=America/New_York:20210504T173000
DTSTAMP:20260422T074729
CREATED:20210325T151534Z
LAST-MODIFIED:20210325T151534Z
UID:25882-1620144000-1620149400@old.ypc.org
SUMMARY:Junior Essay Writing Workshop
DESCRIPTION:Tuesday from 4:00-5:30 P.M.\nFor juniors in high school. \nVisit the chorister login page for more info or to contact your conductor. \nhttps://us02web.zoom.us/j/87557161378?pwd=Z2dUemMwU0J2YU5sU3NkMkdkL09wdz09\nMeeting ID: 875 5716 1378\nPasscode: 798825 \n< Back to Chorister Calendar
URL:https://old.ypc.org/event/junior-essay-writing-workshop/
LOCATION:NY
CATEGORIES:Performance Chorus,Private
END:VEVENT
BEGIN:VEVENT
DTSTART;TZID=America/New_York:20210504T161500
DTEND;TZID=America/New_York:20210504T171500
DTSTAMP:20260422T074729
CREATED:20210426T225856Z
LAST-MODIFIED:20210426T225856Z
UID:26960-1620144900-1620148500@old.ypc.org
SUMMARY:Community Junior Choruses Rehearsal
DESCRIPTION:Weekly on Tuesdays from 4:15-5:15 P.M.\nVisit the chorister login page for more info or to contact your conductor. \nhttps://zoom.us/j/94553257656\nMeeting ID: 945 5325 7656\nRefer to chorister login for password. \n< Back to Chorister Calendar
URL:https://old.ypc.org/event/community-junior-choruses-rehearsal-7/2021-05-04/
LOCATION:Zoom Rehearsal
CATEGORIES:Community Chorus,Private
END:VEVENT
BEGIN:VEVENT
DTSTART;TZID=America/New_York:20210504T163000
DTEND;TZID=America/New_York:20210504T183000
DTSTAMP:20260422T074729
CREATED:20210426T230126Z
LAST-MODIFIED:20210504T150104Z
UID:26966-1620145800-1620153000@old.ypc.org
SUMMARY:Amani Rehearsal
DESCRIPTION:Weekly on Tuesdays from 4:30-6:30 P.M.\nVisit the chorister login page for more info or to contact your conductor. \nhttps://zoom.us/j/95086013130\nMeeting ID: 950 8601 3130\nRefer to the chorister login for password. \n< Back to Chorister Calendar
URL:https://old.ypc.org/event/amani-rehearsal-9/
LOCATION:Zoom Rehearsal
CATEGORIES:Performance Chorus,Private
END:VEVENT
BEGIN:VEVENT
DTSTART;TZID=America/New_York:20210504T163000
DTEND;TZID=America/New_York:20210504T183000
DTSTAMP:20260422T074729
CREATED:20210426T230445Z
LAST-MODIFIED:20210504T145747Z
UID:26969-1620145800-1620153000@old.ypc.org
SUMMARY:Chorale (Lower Voices) Rehearsal
DESCRIPTION:Weekly on Tuesdays from 4:30-6:30 P.M.\nNo in-person rehearsal today. Only virtual \nVisit the chorister login page for more info or to contact your conductor. \nhttps://zoom.us/j/95086013130\nMeeting ID: 950 8601 3130\nRefer to chorister login for password. \n< Back to Chorister Calendar
URL:https://old.ypc.org/event/chorale-lower-voices-rehearsal-7/
LOCATION:Zoom Rehearsal
CATEGORIES:Performance Chorus,Private
END:VEVENT
BEGIN:VEVENT
DTSTART;TZID=America/New_York:20210504T173000
DTEND;TZID=America/New_York:20210504T184500
DTSTAMP:20260422T074729
CREATED:20210426T230747Z
LAST-MODIFIED:20210426T233434Z
UID:26975-1620149400-1620153900@old.ypc.org
SUMMARY:Cantare Rehearsal
DESCRIPTION:Weekly on Tuesdays from 5:30-6:45 P.M.\nAt YPC – Cohort A \nVisit the chorister login page for more info or to contact your conductor. \nhttps://zoom.us/j/97885767486\nMeeting ID: 978 8576 7486\nRefer to chorister login for password. \n< Back to Chorister Calendar
URL:https://old.ypc.org/event/cantare-rehearsal-12/2021-05-04/
LOCATION:Zoom Rehearsal
CATEGORIES:Performance Chorus,Private
END:VEVENT
BEGIN:VEVENT
DTSTART;TZID=America/New_York:20210505T163000
DTEND;TZID=America/New_York:20210505T183000
DTSTAMP:20260422T074729
CREATED:20210426T231023Z
LAST-MODIFIED:20210426T233232Z
UID:26981-1620232200-1620239400@old.ypc.org
SUMMARY:Chorale (Full) Rehearsal
DESCRIPTION:Weekly on Wednesdays from 4:30-6:30 P.M.\nAt YPC – Cohort C \nVisit the chorister login page for more info or to contact your conductor. \nhttps://zoom.us/j/95236652829\nMeeting ID: 952 3665 2829\nRefer to chorister login for password. \n< Back to Chorister Calendar
URL:https://old.ypc.org/event/chorale-full-rehearsal-9/2021-05-05/
LOCATION:Zoom Rehearsal
CATEGORIES:Performance Chorus,Private
END:VEVENT
BEGIN:VEVENT
DTSTART;TZID=America/New_York:20210506T170000
DTEND;TZID=America/New_York:20210506T180000
DTSTAMP:20260422T074729
CREATED:20210426T231458Z
LAST-MODIFIED:20210426T231458Z
UID:26987-1620320400-1620324000@old.ypc.org
SUMMARY:Community Senior Choruses Rehearsal
DESCRIPTION:Weekly on Thursdays from 5:00-6:00 P.M.\nVisit the chorister login page for more info or to contact your conductor. \nhttps://us02web.zoom.us/j/82709013243  \nMeeting ID: 827 0901 3243 \nRefer to the chorister login for password. \n< Back to Chorister Calendar
URL:https://old.ypc.org/event/community-senior-choruses-rehearsal-5/2021-05-06/
LOCATION:Zoom Rehearsal
CATEGORIES:Community Chorus,Private
END:VEVENT
BEGIN:VEVENT
DTSTART;TZID=America/New_York:20210506T173000
DTEND;TZID=America/New_York:20210506T184500
DTSTAMP:20260422T074729
CREATED:20210426T232013Z
LAST-MODIFIED:20210426T233011Z
UID:26993-1620322200-1620326700@old.ypc.org
SUMMARY:Cantare Rehearsal
DESCRIPTION:Weekly on Thursdays from 5:30-6:45 P.M.\nAT YPC – Cohort B \nVisit the chorister login page for more info or to contact your conductor. \nhttps://zoom.us/j/91710398628\nMeeting ID: 917 1039 8628\nRefer to chorister login for password. \n< Back to Chorister Calendar
URL:https://old.ypc.org/event/cantare-rehearsal-13/2021-05-06/
LOCATION:Zoom Rehearsal
CATEGORIES:Performance Chorus,Private
END:VEVENT
BEGIN:VEVENT
DTSTART;TZID=America/New_York:20210507T163000
DTEND;TZID=America/New_York:20210507T183000
DTSTAMP:20260422T074729
CREATED:20210505T192008Z
LAST-MODIFIED:20210507T154151Z
UID:27229-1620405000-1620412200@old.ypc.org
SUMMARY:Goodbye\, Mr. Chips Rehearsal
DESCRIPTION:In-person rehearsal Friday from 4:30-6:30 P.M.\nVisit the chorister login page for more info or to contact your conductor. \n< Back to Chorister Calendar
URL:https://old.ypc.org/event/goodbye-mr-chips-rehearsal/
LOCATION:YPC’s Home\, 37 W 65th Street\, 2nd Floor\, New York\, NY\, 10023\, United States
CATEGORIES:Performance Chorus,Private
GEO:40.7728753;-73.9812519
X-APPLE-STRUCTURED-LOCATION;VALUE=URI;X-ADDRESS=YPC’s Home 37 W 65th Street 2nd Floor New York NY 10023 United States;X-APPLE-RADIUS=500;X-TITLE=37 W 65th Street\, 2nd Floor:geo:-73.9812519,40.7728753
END:VEVENT
END:VCALENDAR