BEGIN:VCALENDAR
VERSION:2.0
PRODID:-//Young People&#039;s Chorus of NYC - ECPv6.2.9//NONSGML v1.0//EN
CALSCALE:GREGORIAN
METHOD:PUBLISH
X-WR-CALNAME:Young People&#039;s Chorus of NYC
X-ORIGINAL-URL:https://old.ypc.org
X-WR-CALDESC:Events for Young People&#039;s Chorus of NYC
REFRESH-INTERVAL;VALUE=DURATION:PT1H
X-Robots-Tag:noindex
X-PUBLISHED-TTL:PT1H
BEGIN:VTIMEZONE
TZID:America/New_York
BEGIN:DAYLIGHT
TZOFFSETFROM:-0500
TZOFFSETTO:-0400
TZNAME:EDT
DTSTART:20210314T070000
END:DAYLIGHT
BEGIN:STANDARD
TZOFFSETFROM:-0400
TZOFFSETTO:-0500
TZNAME:EST
DTSTART:20211107T060000
END:STANDARD
END:VTIMEZONE
BEGIN:VEVENT
DTSTART;TZID=America/New_York:20210413T170000
DTEND;TZID=America/New_York:20210413T183000
DTSTAMP:20260422T140835
CREATED:20210326T020832Z
LAST-MODIFIED:20210413T180442Z
UID:26118-1618333200-1618338600@old.ypc.org
SUMMARY:Amani Rehearsal
DESCRIPTION:Weekly on Tuesday from 5:00-6:30 P.M.\nVisit the chorister login page for more info or to contact your conductor. \nhttps://us02web.zoom.us/j/86947099058\nMeeting ID: 869 4709 9058\nRefer to chorister login page for password. \n< Back to Chorister Calendar
URL:https://old.ypc.org/event/amani-rehearsal-6-2021-04-13/
LOCATION:Zoom Rehearsal
CATEGORIES:Performance Chorus,Private
END:VEVENT
BEGIN:VEVENT
DTSTART;TZID=America/New_York:20210413T170000
DTEND;TZID=America/New_York:20210413T183000
DTSTAMP:20260422T140835
CREATED:20210326T021020Z
LAST-MODIFIED:20210413T180253Z
UID:26124-1618333200-1618338600@old.ypc.org
SUMMARY:Chorale (Lower Voices) Rehearsal
DESCRIPTION:Weekly on Tuesdays from 5:00-6:30 P.M.\nVisit the chorister login page for more info or to contact your conductor. \nhttps://zoom.us/j/95086013130\nMeeting ID: 950 8601 3130\nRefer to chorister login page for password. \n< Back to Chorister Calendar
URL:https://old.ypc.org/event/chorale-lower-voices-rehearsal-6-2021-04-13/
LOCATION:Zoom Rehearsal
CATEGORIES:Performance Chorus,Private
END:VEVENT
BEGIN:VEVENT
DTSTART;TZID=America/New_York:20210414T183000
DTEND;TZID=America/New_York:20210414T200000
DTSTAMP:20260422T140835
CREATED:20210325T151237Z
LAST-MODIFIED:20210325T151237Z
UID:25879-1618425000-1618430400@old.ypc.org
SUMMARY:Howard University - Music Dept. Panel Discussion
DESCRIPTION:Panel discussions from 6:30-8:00 P.M.\nFor 10th & 11th Graders \nVisit the chorister login page for more info or to contact your conductor. \nhttps://zoom.us/j/95236652829\nMeeting ID: 952 3665 2829\nPasscode: 007517 \n< Back to Chorister Calendar
URL:https://old.ypc.org/event/howard-university-music-dept-panel-discussion/
LOCATION:NY
CATEGORIES:Performance Chorus,Private
END:VEVENT
BEGIN:VEVENT
DTSTART;TZID=America/New_York:20210416T163000
DTEND;TZID=America/New_York:20210416T180000
DTSTAMP:20260422T140835
CREATED:20210326T022748Z
LAST-MODIFIED:20210326T022748Z
UID:26173-1618590600-1618596000@old.ypc.org
SUMMARY:Intermezzo Extra Rehearsal
DESCRIPTION:Extra Friday rehearsal from 4:30-6:00 P.M.\nVisit the chorister login page for more info or to contact your conductor. \nhttps://zoom.us/j/94817329346\nMeeting ID: 948 1732 9346\nRefer to the chorister login page for password. \n< Back to Chorister Calendar
URL:https://old.ypc.org/event/intermezzo-extra-rehearsal-5/
LOCATION:Zoom Rehearsal
CATEGORIES:Performance Chorus,Private
END:VEVENT
BEGIN:VEVENT
DTSTART;TZID=America/New_York:20210416T163000
DTEND;TZID=America/New_York:20210416T183000
DTSTAMP:20260422T140835
CREATED:20210326T021922Z
LAST-MODIFIED:20210416T173657Z
UID:26148-1618590600-1618597800@old.ypc.org
SUMMARY:Chorale (Full) Rehearsal
DESCRIPTION:Weekly on Fridays from 4:30-6:30 P.M.\nVisit the chorister login page for more info or to contact your conductor. \nhttps://zoom.us/j/99804484914 \nMeeting ID: 998 0448 4914 \nThe password will be emailed. \n< Back to Chorister Calendar
URL:https://old.ypc.org/event/chorale-full-rehearsal-8-2021-04-16/
LOCATION:Zoom Rehearsal
CATEGORIES:Performance Chorus,Private
END:VEVENT
BEGIN:VEVENT
DTSTART;TZID=America/New_York:20210416T170000
DTEND;TZID=America/New_York:20210416T181500
DTSTAMP:20260422T140835
CREATED:20210326T022101Z
LAST-MODIFIED:20210416T173737Z
UID:26154-1618592400-1618596900@old.ypc.org
SUMMARY:Amani Rehearsal
DESCRIPTION:Weekly on Fridays from 5:00-6:15 P.M.\nVisit the chorister login page for more info or to contact your conductor. \nhttps://zoom.us/j/99804484914 \nMeeting ID: 998 0448 4914 \nThe password will be emailed. \n< Back to Chorister Calendar
URL:https://old.ypc.org/event/amani-rehearsal-8-2021-04-16/
LOCATION:Zoom Rehearsal
CATEGORIES:Performance Chorus,Private
END:VEVENT
BEGIN:VEVENT
DTSTART;TZID=America/New_York:20210416T170000
DTEND;TZID=America/New_York:20210416T181500
DTSTAMP:20260422T140835
CREATED:20210416T182603Z
LAST-MODIFIED:20210416T182603Z
UID:26702-1618592400-1618596900@old.ypc.org
SUMMARY:Invited Amani & Chorale: Impossible Dream Rehearsal
DESCRIPTION:Friday from 5:00-6:15 P.M.\nVisit the chorister login page for more info or to contact your conductor. \nhttps://zoom.us/j/99804484914\nMeeting ID: 998 0448 4914\nPassword will be emailed.\n< Back to Chorister Calendar
URL:https://old.ypc.org/event/invited-amani-chorale-impossible-dream-rehearsal/
LOCATION:Zoom Rehearsal
CATEGORIES:Performance Chorus,Private
END:VEVENT
BEGIN:VEVENT
DTSTART;TZID=America/New_York:20210417T110000
DTEND;TZID=America/New_York:20210417T130000
DTSTAMP:20260422T140835
CREATED:20210326T023055Z
LAST-MODIFIED:20210326T023055Z
UID:26176-1618657200-1618664400@old.ypc.org
SUMMARY:"Beauty Come Dancing" Rehearsal
DESCRIPTION:Saturday from 11:00 A.M.-1:00 P.M.\nVisit the chorister login page for more info or to contact your conductor. \nhttps://zoom.us/j/95236652829\nMeeting ID: 952 3665 2829\nRefer to chorister login page for password. \n< Back to Chorister Calendar
URL:https://old.ypc.org/event/beauty-come-dancing-rehearsal/
LOCATION:Zoom Rehearsal
CATEGORIES:Performance Chorus,Private
END:VEVENT
BEGIN:VEVENT
DTSTART;TZID=America/New_York:20210417T130000
DTEND;TZID=America/New_York:20210417T140000
DTSTAMP:20260422T140835
CREATED:20210416T170942Z
LAST-MODIFIED:20210416T170942Z
UID:26641-1618664400-1618668000@old.ypc.org
SUMMARY:At-Home Recording Session - CH\, CA\, AM
DESCRIPTION:Saturday from 1:00-2:00 P.M.\n\n\n\nPlease join the Zoom ready to record\, in your performance attire. Hair pulled back; If wearing makeup\, natural looks only; No jewelry or accessories\n\n\n\nVisit the chorister login page for more info or to contact your conductor. \nhttps://zoom.us/j/99804484914\nMeeting ID: 998 0448 4914\nPassword will be shared via email. \n< Back to Chorister Calendar
URL:https://old.ypc.org/event/at-home-recording-session-ch-ca-am/
LOCATION:Zoom Rehearsal
CATEGORIES:Performance Chorus,Private
END:VEVENT
BEGIN:VEVENT
DTSTART;TZID=America/New_York:20210418T130000
DTEND;TZID=America/New_York:20210418T180000
DTSTAMP:20260422T140835
CREATED:20210326T024103Z
LAST-MODIFIED:20210414T170225Z
UID:26192-1618750800-1618768800@old.ypc.org
SUMMARY:Gala Filming - Marcus Garvey Park
DESCRIPTION:In-person filming Sunday from 1:00-6:00 P.M.\nVisit the chorister login page for more info or to contact your conductor. \n1:00-3:00 P.M. Group 1 \n2:00-4:00 P.M. Group 2 \n3:00-5:00 P.M. Group 3 \n4:00-6:00 P.M.  Group 4 \nSongs: Fearless Angel \nLocation: Marcus Garvey Park –Richard Rodgers Amphitheater\, 18 Mt Morris Park W\, New York\, NY 10027\, USA \n< Back to Chorister Calendar
URL:https://old.ypc.org/event/gala-filming-marcus-garvey-park-2/
LOCATION:Marcus Garvey Park\, 18 Mt Morris Park W\, New York\,\, NY\, 10027
CATEGORIES:Community Chorus,Private
GEO:40.8050093;-73.9448633
X-APPLE-STRUCTURED-LOCATION;VALUE=URI;X-ADDRESS=Marcus Garvey Park 18 Mt Morris Park W New York NY 10027;X-APPLE-RADIUS=500;X-TITLE=18 Mt Morris Park W:geo:-73.9448633,40.8050093
END:VEVENT
END:VCALENDAR