BEGIN:VCALENDAR
VERSION:2.0
PRODID:-//Young People&#039;s Chorus of NYC - ECPv6.2.9//NONSGML v1.0//EN
CALSCALE:GREGORIAN
METHOD:PUBLISH
X-WR-CALNAME:Young People&#039;s Chorus of NYC
X-ORIGINAL-URL:https://old.ypc.org
X-WR-CALDESC:Events for Young People&#039;s Chorus of NYC
REFRESH-INTERVAL;VALUE=DURATION:PT1H
X-Robots-Tag:noindex
X-PUBLISHED-TTL:PT1H
BEGIN:VTIMEZONE
TZID:America/New_York
BEGIN:DAYLIGHT
TZOFFSETFROM:-0500
TZOFFSETTO:-0400
TZNAME:EDT
DTSTART:20210314T070000
END:DAYLIGHT
BEGIN:STANDARD
TZOFFSETFROM:-0400
TZOFFSETTO:-0500
TZNAME:EST
DTSTART:20211107T060000
END:STANDARD
END:VTIMEZONE
BEGIN:VEVENT
DTSTART;TZID=America/New_York:20210329T030000
DTEND;TZID=America/New_York:20210329T180000
DTSTAMP:20260422T140907
CREATED:20210326T011034Z
LAST-MODIFIED:20210326T011034Z
UID:26057-1616986800-1617040800@old.ypc.org
SUMMARY:Cantare Rehearsal
DESCRIPTION:Monday from 3:00-6:00 P.M.\nRehearsal for Red Light\, Green Light. \nVisit the chorister login page for more info or to contact your conductor. \nhttps://zoom.us/j/97885767486\nMeeting ID: 978 8576 7486\nRefer to chorister login page for password. \n< Back to Chorister Calendar
URL:https://old.ypc.org/event/cantare-rehearsal-10/
LOCATION:Zoom Rehearsal
CATEGORIES:Performance Chorus,Private
END:VEVENT
BEGIN:VEVENT
DTSTART;TZID=America/New_York:20210329T120000
DTEND;TZID=America/New_York:20210329T153000
DTSTAMP:20260422T140907
CREATED:20210327T011110Z
LAST-MODIFIED:20210327T011110Z
UID:26263-1617019200-1617031800@old.ypc.org
SUMMARY:Chorale (Full) Extra Rehearsal - Ain't No Mountain High Enough
DESCRIPTION:Monday from 4:00-5:30 P.M.\nVisit the chorister login page for more info or to contact your conductor. \nhttps://us02web.zoom.us/j/88478049072\nMeeting ID: 884 7804 9072\nRefer to chorister login page for password. \n< Back to Chorister Calendar
URL:https://old.ypc.org/event/chorale-full-rehearsal-added/
LOCATION:Zoom Rehearsal
CATEGORIES:Performance Chorus,Private
END:VEVENT
BEGIN:VEVENT
DTSTART;TZID=America/New_York:20210330T090000
DTEND;TZID=America/New_York:20210330T120000
DTSTAMP:20260422T140907
CREATED:20210325T001334Z
LAST-MODIFIED:20210326T172847Z
UID:25860-1617094800-1617105600@old.ypc.org
SUMMARY:Gala Cantare Filming
DESCRIPTION:Filming time 9:00 A.M. – 12:00 P.M.\nVisit the chorister login page for more info or to contact your conductor. \nIn-person filming for Red Light Green Light at Domino Park in Brooklyn. More details to come. \n< Back to Chorister Calendar
URL:https://old.ypc.org/event/gala-cantare-filming/
LOCATION:Domino Park
CATEGORIES:Performance Chorus,Private
END:VEVENT
BEGIN:VEVENT
DTSTART;TZID=America/New_York:20210330T120000
DTEND;TZID=America/New_York:20210330T160000
DTSTAMP:20260422T140907
CREATED:20210326T173022Z
LAST-MODIFIED:20210326T173124Z
UID:26253-1617105600-1617120000@old.ypc.org
SUMMARY:Gala Chorale (Full) Filming
DESCRIPTION:t
URL:https://old.ypc.org/event/gala-chorale-filming/
LOCATION:Domino Park
CATEGORIES:Performance Chorus,Private
END:VEVENT
BEGIN:VEVENT
DTSTART;TZID=America/New_York:20210331T103000
DTEND;TZID=America/New_York:20210331T123000
DTSTAMP:20260422T140907
CREATED:20210326T012556Z
LAST-MODIFIED:20210326T012556Z
UID:26074-1617186600-1617193800@old.ypc.org
SUMMARY:Intermezzo Gala Camp
DESCRIPTION:Wednesday from 10:30 A.M.-12:30 P.M.\nVisit the chorister login page for more info or to contact your conductor. \nhttps://zoom.us/j/188622087\nMeeting ID: 188 622 087\nRefer to chorister login page for password. \n< Back to Chorister Calendar
URL:https://old.ypc.org/event/intermezzo-rehearsal-gala-camp-2/
LOCATION:Zoom Rehearsal
CATEGORIES:Performance Chorus,Private
END:VEVENT
BEGIN:VEVENT
DTSTART;TZID=America/New_York:20210331T120000
DTEND;TZID=America/New_York:20210331T140000
DTSTAMP:20260422T140907
CREATED:20210326T013004Z
LAST-MODIFIED:20210326T013004Z
UID:26078-1617192000-1617199200@old.ypc.org
SUMMARY:Cantare Gala Camp
DESCRIPTION:Wednesday from 12:00-2:00 P.M.\n\n12:00-1:00 p.m. Razz/Indi (all Zoom)\n1:00-2:00 p.m. Aqua/Ceru (all Zoom)\n\nVisit the chorister login page for more info or to contact your conductor. \nhttps://us02web.zoom.us/j/891959109 \nMeeting ID: 891 959 109\nRefer to chorister login page for password. \n< Back to Chorister Calendar
URL:https://old.ypc.org/event/cantare-gala-camp-2/
LOCATION:Zoom Rehearsal
CATEGORIES:Performance Chorus,Private
END:VEVENT
BEGIN:VEVENT
DTSTART;TZID=America/New_York:20210401T103000
DTEND;TZID=America/New_York:20210401T123000
DTSTAMP:20260422T140907
CREATED:20210326T014545Z
LAST-MODIFIED:20210326T014545Z
UID:26088-1617273000-1617280200@old.ypc.org
SUMMARY:Intermezzo Gala Camp
DESCRIPTION:Thursday from 10:30 A.M.-12:30 P.M.\nVisit the chorister login page for more info or to contact your conductor. \nhttps://zoom.us/j/94817329346 \nMeeting ID: 948 1732 9346\nRefer to chorister login page for password. \n< Back to Chorister Calendar
URL:https://old.ypc.org/event/intermezzo-rehearsal-gala-camp-3/
LOCATION:Zoom Rehearsal
CATEGORIES:Performance Chorus,Private
END:VEVENT
BEGIN:VEVENT
DTSTART;TZID=America/New_York:20210401T173000
DTEND;TZID=America/New_York:20210401T184500
DTSTAMP:20260422T140907
CREATED:20210326T014821Z
LAST-MODIFIED:20210331T200114Z
UID:26092-1617298200-1617302700@old.ypc.org
SUMMARY:Cantare Gala Camp
DESCRIPTION:Thursday from 5:30-6:45 P.M.\nVisit the chorister login page for more info or to contact your conductor. \nhttps://zoom.us/j/97885767486 \nMeeting ID: 978 8576 7486\nRefer to chorister login page for password. \n< Back to Chorister Calendar
URL:https://old.ypc.org/event/cantare-gala-camp-3/
LOCATION:Zoom Rehearsal
CATEGORIES:Performance Chorus,Private
END:VEVENT
END:VCALENDAR