BEGIN:VCALENDAR
VERSION:2.0
PRODID:-//Young People&#039;s Chorus of NYC - ECPv6.2.9//NONSGML v1.0//EN
CALSCALE:GREGORIAN
METHOD:PUBLISH
X-WR-CALNAME:Young People&#039;s Chorus of NYC
X-ORIGINAL-URL:https://old.ypc.org
X-WR-CALDESC:Events for Young People&#039;s Chorus of NYC
REFRESH-INTERVAL;VALUE=DURATION:PT1H
X-Robots-Tag:noindex
X-PUBLISHED-TTL:PT1H
BEGIN:VTIMEZONE
TZID:America/New_York
BEGIN:DAYLIGHT
TZOFFSETFROM:-0500
TZOFFSETTO:-0400
TZNAME:EDT
DTSTART:20210314T070000
END:DAYLIGHT
BEGIN:STANDARD
TZOFFSETFROM:-0400
TZOFFSETTO:-0500
TZNAME:EST
DTSTART:20211107T060000
END:STANDARD
END:VTIMEZONE
BEGIN:VEVENT
DTSTART;TZID=America/New_York:20210315T163000
DTEND;TZID=America/New_York:20210315T180000
DTSTAMP:20260422T140305
CREATED:20210219T191412Z
LAST-MODIFIED:20210225T225937Z
UID:24421-1615825800-1615831200@old.ypc.org
SUMMARY:Intermezzo Rehearsal
DESCRIPTION:Weekly on Mondays from 4:30-6:00 P.M.\nVisit the chorister login page for more info or to contact your conductor. \nhttps://zoom.us/j/188622087\nMeeting ID: 188 622 087\nPasscode: 9875647 \n< Back to Chorister Calendar
URL:https://old.ypc.org/event/intermezzo-rehearsal-7-2021-03-15/
LOCATION:Zoom Rehearsal
CATEGORIES:Performance Chorus,Private
END:VEVENT
BEGIN:VEVENT
DTSTART;TZID=America/New_York:20210315T163000
DTEND;TZID=America/New_York:20210315T183000
DTSTAMP:20260422T140305
CREATED:20210219T191706Z
LAST-MODIFIED:20210315T195926Z
UID:24434-1615825800-1615833000@old.ypc.org
SUMMARY:Chorale (Treble Voices) Rehearsal
DESCRIPTION:Weekly on Mondays from 4:30-6:30 P.M.\nAt YPC – Cohort A \nVisit the chorister login page for more info or to contact your conductor. \nhttps://us02web.zoom.us/j/88478049072\nMeeting ID: 884 7804 9072\nPasscode: 561562 \n< Back to Chorister Calendar
URL:https://old.ypc.org/event/chorale-treble-voices-rehearsal-5-2021-03-15/
LOCATION:Zoom Rehearsal
CATEGORIES:Performance Chorus,Private
END:VEVENT
BEGIN:VEVENT
DTSTART;TZID=America/New_York:20210316T161500
DTEND;TZID=America/New_York:20210316T171500
DTSTAMP:20260422T140305
CREATED:20210219T192451Z
LAST-MODIFIED:20210310T183038Z
UID:24462-1615911300-1615914900@old.ypc.org
SUMMARY:Community Junior Choruses Rehearsal
DESCRIPTION:Weekly on Tuesdays from 4:15-5:15 P.M.\nVisit the chorister login page for more info or to contact your conductor. \nhttps://zoom.us/j/94553257656\nMeeting ID: 945 5325 7656\nPasscode: 932207 \n< Back to Chorister Calendar
URL:https://old.ypc.org/event/community-junior-choruses-rehearsal-5-2021-03-16/2021-03-16/
LOCATION:Zoom Rehearsal
CATEGORIES:Community Chorus,Private
END:VEVENT
BEGIN:VEVENT
DTSTART;TZID=America/New_York:20210316T163000
DTEND;TZID=America/New_York:20210316T183000
DTSTAMP:20260422T140305
CREATED:20210219T191940Z
LAST-MODIFIED:20210316T205439Z
UID:24441-1615912200-1615919400@old.ypc.org
SUMMARY:Amani Rehearsal
DESCRIPTION:Weekly on Tuesdays from 4:30-6:30 P.M.\nVisit the chorister login page for more info or to contact your conductor. \nhttps://zoom.us/j/95086013130\nMeeting ID: 950 8601 3130\nPasscode: 182203 \n< Back to Chorister Calendar
URL:https://old.ypc.org/event/amani-rehearsal-5-2021-03-16/
LOCATION:Zoom Rehearsal
CATEGORIES:Performance Chorus,Private
END:VEVENT
BEGIN:VEVENT
DTSTART;TZID=America/New_York:20210316T163000
DTEND;TZID=America/New_York:20210316T183000
DTSTAMP:20260422T140305
CREATED:20210219T192139Z
LAST-MODIFIED:20210316T203004Z
UID:24448-1615912200-1615919400@old.ypc.org
SUMMARY:Chorale (Lower Voices) Rehearsal
DESCRIPTION:Weekly on Tuesdays from 4:30-6:30 P.M.\nAt YPC – Cohort B \nVisit the chorister login page for more info or to contact your conductor. \nhttps://zoom.us/j/95086013130\nMeeting ID: 950 8601 3130\nPasscode: 182203 \n< Back to Chorister Calendar
URL:https://old.ypc.org/event/chorale-lower-voices-rehearsal-5-2021-03-16/
LOCATION:Zoom Rehearsal
CATEGORIES:Performance Chorus,Private
END:VEVENT
BEGIN:VEVENT
DTSTART;TZID=America/New_York:20210316T173000
DTEND;TZID=America/New_York:20210316T184500
DTSTAMP:20260422T140305
CREATED:20210219T192634Z
LAST-MODIFIED:20210310T182330Z
UID:24502-1615915800-1615920300@old.ypc.org
SUMMARY:Cantare Rehearsal
DESCRIPTION:Weekly on Tuesdays from 5:30-6:45 P.M.\nAt YPC – Cohort C \nVisit the chorister login page for more info or to contact your conductor. \nhttps://zoom.us/j/97885767486\nMeeting ID: 978 8576 7486\nPasscode: 138764 \n< Back to Chorister Calendar
URL:https://old.ypc.org/event/cantare-rehearsal-7-2021-03-16/
LOCATION:Zoom Rehearsal
CATEGORIES:Performance Chorus,Private
END:VEVENT
BEGIN:VEVENT
DTSTART;TZID=America/New_York:20210317T163000
DTEND;TZID=America/New_York:20210317T183000
DTSTAMP:20260422T140305
CREATED:20210219T192821Z
LAST-MODIFIED:20210316T184841Z
UID:24476-1615998600-1616005800@old.ypc.org
SUMMARY:Chorale (Full) Rehearsal
DESCRIPTION:Weekly on Wednesdays from 4:30-6:30 P.M.\nAt YPC – Cohort C \nVisit the chorister login page for more info or to contact your conductor. \nhttps://zoom.us/j/95236652829\nMeeting ID: 952 3665 2829\nPasscode: 007517 \n< Back to Chorister Calendar
URL:https://old.ypc.org/event/chorale-full-rehearsal-5-2021-03-17/
LOCATION:Zoom Rehearsal
CATEGORIES:Performance Chorus,Private
END:VEVENT
BEGIN:VEVENT
DTSTART;TZID=America/New_York:20210318T170000
DTEND;TZID=America/New_York:20210318T184500
DTSTAMP:20260422T140305
CREATED:20210304T000047Z
LAST-MODIFIED:20210310T181941Z
UID:24706-1616086800-1616093100@old.ypc.org
SUMMARY:Cantare Rehearsal
DESCRIPTION:Weekly on Thursdays from 5:00-6:45 P.M.\nAt YPC – Cohort D \nVisit the chorister login page for more info or to contact your conductor. \nhttps://zoom.us/j/91710398628\nMeeting ID: 917 1039 8628\nPasscode: 133000 \n< Back to Chorister Calendar
URL:https://old.ypc.org/event/cantare-rehearsal-8-2021-03-18/
LOCATION:Zoom Rehearsal
CATEGORIES:Performance Chorus,Private
END:VEVENT
BEGIN:VEVENT
DTSTART;TZID=America/New_York:20210319T163000
DTEND;TZID=America/New_York:20210319T180000
DTSTAMP:20260422T140305
CREATED:20210225T230040Z
LAST-MODIFIED:20210311T191729Z
UID:24623-1616171400-1616176800@old.ypc.org
SUMMARY:Intermezzo Extra Rehearsal
DESCRIPTION:Extra Friday rehearsal from 4:30-6:00 P.M.\nVisit the chorister login page for more info or to contact your conductor. \nhttps://zoom.us/j/94817329346\nMeeting ID: 948 1732 9346\nPasscode: 108023 \n< Back to Chorister Calendar
URL:https://old.ypc.org/event/intermezzo-extra-rehearsal-2/
LOCATION:Zoom Rehearsal
CATEGORIES:Performance Chorus,Private
END:VEVENT
BEGIN:VEVENT
DTSTART;TZID=America/New_York:20210319T163000
DTEND;TZID=America/New_York:20210319T183000
DTSTAMP:20260422T140305
CREATED:20210305T203911Z
LAST-MODIFIED:20210316T184910Z
UID:24850-1616171400-1616178600@old.ypc.org
SUMMARY:Chorale (Full) Rehearsal
DESCRIPTION:Weekly on Fridays from 4:30-6:30 P.M.\nAt YPC – Cohort D \nVisit the chorister login page for more info or to contact your conductor. \nhttps://zoom.us/j/95236652829\nMeeting ID: 952 3665 2829\nPasscode: 007517 \n< Back to Chorister Calendar
URL:https://old.ypc.org/event/chorale-full-rehearsal-6-2021-03-19/
LOCATION:Zoom Rehearsal
CATEGORIES:Performance Chorus,Private
END:VEVENT
BEGIN:VEVENT
DTSTART;TZID=America/New_York:20210319T170000
DTEND;TZID=America/New_York:20210319T181500
DTSTAMP:20260422T140305
CREATED:20210319T153908Z
LAST-MODIFIED:20210319T153908Z
UID:25578-1616173200-1616177700@old.ypc.org
SUMMARY:Amani Added Rehearsal
DESCRIPTION:Weekly on Fridays from 5:00-6:15 P.M.\nVisit the chorister login page for more info or to contact your conductor. \nhttps://zoom.us/j/95236652829\nMeeting ID: 952 3665 2829\nPasscode: 007517 \n< Back to Chorister Calendar
URL:https://old.ypc.org/event/amani-added-rehearsal/2021-03-19/
LOCATION:Zoom Rehearsal
CATEGORIES:Performance Chorus,Private
END:VEVENT
BEGIN:VEVENT
DTSTART;TZID=America/New_York:20210320T100000
DTEND;TZID=America/New_York:20210320T113000
DTSTAMP:20260422T140305
CREATED:20210318T225836Z
LAST-MODIFIED:20210318T230200Z
UID:25567-1616234400-1616239800@old.ypc.org
SUMMARY:Intermezzo Extra Rehearsal
DESCRIPTION:Extra Saturday rehearsal from 10:00-11:30 A.M.\nVisit the chorister login page for more info or to contact your conductor. \nhttps://zoom.us/j/94817329346 \nMeeting ID: 948 1732 9346 \nPasscode: 108023 \n< Back to Chorister Calendar
URL:https://old.ypc.org/event/intermezzo-extra-rehearsal-3-2/
LOCATION:Zoom Rehearsal
CATEGORIES:Performance Chorus,Private
END:VEVENT
BEGIN:VEVENT
DTSTART;TZID=America/New_York:20210320T140000
DTEND;TZID=America/New_York:20210320T163000
DTSTAMP:20260422T140305
CREATED:20210319T155923Z
LAST-MODIFIED:20210319T155923Z
UID:25590-1616248800-1616257800@old.ypc.org
SUMMARY:Cantare Extra Rehearsal
DESCRIPTION:Extra rehearsal Saturday from 2:00-4:30 P.M.\nVisit the chorister login page for more info or to contact your conductor. \nhttps://zoom.us/j/91710398628\nMeeting ID: 917 1039 8628\nPasscode: 133000 \n< Back to Chorister Calendar
URL:https://old.ypc.org/event/cantare-extra-rehearsal/
LOCATION:Zoom Rehearsal
CATEGORIES:Performance Chorus,Private
END:VEVENT
BEGIN:VEVENT
DTSTART;TZID=America/New_York:20210320T153000
DTEND;TZID=America/New_York:20210320T170000
DTSTAMP:20260422T140305
CREATED:20210319T200611Z
LAST-MODIFIED:20210319T200611Z
UID:25608-1616254200-1616259600@old.ypc.org
SUMMARY:Chorale (Treble Voices) Extra Rehearsal
DESCRIPTION:Extra rehearsal from 3:30-5:00 P.M.\nVisit the chorister login page for more info or to contact your conductor. \nhttps://us02web.zoom.us/j/88478049072 \nMeeting ID: 884 7804 9072 \nPasscode: 561562 \n< Back to Chorister Calendar
URL:https://old.ypc.org/event/chorale-treble-voices-extra-rehearsal/
LOCATION:Zoom Rehearsal
CATEGORIES:Performance Chorus,Private
END:VEVENT
END:VCALENDAR