BEGIN:VCALENDAR
VERSION:2.0
PRODID:-//Young People&#039;s Chorus of NYC - ECPv6.2.9//NONSGML v1.0//EN
CALSCALE:GREGORIAN
METHOD:PUBLISH
X-WR-CALNAME:Young People&#039;s Chorus of NYC
X-ORIGINAL-URL:https://old.ypc.org
X-WR-CALDESC:Events for Young People&#039;s Chorus of NYC
REFRESH-INTERVAL;VALUE=DURATION:PT1H
X-Robots-Tag:noindex
X-PUBLISHED-TTL:PT1H
BEGIN:VTIMEZONE
TZID:America/New_York
BEGIN:DAYLIGHT
TZOFFSETFROM:-0500
TZOFFSETTO:-0400
TZNAME:EDT
DTSTART:20210314T070000
END:DAYLIGHT
BEGIN:STANDARD
TZOFFSETFROM:-0400
TZOFFSETTO:-0500
TZNAME:EST
DTSTART:20211107T060000
END:STANDARD
END:VTIMEZONE
BEGIN:VEVENT
DTSTART;TZID=America/New_York:20211012T190000
DTEND;TZID=America/New_York:20211012T200000
DTSTAMP:20260421T212435
CREATED:20210928T210738Z
LAST-MODIFIED:20210928T211040Z
UID:32581-1634065200-1634068800@old.ypc.org
SUMMARY:Open House CA/AM/CH Parents (Virtual)
DESCRIPTION:Tuesday\, 7:00-8:00 p.m.\nZoom link TBD \nYPC Season introduction for parents to see what their children are working on in rehearsals and to talk through logistics of the season. \nVisit the chorister login page for more info or to contact your conductor. \n< Back to Chorister Calendar
URL:https://old.ypc.org/event/open-house-ca-am-ch-virtual/2021-10-12/
LOCATION:Virtual Event\, 200 Hurd Rd\, Bethel\, NY\, 12720\, United States
CATEGORIES:Performance Chorus,Private
GEO:41.6971197;-74.877752
X-APPLE-STRUCTURED-LOCATION;VALUE=URI;X-ADDRESS=Virtual Event 200 Hurd Rd Bethel NY 12720 United States;X-APPLE-RADIUS=500;X-TITLE=200 Hurd Rd:geo:-74.877752,41.6971197
END:VEVENT
END:VCALENDAR