BEGIN:VCALENDAR
VERSION:2.0
PRODID:-//Young People&#039;s Chorus of NYC - ECPv6.2.9//NONSGML v1.0//EN
CALSCALE:GREGORIAN
METHOD:PUBLISH
X-WR-CALNAME:Young People&#039;s Chorus of NYC
X-ORIGINAL-URL:https://old.ypc.org
X-WR-CALDESC:Events for Young People&#039;s Chorus of NYC
REFRESH-INTERVAL;VALUE=DURATION:PT1H
X-Robots-Tag:noindex
X-PUBLISHED-TTL:PT1H
BEGIN:VTIMEZONE
TZID:America/New_York
BEGIN:DAYLIGHT
TZOFFSETFROM:-0500
TZOFFSETTO:-0400
TZNAME:EDT
DTSTART:20210314T070000
END:DAYLIGHT
BEGIN:STANDARD
TZOFFSETFROM:-0400
TZOFFSETTO:-0500
TZNAME:EST
DTSTART:20211107T060000
END:STANDARD
END:VTIMEZONE
BEGIN:VEVENT
DTSTART;TZID=America/New_York:20210925T110000
DTEND;TZID=America/New_York:20210925T130000
DTSTAMP:20260421T225241
CREATED:20210923T222151Z
LAST-MODIFIED:20220620T215423Z
UID:32451-1632567600-1632574800@old.ypc.org
SUMMARY:Seniors - Common App Boot Camp (Virtual)
DESCRIPTION:Saturday 9/25\, 11:00 a.m. – 1:00 p.m.\nZOOM DETAILS:\n\nhttps://us02web.zoom.us/j/89801416769\nMeeting ID: 898 0141 6769\nPasscode: YPCEDU\n\nVisit the chorister login page for more info or to contact your conductor.\n< Back to Chorister Calendar
URL:https://old.ypc.org/event/amani-rehearsal-13-2-2-3/2021-09-25/
LOCATION:Virtual Event\, 200 Hurd Rd\, Bethel\, NY\, 12720\, United States
CATEGORIES:Performance Chorus,Private
GEO:41.6971197;-74.877752
X-APPLE-STRUCTURED-LOCATION;VALUE=URI;X-ADDRESS=Virtual Event 200 Hurd Rd Bethel NY 12720 United States;X-APPLE-RADIUS=500;X-TITLE=200 Hurd Rd:geo:-74.877752,41.6971197
END:VEVENT
BEGIN:VEVENT
DTSTART;TZID=America/New_York:20210925T163000
DTEND;TZID=America/New_York:20210925T183000
DTSTAMP:20260421T225241
CREATED:20210914T000756Z
LAST-MODIFIED:20210925T190004Z
UID:31617-1632587400-1632594600@old.ypc.org
SUMMARY:Global Citizen Concert - Live Event
DESCRIPTION:Saturday 9/25\, 4:30-6:30 p.m.\nMeet at check-in point inside the park\, along the 86th Street transverse \nVisit the chorister login page for more info or to contact your conductor. \n< Back to Chorister Calendar
URL:https://old.ypc.org/event/global-citizens-group-rehearsal/
LOCATION:Off-Site\, NY\, United States
CATEGORIES:Performance Chorus,Private
GEO:40.7127753;-74.0059728
END:VEVENT
END:VCALENDAR