BEGIN:VCALENDAR
VERSION:2.0
PRODID:-//Young People&#039;s Chorus of NYC - ECPv6.2.9//NONSGML v1.0//EN
CALSCALE:GREGORIAN
METHOD:PUBLISH
X-WR-CALNAME:Young People&#039;s Chorus of NYC
X-ORIGINAL-URL:https://old.ypc.org
X-WR-CALDESC:Events for Young People&#039;s Chorus of NYC
REFRESH-INTERVAL;VALUE=DURATION:PT1H
X-Robots-Tag:noindex
X-PUBLISHED-TTL:PT1H
BEGIN:VTIMEZONE
TZID:America/New_York
BEGIN:DAYLIGHT
TZOFFSETFROM:-0500
TZOFFSETTO:-0400
TZNAME:EDT
DTSTART:20210314T070000
END:DAYLIGHT
BEGIN:STANDARD
TZOFFSETFROM:-0400
TZOFFSETTO:-0500
TZNAME:EST
DTSTART:20211107T060000
END:STANDARD
END:VTIMEZONE
BEGIN:VEVENT
DTSTART;TZID=America/New_York:20210918T103000
DTEND;TZID=America/New_York:20210918T113000
DTSTAMP:20260421T225240
CREATED:20210901T020533Z
LAST-MODIFIED:20210907T154615Z
UID:30961-1631961000-1631964600@old.ypc.org
SUMMARY:Prelude (Group 1) Rehearsal
DESCRIPTION:Saturday 9/18\, 10:30-11:30 a.m.\nYPC’s Home \nVisit the chorister login page for more info or to contact your conductor. \n< Back to Chorister Calendar
URL:https://old.ypc.org/event/prelude-cohort-a-welcome-rehearsal/
LOCATION:YPC’s Home\, 37 W 65th Street\, 2nd Floor\, New York\, NY\, 10023\, United States
CATEGORIES:Performance Chorus,Private
GEO:40.7728753;-73.9812519
X-APPLE-STRUCTURED-LOCATION;VALUE=URI;X-ADDRESS=YPC’s Home 37 W 65th Street 2nd Floor New York NY 10023 United States;X-APPLE-RADIUS=500;X-TITLE=37 W 65th Street\, 2nd Floor:geo:-73.9812519,40.7728753
END:VEVENT
BEGIN:VEVENT
DTSTART;TZID=America/New_York:20210918T120000
DTEND;TZID=America/New_York:20210918T130000
DTSTAMP:20260421T225240
CREATED:20210901T020655Z
LAST-MODIFIED:20210907T154756Z
UID:30964-1631966400-1631970000@old.ypc.org
SUMMARY:Prelude (Group 2) Rehearsal
DESCRIPTION:Saturday 9/18\, 12:00-1:00 p.m.\nYPC’s Home \nVisit the chorister login page for more info or to contact your conductor. \n< Back to Chorister Calendar
URL:https://old.ypc.org/event/prelude-group-2-welcome-rehearsal/
LOCATION:YPC’s Home\, 37 W 65th Street\, 2nd Floor\, New York\, NY\, 10023\, United States
CATEGORIES:Performance Chorus,Private
GEO:40.7728753;-73.9812519
X-APPLE-STRUCTURED-LOCATION;VALUE=URI;X-ADDRESS=YPC’s Home 37 W 65th Street 2nd Floor New York NY 10023 United States;X-APPLE-RADIUS=500;X-TITLE=37 W 65th Street\, 2nd Floor:geo:-73.9812519,40.7728753
END:VEVENT
BEGIN:VEVENT
DTSTART;TZID=America/New_York:20210918T120000
DTEND;TZID=America/New_York:20210918T140000
DTSTAMP:20260421T225240
CREATED:20210918T000614Z
LAST-MODIFIED:20210918T194138Z
UID:31817-1631966400-1631973600@old.ypc.org
SUMMARY:University Club Group Rehearsal
DESCRIPTION:Saturday 9/18\, 12:00-2:00 p.m.\nYPC’s Home \nVisit the chorister login page for more info or to contact your conductor. \n< Back to Chorister Calendar
URL:https://old.ypc.org/event/university-club-group-rehearsal-4/2021-09-18/
LOCATION:YPC’s Home\, 37 W 65th Street\, 2nd Floor\, New York\, NY\, 10023\, United States
CATEGORIES:Performance Chorus,Private
GEO:40.7728753;-73.9812519
X-APPLE-STRUCTURED-LOCATION;VALUE=URI;X-ADDRESS=YPC’s Home 37 W 65th Street 2nd Floor New York NY 10023 United States;X-APPLE-RADIUS=500;X-TITLE=37 W 65th Street\, 2nd Floor:geo:-73.9812519,40.7728753
END:VEVENT
BEGIN:VEVENT
DTSTART;TZID=America/New_York:20210918T140000
DTEND;TZID=America/New_York:20210918T153000
DTSTAMP:20260421T225240
CREATED:20210917T184619Z
LAST-MODIFIED:20210917T184931Z
UID:31786-1631973600-1631979000@old.ypc.org
SUMMARY:Global Citizens Group Rehearsal
DESCRIPTION:Saturday 9/18\, 2:00-3:30 p.m.\nYPC’s Home \nVisit the chorister login page for more info or to contact your conductor. \n< Back to Chorister Calendar
URL:https://old.ypc.org/event/amani-rehearsal-13-2-2-2/2021-09-18/
LOCATION:YPC’s Home\, 37 W 65th Street\, 2nd Floor\, New York\, NY\, 10023\, United States
CATEGORIES:Performance Chorus,Private
GEO:40.7728753;-73.9812519
X-APPLE-STRUCTURED-LOCATION;VALUE=URI;X-ADDRESS=YPC’s Home 37 W 65th Street 2nd Floor New York NY 10023 United States;X-APPLE-RADIUS=500;X-TITLE=37 W 65th Street\, 2nd Floor:geo:-73.9812519,40.7728753
END:VEVENT
END:VCALENDAR