BEGIN:VCALENDAR
VERSION:2.0
PRODID:-//Young People&#039;s Chorus of NYC - ECPv6.2.9//NONSGML v1.0//EN
CALSCALE:GREGORIAN
METHOD:PUBLISH
X-ORIGINAL-URL:https://old.ypc.org
X-WR-CALDESC:Events for Young People&#039;s Chorus of NYC
REFRESH-INTERVAL;VALUE=DURATION:PT1H
X-Robots-Tag:noindex
X-PUBLISHED-TTL:PT1H
BEGIN:VTIMEZONE
TZID:America/New_York
BEGIN:DAYLIGHT
TZOFFSETFROM:-0500
TZOFFSETTO:-0400
TZNAME:EDT
DTSTART:20210314T070000
END:DAYLIGHT
BEGIN:STANDARD
TZOFFSETFROM:-0400
TZOFFSETTO:-0500
TZNAME:EST
DTSTART:20211107T060000
END:STANDARD
END:VTIMEZONE
BEGIN:VEVENT
DTSTART;TZID=America/New_York:20210711T183000
DTEND;TZID=America/New_York:20210711T183000
DTSTAMP:20260422T012950
CREATED:20210709T152637Z
LAST-MODIFIED:20210709T152637Z
UID:28788-1626028200-1626028200@old.ypc.org
SUMMARY:Ready\, Set\, Sing!
DESCRIPTION:Sunday\, July 11 at 6:30 p.m.\n\n\n\nYPC is thrilled to participate in Lincoln Center’s Ready\, Set\, Sing! Concert. This sing-along event will take place outdoors at The GREEN at Lincoln Center and YPC will lead the audience through an exciting program of songs that are fun for the whole family! We hope family members and friends will join us! \n\n\n\n< Back to Chorister Calendar     |    More info >
URL:https://old.ypc.org/event/ready-set-sing-2/
LOCATION:The GREEN at Lincoln Center\, 70 Lincoln Center Plaza\, New York\, NY\, 10023
CATEGORIES:Performance Chorus,Private
GEO:40.7741882;-73.9842563
X-APPLE-STRUCTURED-LOCATION;VALUE=URI;X-ADDRESS=The GREEN at Lincoln Center 70 Lincoln Center Plaza New York NY 10023;X-APPLE-RADIUS=500;X-TITLE=70 Lincoln Center Plaza:geo:-73.9842563,40.7741882
END:VEVENT
END:VCALENDAR