BEGIN:VCALENDAR
VERSION:2.0
PRODID:-//Young People&#039;s Chorus of NYC - ECPv6.2.9//NONSGML v1.0//EN
CALSCALE:GREGORIAN
METHOD:PUBLISH
X-WR-CALNAME:Young People&#039;s Chorus of NYC
X-ORIGINAL-URL:https://old.ypc.org
X-WR-CALDESC:Events for Young People&#039;s Chorus of NYC
REFRESH-INTERVAL;VALUE=DURATION:PT1H
X-Robots-Tag:noindex
X-PUBLISHED-TTL:PT1H
BEGIN:VTIMEZONE
TZID:America/New_York
BEGIN:DAYLIGHT
TZOFFSETFROM:-0500
TZOFFSETTO:-0400
TZNAME:EDT
DTSTART:20210314T070000
END:DAYLIGHT
BEGIN:STANDARD
TZOFFSETFROM:-0400
TZOFFSETTO:-0500
TZNAME:EST
DTSTART:20211107T060000
END:STANDARD
END:VTIMEZONE
BEGIN:VEVENT
DTSTART;TZID=America/New_York:20210617T163000
DTEND;TZID=America/New_York:20210617T180000
DTSTAMP:20260422T024458
CREATED:20210521T162132Z
LAST-MODIFIED:20210615T160710Z
UID:27710-1623947400-1623952800@old.ypc.org
SUMMARY:Cantare End of the Year Picnic
DESCRIPTION:Thursday from 4:30-6:00 P.M.\nJoin us for an end of the year picnic celebration in the park! More details to come. \nVisit the chorister login page for more info or to contact your conductor. \n< Back to Chorister Calendar
URL:https://old.ypc.org/event/cantare-end-of-the-year-picnic/
LOCATION:NY
CATEGORIES:Performance Chorus,Private
END:VEVENT
BEGIN:VEVENT
DTSTART;TZID=America/New_York:20210617T163000
DTEND;TZID=America/New_York:20210617T180000
DTSTAMP:20260422T024458
CREATED:20210521T162315Z
LAST-MODIFIED:20210615T161237Z
UID:27714-1623947400-1623952800@old.ypc.org
SUMMARY:Prelude End of the Year Picnic
DESCRIPTION:Thursday from 4:30-6:00 P.M.\nJoin us for an end of the year picnic celebration in the park! More details to come. \nVisit the chorister login page for more info or to contact your conductor. \n< Back to Chorister Calendar
URL:https://old.ypc.org/event/prelude-end-of-the-year-picnic/
LOCATION:NY
CATEGORIES:Performance Chorus,Private
END:VEVENT
BEGIN:VEVENT
DTSTART;TZID=America/New_York:20210617T163000
DTEND;TZID=America/New_York:20210617T180000
DTSTAMP:20260422T024458
CREATED:20210615T161016Z
LAST-MODIFIED:20210615T161016Z
UID:28195-1623947400-1623952800@old.ypc.org
SUMMARY:Amani End of the Year Picnic
DESCRIPTION:Thursday from 4:30-6:00 P.M.\nJoin us for an end of the year picnic celebration in the park! More details to come. \nVisit the chorister login page for more info or to contact your conductor. \n< Back to Chorister Calendar
URL:https://old.ypc.org/event/amani-end-of-the-year-picnic/
LOCATION:NY
CATEGORIES:Performance Chorus,Private
END:VEVENT
BEGIN:VEVENT
DTSTART;TZID=America/New_York:20210617T163000
DTEND;TZID=America/New_York:20210617T203000
DTSTAMP:20260422T024458
CREATED:20210616T200719Z
LAST-MODIFIED:20210616T200719Z
UID:28214-1623947400-1623961800@old.ypc.org
SUMMARY:Chorale Senior Night!
DESCRIPTION:Thursday from 4:30-8:30 P.M.\n\n\nCome to YPC’s Home and join us for this beautiful YPC tradition as we celebrate our seniors! Be sure to RSVP by the link that was emailed out to you by Emma.\n\n\n< Back to Chorister Calendar
URL:https://old.ypc.org/event/chorale-senior-night/
LOCATION:YPC’s Home\, 37 W 65th Street\, 2nd Floor\, New York\, NY\, 10023\, United States
CATEGORIES:Performance Chorus,Private
GEO:40.7728753;-73.9812519
X-APPLE-STRUCTURED-LOCATION;VALUE=URI;X-ADDRESS=YPC’s Home 37 W 65th Street 2nd Floor New York NY 10023 United States;X-APPLE-RADIUS=500;X-TITLE=37 W 65th Street\, 2nd Floor:geo:-73.9812519,40.7728753
END:VEVENT
END:VCALENDAR