BEGIN:VCALENDAR
VERSION:2.0
PRODID:-//Young People&#039;s Chorus of NYC - ECPv6.2.9//NONSGML v1.0//EN
CALSCALE:GREGORIAN
METHOD:PUBLISH
X-WR-CALNAME:Young People&#039;s Chorus of NYC
X-ORIGINAL-URL:https://old.ypc.org
X-WR-CALDESC:Events for Young People&#039;s Chorus of NYC
REFRESH-INTERVAL;VALUE=DURATION:PT1H
X-Robots-Tag:noindex
X-PUBLISHED-TTL:PT1H
BEGIN:VTIMEZONE
TZID:America/New_York
BEGIN:DAYLIGHT
TZOFFSETFROM:-0500
TZOFFSETTO:-0400
TZNAME:EDT
DTSTART:20210314T070000
END:DAYLIGHT
BEGIN:STANDARD
TZOFFSETFROM:-0400
TZOFFSETTO:-0500
TZNAME:EST
DTSTART:20211107T060000
END:STANDARD
END:VTIMEZONE
BEGIN:VEVENT
DTSTART;TZID=America/New_York:20210614T163000
DTEND;TZID=America/New_York:20210614T173000
DTSTAMP:20260424T110701
CREATED:20210521T161048Z
LAST-MODIFIED:20210601T171802Z
UID:27696-1623688200-1623691800@old.ypc.org
SUMMARY:Intermezzo Rehearsal
DESCRIPTION:Weekly on Mondays from 4:30-5:30 P.M.\nAll Zoom rehearsal. \nVisit the chorister login page for more info or to contact your conductor. \nhttps://zoom.us/j/188622087 \nMeeting ID: 188 622 087 \nRefer to chorister login page for password. \n< Back to Chorister Calendar
URL:https://old.ypc.org/event/intermezzo-rehearsal-10-2021-06-14/
LOCATION:Zoom Rehearsal
CATEGORIES:Performance Chorus,Private
END:VEVENT
END:VCALENDAR