BEGIN:VCALENDAR
VERSION:2.0
PRODID:-//Young People&#039;s Chorus of NYC - ECPv6.2.9//NONSGML v1.0//EN
CALSCALE:GREGORIAN
METHOD:PUBLISH
X-ORIGINAL-URL:https://old.ypc.org
X-WR-CALDESC:Events for Young People&#039;s Chorus of NYC
REFRESH-INTERVAL;VALUE=DURATION:PT1H
X-Robots-Tag:noindex
X-PUBLISHED-TTL:PT1H
BEGIN:VTIMEZONE
TZID:America/New_York
BEGIN:DAYLIGHT
TZOFFSETFROM:-0500
TZOFFSETTO:-0400
TZNAME:EDT
DTSTART:20210314T070000
END:DAYLIGHT
BEGIN:STANDARD
TZOFFSETFROM:-0400
TZOFFSETTO:-0500
TZNAME:EST
DTSTART:20211107T060000
END:STANDARD
END:VTIMEZONE
BEGIN:VEVENT
DTSTART;TZID=America/New_York:20210604T163000
DTEND;TZID=America/New_York:20210604T180000
DTSTAMP:20260422T024127
CREATED:20210521T161510Z
LAST-MODIFIED:20210521T171807Z
UID:27701-1622824200-1622829600@old.ypc.org
SUMMARY:Intermezzo Added Rehearsal
DESCRIPTION:Friday from 4:30-6:00 P.M.\nVisit the chorister login page for more info or to contact your conductor. \nhttps://zoom.us/j/99804484914 \nMeeting ID: 998 0448 4914 \nRefer to chorister login for password. \n< Back to Chorister Calendar
URL:https://old.ypc.org/event/intermezzo-added-rehearsal-4/
LOCATION:Zoom Rehearsal
CATEGORIES:Performance Chorus,Private
END:VEVENT
BEGIN:VEVENT
DTSTART;TZID=America/New_York:20210604T163000
DTEND;TZID=America/New_York:20210604T183000
DTSTAMP:20260422T024127
CREATED:20210505T195035Z
LAST-MODIFIED:20210528T170523Z
UID:27276-1622824200-1622831400@old.ypc.org
SUMMARY:Goodbye\, Mr. Chips Rehearsal
DESCRIPTION:Friday from 4:30-6:30 P.M.\nVisit the chorister login page for more info or to contact your conductor. \n< Back to Chorister Calendar
URL:https://old.ypc.org/event/goodbye-mr-chips-rehearsal-12/
LOCATION:YPC’s Home\, 37 W 65th Street\, 2nd Floor\, New York\, NY\, 10023\, United States
CATEGORIES:Performance Chorus,Private
GEO:40.7728753;-73.9812519
X-APPLE-STRUCTURED-LOCATION;VALUE=URI;X-ADDRESS=YPC’s Home 37 W 65th Street 2nd Floor New York NY 10023 United States;X-APPLE-RADIUS=500;X-TITLE=37 W 65th Street\, 2nd Floor:geo:-73.9812519,40.7728753
END:VEVENT
END:VCALENDAR