BEGIN:VCALENDAR
VERSION:2.0
PRODID:-//Young People&#039;s Chorus of NYC - ECPv6.2.9//NONSGML v1.0//EN
CALSCALE:GREGORIAN
METHOD:PUBLISH
X-WR-CALNAME:Young People&#039;s Chorus of NYC
X-ORIGINAL-URL:https://old.ypc.org
X-WR-CALDESC:Events for Young People&#039;s Chorus of NYC
REFRESH-INTERVAL;VALUE=DURATION:PT1H
X-Robots-Tag:noindex
X-PUBLISHED-TTL:PT1H
BEGIN:VTIMEZONE
TZID:America/New_York
BEGIN:DAYLIGHT
TZOFFSETFROM:-0500
TZOFFSETTO:-0400
TZNAME:EDT
DTSTART:20210314T070000
END:DAYLIGHT
BEGIN:STANDARD
TZOFFSETFROM:-0400
TZOFFSETTO:-0500
TZNAME:EST
DTSTART:20211107T060000
END:STANDARD
END:VTIMEZONE
BEGIN:VEVENT
DTSTART;TZID=America/New_York:20210528T163000
DTEND;TZID=America/New_York:20210528T180000
DTSTAMP:20260424T104046
CREATED:20210521T160604Z
LAST-MODIFIED:20210527T145842Z
UID:27689-1622219400-1622224800@old.ypc.org
SUMMARY:Intermezzo Added Rehearsal
DESCRIPTION:Added rehearsal Friday from 4:30-6:00 P.M.\nVisit the chorister login page for more info or to contact your conductor. \nhttps://zoom.us/j/99804484914 \nMeeting ID: 998 0448 4914\nRefer to the chorister login for password. \n< Back to Chorister Calendar
URL:https://old.ypc.org/event/intermezzo-added-rehearsal-2/
LOCATION:Zoom Rehearsal
CATEGORIES:Performance Chorus,Private
END:VEVENT
BEGIN:VEVENT
DTSTART;TZID=America/New_York:20210528T170000
DTEND;TZID=America/New_York:20210528T183000
DTSTAMP:20260424T104046
CREATED:20210426T232426Z
LAST-MODIFIED:20210527T202711Z
UID:27003-1622221200-1622226600@old.ypc.org
SUMMARY:Chorale (Full) Rehearsal/Recording
DESCRIPTION:Weekly Zoom rehearsal on Fridays from 5:00-6:30 P.M.\nVisit the chorister login page for more info or to contact your conductor. \nhttps://zoom.us/j/95236652829\nMeeting ID: 952 3665 2829\nRefer to chorister login for password. \n< Back to Chorister Calendar
URL:https://old.ypc.org/event/chorale-full-rehearsal-10-2021-05-28/
LOCATION:Zoom Rehearsal
CATEGORIES:Performance Chorus,Private
END:VEVENT
BEGIN:VEVENT
DTSTART;TZID=America/New_York:20210528T170000
DTEND;TZID=America/New_York:20210528T183000
DTSTAMP:20260424T104046
CREATED:20210528T163144Z
LAST-MODIFIED:20210528T163144Z
UID:27879-1622221200-1622226600@old.ypc.org
SUMMARY:Amani Added Rehearsal/Recording
DESCRIPTION:Added Friday recording session from 5:00-6:30 P.M.\nVisit the chorister login page for more info or to contact your conductor. \nhttps://zoom.us/j/95236652829\nMeeting ID: 952 3665 2829\nRefer to the chorister login for password. \n< Back to Chorister Calendar
URL:https://old.ypc.org/event/amani-rehearsal-12/
LOCATION:Zoom Rehearsal
CATEGORIES:Performance Chorus,Private
END:VEVENT
END:VCALENDAR