BEGIN:VCALENDAR
VERSION:2.0
PRODID:-//Young People&#039;s Chorus of NYC - ECPv6.2.9//NONSGML v1.0//EN
CALSCALE:GREGORIAN
METHOD:PUBLISH
X-WR-CALNAME:Young People&#039;s Chorus of NYC
X-ORIGINAL-URL:https://old.ypc.org
X-WR-CALDESC:Events for Young People&#039;s Chorus of NYC
REFRESH-INTERVAL;VALUE=DURATION:PT1H
X-Robots-Tag:noindex
X-PUBLISHED-TTL:PT1H
BEGIN:VTIMEZONE
TZID:America/New_York
BEGIN:DAYLIGHT
TZOFFSETFROM:-0500
TZOFFSETTO:-0400
TZNAME:EDT
DTSTART:20210314T070000
END:DAYLIGHT
BEGIN:STANDARD
TZOFFSETFROM:-0400
TZOFFSETTO:-0500
TZNAME:EST
DTSTART:20211107T060000
END:STANDARD
END:VTIMEZONE
BEGIN:VEVENT
DTSTART;TZID=America/New_York:20210526T163000
DTEND;TZID=America/New_York:20210526T171500
DTSTAMP:20260424T104150
CREATED:20210524T221516Z
LAST-MODIFIED:20210524T221516Z
UID:27815-1622046600-1622049300@old.ypc.org
SUMMARY:Girls4Tech Workshop
DESCRIPTION:Wednesday from 4:30-5:15 P.M.\nVisit the chorister login page for more info or to contact your conductor. \nAll Things Digital (STEM workshop presented for YPC by MasterCard) for girls ages 8-12. \nhttps://zoom.us/j/99186489850\nMeeting ID: 991 8648 9850\nPassword will be emailed out. \n< Back to Chorister Calendar
URL:https://old.ypc.org/event/girls4tech-workshop/
LOCATION:Zoom Rehearsal
CATEGORIES:Performance Chorus,Private
END:VEVENT
BEGIN:VEVENT
DTSTART;TZID=America/New_York:20210526T184500
DTEND;TZID=America/New_York:20210526T194500
DTSTAMP:20260424T104150
CREATED:20210421T222055Z
LAST-MODIFIED:20210421T222055Z
UID:26825-1622054700-1622058300@old.ypc.org
SUMMARY:PwC: Planning for the Future (9th - 12th Grade)
DESCRIPTION:Wednesday from 6:45-7:45 P.M.\nThis event is for 3rd through 5th Graders. \nVisit the chorister login page for more info or to contact your conductor. \nhttps://zoom.us/j/99186489850\nMeeting ID: 991 8648 9850\nPassword will be emailed out. \n< Back to Chorister Calendar
URL:https://old.ypc.org/event/pwc-planning-for-the-future-9th-12th-grade/
LOCATION:Virtual Event\, 200 Hurd Rd\, Bethel\, NY\, 12720\, United States
CATEGORIES:Performance Chorus,Private
GEO:41.6971197;-74.877752
X-APPLE-STRUCTURED-LOCATION;VALUE=URI;X-ADDRESS=Virtual Event 200 Hurd Rd Bethel NY 12720 United States;X-APPLE-RADIUS=500;X-TITLE=200 Hurd Rd:geo:-74.877752,41.6971197
END:VEVENT
END:VCALENDAR