BEGIN:VCALENDAR
VERSION:2.0
PRODID:-//Young People&#039;s Chorus of NYC - ECPv6.2.9//NONSGML v1.0//EN
CALSCALE:GREGORIAN
METHOD:PUBLISH
X-ORIGINAL-URL:https://old.ypc.org
X-WR-CALDESC:Events for Young People&#039;s Chorus of NYC
REFRESH-INTERVAL;VALUE=DURATION:PT1H
X-Robots-Tag:noindex
X-PUBLISHED-TTL:PT1H
BEGIN:VTIMEZONE
TZID:America/New_York
BEGIN:DAYLIGHT
TZOFFSETFROM:-0500
TZOFFSETTO:-0400
TZNAME:EDT
DTSTART:20210314T070000
END:DAYLIGHT
BEGIN:STANDARD
TZOFFSETFROM:-0400
TZOFFSETTO:-0500
TZNAME:EST
DTSTART:20211107T060000
END:STANDARD
END:VTIMEZONE
BEGIN:VEVENT
DTSTART;TZID=America/New_York:20210519T163000
DTEND;TZID=America/New_York:20210519T173000
DTSTAMP:20260424T105126
CREATED:20210421T220921Z
LAST-MODIFIED:20210421T221326Z
UID:26818-1621441800-1621445400@old.ypc.org
SUMMARY:PwC: Saving and Investing (3rd - 5th Grade)
DESCRIPTION:Wednesday from 4:30-5:30 P.M.\nThis event is for 3rd through 5th Graders. \nVisit the chorister login page for more info or to contact your conductor. \nhttps://zoom.us/j/99186489850\nMeeting ID: 991 8648 9850\nPassword will be emailed out. \n< Back to Chorister Calendar
URL:https://old.ypc.org/event/pwc-saving-and-investing-3rd-5th-grade/
LOCATION:Virtual Event\, 200 Hurd Rd\, Bethel\, NY\, 12720\, United States
CATEGORIES:Performance Chorus,Private
GEO:41.6971197;-74.877752
X-APPLE-STRUCTURED-LOCATION;VALUE=URI;X-ADDRESS=Virtual Event 200 Hurd Rd Bethel NY 12720 United States;X-APPLE-RADIUS=500;X-TITLE=200 Hurd Rd:geo:-74.877752,41.6971197
END:VEVENT
BEGIN:VEVENT
DTSTART;TZID=America/New_York:20210519T163000
DTEND;TZID=America/New_York:20210519T183000
DTSTAMP:20260424T105126
CREATED:20210519T152446Z
LAST-MODIFIED:20210519T152446Z
UID:27533-1621441800-1621449000@old.ypc.org
SUMMARY:Added TB Goodbye\, Mr. Chips Rehearsal
DESCRIPTION:Virtual Wednesday rehearsal from 5:00-6:30 P.M.\nInvited group of Amani and Chorale Lower Voices \nVisit the chorister login page for more info or to contact your conductor. \nhttps://zoom.us/j/99804484914 \nMeeting ID: 998 0448 4914 \nPlease refer to the email for Zoom password. \n< Back to Chorister Calendar
URL:https://old.ypc.org/event/goodbye-mr-chips-rehearsal-7-2/
LOCATION:Zoom Rehearsal
CATEGORIES:Performance Chorus,Private
END:VEVENT
BEGIN:VEVENT
DTSTART;TZID=America/New_York:20210519T173000
DTEND;TZID=America/New_York:20210519T183000
DTSTAMP:20260424T105126
CREATED:20210421T221648Z
LAST-MODIFIED:20210421T221648Z
UID:26822-1621445400-1621449000@old.ypc.org
SUMMARY:PwC: Beginning to Save (6th - 8th grade)
DESCRIPTION:Wednesday from 5:30-6:30 P.M.\nThis event is for 3rd through 5th Graders. \nVisit the chorister login page for more info or to contact your conductor. \nhttps://zoom.us/j/99186489850\nMeeting ID: 991 8648 9850\nPassword will be emailed out. \n< Back to Chorister Calendar
URL:https://old.ypc.org/event/pwc-beginning-to-save-6th-8th-grade/
LOCATION:Virtual Event\, 200 Hurd Rd\, Bethel\, NY\, 12720\, United States
CATEGORIES:Performance Chorus,Private
GEO:41.6971197;-74.877752
X-APPLE-STRUCTURED-LOCATION;VALUE=URI;X-ADDRESS=Virtual Event 200 Hurd Rd Bethel NY 12720 United States;X-APPLE-RADIUS=500;X-TITLE=200 Hurd Rd:geo:-74.877752,41.6971197
END:VEVENT
END:VCALENDAR