BEGIN:VCALENDAR
VERSION:2.0
PRODID:-//Young People&#039;s Chorus of NYC - ECPv6.2.9//NONSGML v1.0//EN
CALSCALE:GREGORIAN
METHOD:PUBLISH
X-ORIGINAL-URL:https://old.ypc.org
X-WR-CALDESC:Events for Young People&#039;s Chorus of NYC
REFRESH-INTERVAL;VALUE=DURATION:PT1H
X-Robots-Tag:noindex
X-PUBLISHED-TTL:PT1H
BEGIN:VTIMEZONE
TZID:America/New_York
BEGIN:DAYLIGHT
TZOFFSETFROM:-0500
TZOFFSETTO:-0400
TZNAME:EDT
DTSTART:20210314T070000
END:DAYLIGHT
BEGIN:STANDARD
TZOFFSETFROM:-0400
TZOFFSETTO:-0500
TZNAME:EST
DTSTART:20211107T060000
END:STANDARD
END:VTIMEZONE
BEGIN:VEVENT
DTSTART;TZID=America/New_York:20210518T161500
DTEND;TZID=America/New_York:20210518T171500
DTSTAMP:20260424T092328
CREATED:20210426T225856Z
LAST-MODIFIED:20210519T151911Z
UID:26963-1621354500-1621358100@old.ypc.org
SUMMARY:Community Junior & Senior Choruses Rehearsal
DESCRIPTION:Weekly on Tuesdays from 4:15-5:15 P.M.\nVisit the chorister login page for more info or to contact your conductor. \nhttps://zoom.us/j/94553257656\nMeeting ID: 945 5325 7656\nRefer to chorister login for password. \n< Back to Chorister Calendar
URL:https://old.ypc.org/event/community-junior-choruses-rehearsal-7-2021-05-18/
LOCATION:Zoom Rehearsal
CATEGORIES:Community Chorus,Private
END:VEVENT
BEGIN:VEVENT
DTSTART;TZID=America/New_York:20210518T170000
DTEND;TZID=America/New_York:20210518T181500
DTSTAMP:20260424T092328
CREATED:20210426T230126Z
LAST-MODIFIED:20210511T205439Z
UID:27051-1621357200-1621361700@old.ypc.org
SUMMARY:Amani Rehearsal
DESCRIPTION:Weekly on Tuesdays from 5:00-6:15 P.M.\nVisit the chorister login page for more info or to contact your conductor. \nhttps://us02web.zoom.us/j/86947099058\nMeeting ID: 869 4709 9058\nRefer to the chorister login for password. \n< Back to Chorister Calendar
URL:https://old.ypc.org/event/amani-rehearsal-9-2021-05-18/
LOCATION:Zoom Rehearsal
CATEGORIES:Performance Chorus,Private
END:VEVENT
BEGIN:VEVENT
DTSTART;TZID=America/New_York:20210518T170000
DTEND;TZID=America/New_York:20210518T183000
DTSTAMP:20260424T092328
CREATED:20210505T193032Z
LAST-MODIFIED:20210519T155358Z
UID:27244-1621357200-1621362600@old.ypc.org
SUMMARY:Goodbye\, Mr. Chips Rehearsal
DESCRIPTION:In-person rehearsal Tuesday from 5:00-6:30 P.M.\nInvited group of Amani and Chorale Lower Voices \nVisit the chorister login page for more info or to contact your conductor. \n< Back to Chorister Calendar
URL:https://old.ypc.org/event/goodbye-mr-chips-rehearsal-6/
LOCATION:YPC’s Home\, 37 W 65th Street\, 2nd Floor\, New York\, NY\, 10023\, United States
CATEGORIES:Performance Chorus,Private
GEO:40.7728753;-73.9812519
X-APPLE-STRUCTURED-LOCATION;VALUE=URI;X-ADDRESS=YPC’s Home 37 W 65th Street 2nd Floor New York NY 10023 United States;X-APPLE-RADIUS=500;X-TITLE=37 W 65th Street\, 2nd Floor:geo:-73.9812519,40.7728753
END:VEVENT
BEGIN:VEVENT
DTSTART;TZID=America/New_York:20210518T173000
DTEND;TZID=America/New_York:20210518T184500
DTSTAMP:20260424T092328
CREATED:20210426T230747Z
LAST-MODIFIED:20210511T193239Z
UID:26978-1621359000-1621363500@old.ypc.org
SUMMARY:Cantare Rehearsal
DESCRIPTION:Weekly hybrid rehearsal on Tuesdays from 5:30-6:45 P.M.\nVisit the chorister login page for more info or to contact your conductor. \nhttps://zoom.us/j/97885767486\nMeeting ID: 978 8576 7486\nRefer to chorister login for password. \n< Back to Chorister Calendar
URL:https://old.ypc.org/event/cantare-rehearsal-12-2021-05-18/
LOCATION:Zoom Rehearsal
CATEGORIES:Performance Chorus,Private
END:VEVENT
END:VCALENDAR