BEGIN:VCALENDAR
VERSION:2.0
PRODID:-//Young People&#039;s Chorus of NYC - ECPv6.2.9//NONSGML v1.0//EN
CALSCALE:GREGORIAN
METHOD:PUBLISH
X-WR-CALNAME:Young People&#039;s Chorus of NYC
X-ORIGINAL-URL:https://old.ypc.org
X-WR-CALDESC:Events for Young People&#039;s Chorus of NYC
REFRESH-INTERVAL;VALUE=DURATION:PT1H
X-Robots-Tag:noindex
X-PUBLISHED-TTL:PT1H
BEGIN:VTIMEZONE
TZID:America/New_York
BEGIN:DAYLIGHT
TZOFFSETFROM:-0500
TZOFFSETTO:-0400
TZNAME:EDT
DTSTART:20210314T070000
END:DAYLIGHT
BEGIN:STANDARD
TZOFFSETFROM:-0400
TZOFFSETTO:-0500
TZNAME:EST
DTSTART:20211107T060000
END:STANDARD
END:VTIMEZONE
BEGIN:VEVENT
DTSTART;TZID=America/New_York:20210514T163000
DTEND;TZID=America/New_York:20210514T183000
DTSTAMP:20260424T115022
CREATED:20210426T232426Z
LAST-MODIFIED:20210506T174823Z
UID:27001-1621009800-1621017000@old.ypc.org
SUMMARY:Chorale (Full) Rehearsal
DESCRIPTION:Weekly on Fridays from 4:30-6:30 P.M.\nAt YPC – Cohort D \nVisit the chorister login page for more info or to contact your conductor. \nhttps://zoom.us/j/95236652829\nMeeting ID: 952 3665 2829\nRefer to chorister login for password. \n< Back to Chorister Calendar
URL:https://old.ypc.org/event/chorale-full-rehearsal-10-2021-05-14/2021-05-14/
LOCATION:Zoom Rehearsal
CATEGORIES:Performance Chorus,Private
END:VEVENT
BEGIN:VEVENT
DTSTART;TZID=America/New_York:20210514T170000
DTEND;TZID=America/New_York:20210514T183000
DTSTAMP:20260424T115022
CREATED:20210505T192531Z
LAST-MODIFIED:20210513T221118Z
UID:27238-1621011600-1621017000@old.ypc.org
SUMMARY:Goodbye\, Mr. Chips Rehearsal
DESCRIPTION:In-person rehearsal Tuesday from 5:00-6:30 P.M.\nFull invited group. \nVisit the chorister login page for more info or to contact your conductor. \n< Back to Chorister Calendar
URL:https://old.ypc.org/event/goodbye-mr-chips-rehearsal-4/
LOCATION:YPC’s Home\, 37 W 65th Street\, 2nd Floor\, New York\, NY\, 10023\, United States
CATEGORIES:Performance Chorus,Private
GEO:40.7728753;-73.9812519
X-APPLE-STRUCTURED-LOCATION;VALUE=URI;X-ADDRESS=YPC’s Home 37 W 65th Street 2nd Floor New York NY 10023 United States;X-APPLE-RADIUS=500;X-TITLE=37 W 65th Street\, 2nd Floor:geo:-73.9812519,40.7728753
END:VEVENT
END:VCALENDAR