BEGIN:VCALENDAR
VERSION:2.0
PRODID:-//Young People&#039;s Chorus of NYC - ECPv6.2.9//NONSGML v1.0//EN
CALSCALE:GREGORIAN
METHOD:PUBLISH
X-ORIGINAL-URL:https://old.ypc.org
X-WR-CALDESC:Events for Young People&#039;s Chorus of NYC
REFRESH-INTERVAL;VALUE=DURATION:PT1H
X-Robots-Tag:noindex
X-PUBLISHED-TTL:PT1H
BEGIN:VTIMEZONE
TZID:America/New_York
BEGIN:DAYLIGHT
TZOFFSETFROM:-0500
TZOFFSETTO:-0400
TZNAME:EDT
DTSTART:20210314T070000
END:DAYLIGHT
BEGIN:STANDARD
TZOFFSETFROM:-0400
TZOFFSETTO:-0500
TZNAME:EST
DTSTART:20211107T060000
END:STANDARD
END:VTIMEZONE
BEGIN:VEVENT
DTSTART;TZID=America/New_York:20210504T160000
DTEND;TZID=America/New_York:20210504T173000
DTSTAMP:20260424T105041
CREATED:20210325T151534Z
LAST-MODIFIED:20210325T151534Z
UID:25882-1620144000-1620149400@old.ypc.org
SUMMARY:Junior Essay Writing Workshop
DESCRIPTION:Tuesday from 4:00-5:30 P.M.\nFor juniors in high school. \nVisit the chorister login page for more info or to contact your conductor. \nhttps://us02web.zoom.us/j/87557161378?pwd=Z2dUemMwU0J2YU5sU3NkMkdkL09wdz09\nMeeting ID: 875 5716 1378\nPasscode: 798825 \n< Back to Chorister Calendar
URL:https://old.ypc.org/event/junior-essay-writing-workshop/
LOCATION:NY
CATEGORIES:Performance Chorus,Private
END:VEVENT
BEGIN:VEVENT
DTSTART;TZID=America/New_York:20210504T161500
DTEND;TZID=America/New_York:20210504T171500
DTSTAMP:20260424T105041
CREATED:20210426T225856Z
LAST-MODIFIED:20210426T225856Z
UID:26960-1620144900-1620148500@old.ypc.org
SUMMARY:Community Junior Choruses Rehearsal
DESCRIPTION:Weekly on Tuesdays from 4:15-5:15 P.M.\nVisit the chorister login page for more info or to contact your conductor. \nhttps://zoom.us/j/94553257656\nMeeting ID: 945 5325 7656\nRefer to chorister login for password. \n< Back to Chorister Calendar
URL:https://old.ypc.org/event/community-junior-choruses-rehearsal-7/2021-05-04/
LOCATION:Zoom Rehearsal
CATEGORIES:Community Chorus,Private
END:VEVENT
BEGIN:VEVENT
DTSTART;TZID=America/New_York:20210504T163000
DTEND;TZID=America/New_York:20210504T183000
DTSTAMP:20260424T105041
CREATED:20210426T230126Z
LAST-MODIFIED:20210504T150104Z
UID:26966-1620145800-1620153000@old.ypc.org
SUMMARY:Amani Rehearsal
DESCRIPTION:Weekly on Tuesdays from 4:30-6:30 P.M.\nVisit the chorister login page for more info or to contact your conductor. \nhttps://zoom.us/j/95086013130\nMeeting ID: 950 8601 3130\nRefer to the chorister login for password. \n< Back to Chorister Calendar
URL:https://old.ypc.org/event/amani-rehearsal-9/
LOCATION:Zoom Rehearsal
CATEGORIES:Performance Chorus,Private
END:VEVENT
BEGIN:VEVENT
DTSTART;TZID=America/New_York:20210504T163000
DTEND;TZID=America/New_York:20210504T183000
DTSTAMP:20260424T105041
CREATED:20210426T230445Z
LAST-MODIFIED:20210504T145747Z
UID:26969-1620145800-1620153000@old.ypc.org
SUMMARY:Chorale (Lower Voices) Rehearsal
DESCRIPTION:Weekly on Tuesdays from 4:30-6:30 P.M.\nNo in-person rehearsal today. Only virtual \nVisit the chorister login page for more info or to contact your conductor. \nhttps://zoom.us/j/95086013130\nMeeting ID: 950 8601 3130\nRefer to chorister login for password. \n< Back to Chorister Calendar
URL:https://old.ypc.org/event/chorale-lower-voices-rehearsal-7/
LOCATION:Zoom Rehearsal
CATEGORIES:Performance Chorus,Private
END:VEVENT
BEGIN:VEVENT
DTSTART;TZID=America/New_York:20210504T173000
DTEND;TZID=America/New_York:20210504T184500
DTSTAMP:20260424T105041
CREATED:20210426T230747Z
LAST-MODIFIED:20210426T233434Z
UID:26975-1620149400-1620153900@old.ypc.org
SUMMARY:Cantare Rehearsal
DESCRIPTION:Weekly on Tuesdays from 5:30-6:45 P.M.\nAt YPC – Cohort A \nVisit the chorister login page for more info or to contact your conductor. \nhttps://zoom.us/j/97885767486\nMeeting ID: 978 8576 7486\nRefer to chorister login for password. \n< Back to Chorister Calendar
URL:https://old.ypc.org/event/cantare-rehearsal-12/2021-05-04/
LOCATION:Zoom Rehearsal
CATEGORIES:Performance Chorus,Private
END:VEVENT
END:VCALENDAR