BEGIN:VCALENDAR
VERSION:2.0
PRODID:-//Young People&#039;s Chorus of NYC - ECPv6.2.9//NONSGML v1.0//EN
CALSCALE:GREGORIAN
METHOD:PUBLISH
X-WR-CALNAME:Young People&#039;s Chorus of NYC
X-ORIGINAL-URL:https://old.ypc.org
X-WR-CALDESC:Events for Young People&#039;s Chorus of NYC
REFRESH-INTERVAL;VALUE=DURATION:PT1H
X-Robots-Tag:noindex
X-PUBLISHED-TTL:PT1H
BEGIN:VTIMEZONE
TZID:America/New_York
BEGIN:DAYLIGHT
TZOFFSETFROM:-0500
TZOFFSETTO:-0400
TZNAME:EDT
DTSTART:20210314T070000
END:DAYLIGHT
BEGIN:STANDARD
TZOFFSETFROM:-0400
TZOFFSETTO:-0500
TZNAME:EST
DTSTART:20211107T060000
END:STANDARD
END:VTIMEZONE
BEGIN:VEVENT
DTSTART;TZID=America/New_York:20210421T163000
DTEND;TZID=America/New_York:20210421T183000
DTSTAMP:20260422T115253
CREATED:20210326T021216Z
LAST-MODIFIED:20210421T190953Z
UID:26131-1619022600-1619029800@old.ypc.org
SUMMARY:Chorale (Full) Rehearsal
DESCRIPTION:Weekly on Wednesdays from 4:30-6:30 P.M.\nTreble will join at 5:30 P.M. today. \nVisit the chorister login page for more info or to contact your conductor. \nhttps://zoom.us/j/95236652829\nMeeting ID: 952 3665 2829\nRefer to chorister login page for password. \n< Back to Chorister Calendar
URL:https://old.ypc.org/event/chorale-full-rehearsal-7-2021-04-21/
LOCATION:Zoom Rehearsal
CATEGORIES:Performance Chorus,Private
END:VEVENT
BEGIN:VEVENT
DTSTART;TZID=America/New_York:20210421T163000
DTEND;TZID=America/New_York:20210421T183000
DTSTAMP:20260422T115253
CREATED:20210326T021358Z
LAST-MODIFIED:20210421T190859Z
UID:26137-1619022600-1619029800@old.ypc.org
SUMMARY:Amani Rehearsal
DESCRIPTION:Weekly on Wednesdays from 4:30-6:30 P.M.\nVisit the chorister login page for more info or to contact your conductor. \nhttps://zoom.us/j/95236652829\nMeeting ID: 952 3665 2829\nRefer to chorister login page for password. \n< Back to Chorister Calendar
URL:https://old.ypc.org/event/amani-rehearsal-7-2021-04-21/
LOCATION:Zoom Rehearsal
CATEGORIES:Performance Chorus,Private
END:VEVENT
BEGIN:VEVENT
DTSTART;TZID=America/New_York:20210421T184500
DTEND;TZID=America/New_York:20210421T201500
DTSTAMP:20260422T115253
CREATED:20210325T151834Z
LAST-MODIFIED:20210325T151834Z
UID:25885-1619030700-1619036100@old.ypc.org
SUMMARY:College Night
DESCRIPTION:Wednesday from 6:40-8:15 P.M.\nFor 9th to 11th Graders \nVisit the chorister login page for more info or to contact your conductor. \nhttps://zoom.us/j/95236652829\nMeeting ID: 952 3665 2829\nPasscode: 007517 \n< Back to Chorister Calendar
URL:https://old.ypc.org/event/college-night/
LOCATION:NY
CATEGORIES:Performance Chorus,Private
END:VEVENT
END:VCALENDAR