BEGIN:VCALENDAR
VERSION:2.0
PRODID:-//Young People&#039;s Chorus of NYC - ECPv6.2.9//NONSGML v1.0//EN
CALSCALE:GREGORIAN
METHOD:PUBLISH
X-WR-CALNAME:Young People&#039;s Chorus of NYC
X-ORIGINAL-URL:https://old.ypc.org
X-WR-CALDESC:Events for Young People&#039;s Chorus of NYC
REFRESH-INTERVAL;VALUE=DURATION:PT1H
X-Robots-Tag:noindex
X-PUBLISHED-TTL:PT1H
BEGIN:VTIMEZONE
TZID:America/New_York
BEGIN:DAYLIGHT
TZOFFSETFROM:-0500
TZOFFSETTO:-0400
TZNAME:EDT
DTSTART:20210314T070000
END:DAYLIGHT
BEGIN:STANDARD
TZOFFSETFROM:-0400
TZOFFSETTO:-0500
TZNAME:EST
DTSTART:20211107T060000
END:STANDARD
END:VTIMEZONE
BEGIN:VEVENT
DTSTART;TZID=America/New_York:20210416T163000
DTEND;TZID=America/New_York:20210416T180000
DTSTAMP:20260424T081104
CREATED:20210326T022748Z
LAST-MODIFIED:20210326T022748Z
UID:26173-1618590600-1618596000@old.ypc.org
SUMMARY:Intermezzo Extra Rehearsal
DESCRIPTION:Extra Friday rehearsal from 4:30-6:00 P.M.\nVisit the chorister login page for more info or to contact your conductor. \nhttps://zoom.us/j/94817329346\nMeeting ID: 948 1732 9346\nRefer to the chorister login page for password. \n< Back to Chorister Calendar
URL:https://old.ypc.org/event/intermezzo-extra-rehearsal-5/
LOCATION:Zoom Rehearsal
CATEGORIES:Performance Chorus,Private
END:VEVENT
BEGIN:VEVENT
DTSTART;TZID=America/New_York:20210416T163000
DTEND;TZID=America/New_York:20210416T183000
DTSTAMP:20260424T081104
CREATED:20210326T021922Z
LAST-MODIFIED:20210416T173657Z
UID:26148-1618590600-1618597800@old.ypc.org
SUMMARY:Chorale (Full) Rehearsal
DESCRIPTION:Weekly on Fridays from 4:30-6:30 P.M.\nVisit the chorister login page for more info or to contact your conductor. \nhttps://zoom.us/j/99804484914 \nMeeting ID: 998 0448 4914 \nThe password will be emailed. \n< Back to Chorister Calendar
URL:https://old.ypc.org/event/chorale-full-rehearsal-8-2021-04-16/
LOCATION:Zoom Rehearsal
CATEGORIES:Performance Chorus,Private
END:VEVENT
BEGIN:VEVENT
DTSTART;TZID=America/New_York:20210416T170000
DTEND;TZID=America/New_York:20210416T181500
DTSTAMP:20260424T081104
CREATED:20210326T022101Z
LAST-MODIFIED:20210416T173737Z
UID:26154-1618592400-1618596900@old.ypc.org
SUMMARY:Amani Rehearsal
DESCRIPTION:Weekly on Fridays from 5:00-6:15 P.M.\nVisit the chorister login page for more info or to contact your conductor. \nhttps://zoom.us/j/99804484914 \nMeeting ID: 998 0448 4914 \nThe password will be emailed. \n< Back to Chorister Calendar
URL:https://old.ypc.org/event/amani-rehearsal-8-2021-04-16/
LOCATION:Zoom Rehearsal
CATEGORIES:Performance Chorus,Private
END:VEVENT
BEGIN:VEVENT
DTSTART;TZID=America/New_York:20210416T170000
DTEND;TZID=America/New_York:20210416T181500
DTSTAMP:20260424T081104
CREATED:20210416T182603Z
LAST-MODIFIED:20210416T182603Z
UID:26702-1618592400-1618596900@old.ypc.org
SUMMARY:Invited Amani & Chorale: Impossible Dream Rehearsal
DESCRIPTION:Friday from 5:00-6:15 P.M.\nVisit the chorister login page for more info or to contact your conductor. \nhttps://zoom.us/j/99804484914\nMeeting ID: 998 0448 4914\nPassword will be emailed.\n< Back to Chorister Calendar
URL:https://old.ypc.org/event/invited-amani-chorale-impossible-dream-rehearsal/
LOCATION:Zoom Rehearsal
CATEGORIES:Performance Chorus,Private
END:VEVENT
END:VCALENDAR