BEGIN:VCALENDAR
VERSION:2.0
PRODID:-//Young People&#039;s Chorus of NYC - ECPv6.2.9//NONSGML v1.0//EN
CALSCALE:GREGORIAN
METHOD:PUBLISH
X-WR-CALNAME:Young People&#039;s Chorus of NYC
X-ORIGINAL-URL:https://old.ypc.org
X-WR-CALDESC:Events for Young People&#039;s Chorus of NYC
REFRESH-INTERVAL;VALUE=DURATION:PT1H
X-Robots-Tag:noindex
X-PUBLISHED-TTL:PT1H
BEGIN:VTIMEZONE
TZID:America/New_York
BEGIN:DAYLIGHT
TZOFFSETFROM:-0500
TZOFFSETTO:-0400
TZNAME:EDT
DTSTART:20210314T070000
END:DAYLIGHT
BEGIN:STANDARD
TZOFFSETFROM:-0400
TZOFFSETTO:-0500
TZNAME:EST
DTSTART:20211107T060000
END:STANDARD
END:VTIMEZONE
BEGIN:VEVENT
DTSTART;TZID=America/New_York:20210411T080000
DTEND;TZID=America/New_York:20210411T180000
DTSTAMP:20260422T114846
CREATED:20210326T022559Z
LAST-MODIFIED:20210326T022701Z
UID:26168-1618128000-1618164000@old.ypc.org
SUMMARY:Gala Filming - United Palace
DESCRIPTION:Sunday Time TBD\nVisit the chorister login page for more info or to contact your conductor. \nMore details to come! \nLocation: United Palace – Washington Heights \n< Back to Chorister Calendar
URL:https://old.ypc.org/event/gala-filming-united-palace-3/
LOCATION:United Palace\, 4140 Broadway\, New York\, NY\, 10033\, United States
CATEGORIES:Performance Chorus,Private
GEO:40.8465512;-73.9379109
X-APPLE-STRUCTURED-LOCATION;VALUE=URI;X-ADDRESS=United Palace 4140 Broadway New York NY 10033 United States;X-APPLE-RADIUS=500;X-TITLE=4140 Broadway:geo:-73.9379109,40.8465512
END:VEVENT
END:VCALENDAR