BEGIN:VCALENDAR
VERSION:2.0
PRODID:-//Young People&#039;s Chorus of NYC - ECPv6.2.9//NONSGML v1.0//EN
CALSCALE:GREGORIAN
METHOD:PUBLISH
X-WR-CALNAME:Young People&#039;s Chorus of NYC
X-ORIGINAL-URL:https://old.ypc.org
X-WR-CALDESC:Events for Young People&#039;s Chorus of NYC
REFRESH-INTERVAL;VALUE=DURATION:PT1H
X-Robots-Tag:noindex
X-PUBLISHED-TTL:PT1H
BEGIN:VTIMEZONE
TZID:America/New_York
BEGIN:DAYLIGHT
TZOFFSETFROM:-0500
TZOFFSETTO:-0400
TZNAME:EDT
DTSTART:20210314T070000
END:DAYLIGHT
BEGIN:STANDARD
TZOFFSETFROM:-0400
TZOFFSETTO:-0500
TZNAME:EST
DTSTART:20211107T060000
END:STANDARD
END:VTIMEZONE
BEGIN:VEVENT
DTSTART;TZID=America/New_York:20210330T090000
DTEND;TZID=America/New_York:20210330T120000
DTSTAMP:20260424T092853
CREATED:20210325T001334Z
LAST-MODIFIED:20210326T172847Z
UID:25860-1617094800-1617105600@old.ypc.org
SUMMARY:Gala Cantare Filming
DESCRIPTION:Filming time 9:00 A.M. – 12:00 P.M.\nVisit the chorister login page for more info or to contact your conductor. \nIn-person filming for Red Light Green Light at Domino Park in Brooklyn. More details to come. \n< Back to Chorister Calendar
URL:https://old.ypc.org/event/gala-cantare-filming/
LOCATION:Domino Park
CATEGORIES:Performance Chorus,Private
END:VEVENT
BEGIN:VEVENT
DTSTART;TZID=America/New_York:20210330T120000
DTEND;TZID=America/New_York:20210330T160000
DTSTAMP:20260424T092853
CREATED:20210326T173022Z
LAST-MODIFIED:20210326T173124Z
UID:26253-1617105600-1617120000@old.ypc.org
SUMMARY:Gala Chorale (Full) Filming
DESCRIPTION:t
URL:https://old.ypc.org/event/gala-chorale-filming/
LOCATION:Domino Park
CATEGORIES:Performance Chorus,Private
END:VEVENT
END:VCALENDAR