BEGIN:VCALENDAR
VERSION:2.0
PRODID:-//Young People&#039;s Chorus of NYC - ECPv6.2.9//NONSGML v1.0//EN
CALSCALE:GREGORIAN
METHOD:PUBLISH
X-ORIGINAL-URL:https://old.ypc.org
X-WR-CALDESC:Events for Young People&#039;s Chorus of NYC
REFRESH-INTERVAL;VALUE=DURATION:PT1H
X-Robots-Tag:noindex
X-PUBLISHED-TTL:PT1H
BEGIN:VTIMEZONE
TZID:America/New_York
BEGIN:DAYLIGHT
TZOFFSETFROM:-0500
TZOFFSETTO:-0400
TZNAME:EDT
DTSTART:20210314T070000
END:DAYLIGHT
BEGIN:STANDARD
TZOFFSETFROM:-0400
TZOFFSETTO:-0500
TZNAME:EST
DTSTART:20211107T060000
END:STANDARD
END:VTIMEZONE
BEGIN:VEVENT
DTSTART;TZID=America/New_York:20210323T163000
DTEND;TZID=America/New_York:20210323T183000
DTSTAMP:20260422T125643
CREATED:20210219T191940Z
LAST-MODIFIED:20210316T202928Z
UID:24442-1616517000-1616524200@old.ypc.org
SUMMARY:Amani Rehearsal
DESCRIPTION:Weekly on Tuesdays from 4:30-6:30 P.M.\nVisit the chorister login page for more info or to contact your conductor. \nhttps://zoom.us/j/95086013130\nMeeting ID: 950 8601 3130\nPasscode: 182203 \n< Back to Chorister Calendar
URL:https://old.ypc.org/event/amani-rehearsal-5-2021-03-23/
LOCATION:Zoom Rehearsal
CATEGORIES:Performance Chorus,Private
END:VEVENT
BEGIN:VEVENT
DTSTART;TZID=America/New_York:20210323T163000
DTEND;TZID=America/New_York:20210323T183000
DTSTAMP:20260422T125643
CREATED:20210219T192139Z
LAST-MODIFIED:20210316T203026Z
UID:24449-1616517000-1616524200@old.ypc.org
SUMMARY:Chorale (Lower Voices) Rehearsal
DESCRIPTION:Weekly on Tuesdays from 4:30-6:30 P.M.\nAt YPC – Cohort B \nVisit the chorister login page for more info or to contact your conductor. \nhttps://zoom.us/j/95086013130\nMeeting ID: 950 8601 3130\nPasscode: 182203 \n< Back to Chorister Calendar
URL:https://old.ypc.org/event/chorale-lower-voices-rehearsal-5-2021-03-23/
LOCATION:Zoom Rehearsal
CATEGORIES:Performance Chorus,Private
END:VEVENT
BEGIN:VEVENT
DTSTART;TZID=America/New_York:20210323T173000
DTEND;TZID=America/New_York:20210323T184500
DTSTAMP:20260422T125643
CREATED:20210219T192634Z
LAST-MODIFIED:20210310T182410Z
UID:24503-1616520600-1616525100@old.ypc.org
SUMMARY:Cantare Rehearsal
DESCRIPTION:Weekly on Tuesdays from 5:30-6:45 P.M.\nAt YPC – Cohort A \nVisit the chorister login page for more info or to contact your conductor. \nhttps://zoom.us/j/97885767486\nMeeting ID: 978 8576 7486\nPasscode: 138764 \n< Back to Chorister Calendar
URL:https://old.ypc.org/event/cantare-rehearsal-7-2021-03-23/2021-03-23/
LOCATION:Zoom Rehearsal
CATEGORIES:Performance Chorus,Private
END:VEVENT
END:VCALENDAR