BEGIN:VCALENDAR
VERSION:2.0
PRODID:-//Young People&#039;s Chorus of NYC - ECPv6.2.9//NONSGML v1.0//EN
CALSCALE:GREGORIAN
METHOD:PUBLISH
X-WR-CALNAME:Young People&#039;s Chorus of NYC
X-ORIGINAL-URL:https://old.ypc.org
X-WR-CALDESC:Events for Young People&#039;s Chorus of NYC
REFRESH-INTERVAL;VALUE=DURATION:PT1H
X-Robots-Tag:noindex
X-PUBLISHED-TTL:PT1H
BEGIN:VTIMEZONE
TZID:America/New_York
BEGIN:DAYLIGHT
TZOFFSETFROM:-0500
TZOFFSETTO:-0400
TZNAME:EDT
DTSTART:20210314T070000
END:DAYLIGHT
BEGIN:STANDARD
TZOFFSETFROM:-0400
TZOFFSETTO:-0500
TZNAME:EST
DTSTART:20211107T060000
END:STANDARD
END:VTIMEZONE
BEGIN:VEVENT
DTSTART;TZID=America/New_York:20210320T100000
DTEND;TZID=America/New_York:20210320T113000
DTSTAMP:20260424T082007
CREATED:20210318T225836Z
LAST-MODIFIED:20210318T230200Z
UID:25567-1616234400-1616239800@old.ypc.org
SUMMARY:Intermezzo Extra Rehearsal
DESCRIPTION:Extra Saturday rehearsal from 10:00-11:30 A.M.\nVisit the chorister login page for more info or to contact your conductor. \nhttps://zoom.us/j/94817329346 \nMeeting ID: 948 1732 9346 \nPasscode: 108023 \n< Back to Chorister Calendar
URL:https://old.ypc.org/event/intermezzo-extra-rehearsal-3-2/
LOCATION:Zoom Rehearsal
CATEGORIES:Performance Chorus,Private
END:VEVENT
BEGIN:VEVENT
DTSTART;TZID=America/New_York:20210320T140000
DTEND;TZID=America/New_York:20210320T163000
DTSTAMP:20260424T082007
CREATED:20210319T155923Z
LAST-MODIFIED:20210319T155923Z
UID:25590-1616248800-1616257800@old.ypc.org
SUMMARY:Cantare Extra Rehearsal
DESCRIPTION:Extra rehearsal Saturday from 2:00-4:30 P.M.\nVisit the chorister login page for more info or to contact your conductor. \nhttps://zoom.us/j/91710398628\nMeeting ID: 917 1039 8628\nPasscode: 133000 \n< Back to Chorister Calendar
URL:https://old.ypc.org/event/cantare-extra-rehearsal/
LOCATION:Zoom Rehearsal
CATEGORIES:Performance Chorus,Private
END:VEVENT
BEGIN:VEVENT
DTSTART;TZID=America/New_York:20210320T153000
DTEND;TZID=America/New_York:20210320T170000
DTSTAMP:20260424T082007
CREATED:20210319T200611Z
LAST-MODIFIED:20210319T200611Z
UID:25608-1616254200-1616259600@old.ypc.org
SUMMARY:Chorale (Treble Voices) Extra Rehearsal
DESCRIPTION:Extra rehearsal from 3:30-5:00 P.M.\nVisit the chorister login page for more info or to contact your conductor. \nhttps://us02web.zoom.us/j/88478049072 \nMeeting ID: 884 7804 9072 \nPasscode: 561562 \n< Back to Chorister Calendar
URL:https://old.ypc.org/event/chorale-treble-voices-extra-rehearsal/
LOCATION:Zoom Rehearsal
CATEGORIES:Performance Chorus,Private
END:VEVENT
END:VCALENDAR