BEGIN:VCALENDAR
VERSION:2.0
PRODID:-//Young People&#039;s Chorus of NYC - ECPv6.2.9//NONSGML v1.0//EN
CALSCALE:GREGORIAN
METHOD:PUBLISH
X-WR-CALNAME:Young People&#039;s Chorus of NYC
X-ORIGINAL-URL:https://old.ypc.org
X-WR-CALDESC:Events for Young People&#039;s Chorus of NYC
REFRESH-INTERVAL;VALUE=DURATION:PT1H
X-Robots-Tag:noindex
X-PUBLISHED-TTL:PT1H
BEGIN:VTIMEZONE
TZID:America/New_York
BEGIN:DAYLIGHT
TZOFFSETFROM:-0500
TZOFFSETTO:-0400
TZNAME:EDT
DTSTART:20210314T070000
END:DAYLIGHT
BEGIN:STANDARD
TZOFFSETFROM:-0400
TZOFFSETTO:-0500
TZNAME:EST
DTSTART:20211107T060000
END:STANDARD
END:VTIMEZONE
BEGIN:VEVENT
DTSTART;TZID=America/New_York:20210312T163000
DTEND;TZID=America/New_York:20210312T173000
DTSTAMP:20260422T125832
CREATED:20210225T211908Z
LAST-MODIFIED:20210311T191701Z
UID:24617-1615566600-1615570200@old.ypc.org
SUMMARY:Intermezzo Extra Rehearsal
DESCRIPTION:Extra Friday rehearsal from 4:30-5:30 P.M.\nVisit the chorister login page for more info or to contact your conductor. \nhttps://zoom.us/j/94817329346\nMeeting ID: 948 1732 9346\nPasscode: 108023 \n< Back to Chorister Calendar
URL:https://old.ypc.org/event/intermezzo-extra-rehearsal/
LOCATION:Zoom Rehearsal
CATEGORIES:Performance Chorus,Private
END:VEVENT
BEGIN:VEVENT
DTSTART;TZID=America/New_York:20210312T170000
DTEND;TZID=America/New_York:20210312T183000
DTSTAMP:20260422T125832
CREATED:20210305T203911Z
LAST-MODIFIED:20210310T213511Z
UID:24849-1615568400-1615573800@old.ypc.org
SUMMARY:Chorale (Full) Rehearsal
DESCRIPTION:Weekly on Fridays from 5:00-6:30 P.M.\nAt YPC – Cohort D \nVisit the chorister login page for more info or to contact your conductor. \nhttps://zoom.us/j/95236652829\nMeeting ID: 952 3665 2829\nPasscode: 007517 \n< Back to Chorister Calendar
URL:https://old.ypc.org/event/chorale-full-rehearsal-6-2021-03-12/
LOCATION:Zoom Rehearsal
CATEGORIES:Performance Chorus,Private
END:VEVENT
END:VCALENDAR