BEGIN:VCALENDAR
VERSION:2.0
PRODID:-//Young People&#039;s Chorus of NYC - ECPv6.2.9//NONSGML v1.0//EN
CALSCALE:GREGORIAN
METHOD:PUBLISH
X-WR-CALNAME:Young People&#039;s Chorus of NYC
X-ORIGINAL-URL:https://old.ypc.org
X-WR-CALDESC:Events for Young People&#039;s Chorus of NYC
REFRESH-INTERVAL;VALUE=DURATION:PT1H
X-Robots-Tag:noindex
X-PUBLISHED-TTL:PT1H
BEGIN:VTIMEZONE
TZID:America/New_York
BEGIN:DAYLIGHT
TZOFFSETFROM:-0500
TZOFFSETTO:-0400
TZNAME:EDT
DTSTART:20210314T070000
END:DAYLIGHT
BEGIN:STANDARD
TZOFFSETFROM:-0400
TZOFFSETTO:-0500
TZNAME:EST
DTSTART:20211107T060000
END:STANDARD
END:VTIMEZONE
BEGIN:VEVENT
DTSTART;TZID=America/New_York:20210311T170000
DTEND;TZID=America/New_York:20210311T180000
DTSTAMP:20260424T055248
CREATED:20210219T193207Z
LAST-MODIFIED:20210310T183140Z
UID:24493-1615482000-1615485600@old.ypc.org
SUMMARY:Community Senior Choruses Rehearsal
DESCRIPTION:Weekly on Thursdays from 5:00-6:00 P.M.\nVisit the chorister login page for more info or to contact your conductor. \nhttps://us02web.zoom.us/j/82709013243\nMeeting ID: 827 0901 3243\nPasscode: 511014 \n< Back to Chorister Calendar
URL:https://old.ypc.org/event/community-senior-choruses-rehearsal-4-2021-03-11/2021-03-11/
LOCATION:Zoom Rehearsal
CATEGORIES:Community Chorus,Private
END:VEVENT
BEGIN:VEVENT
DTSTART;TZID=America/New_York:20210311T170000
DTEND;TZID=America/New_York:20210311T184500
DTSTAMP:20260424T055248
CREATED:20210304T000047Z
LAST-MODIFIED:20210310T181900Z
UID:24705-1615482000-1615488300@old.ypc.org
SUMMARY:Cantare Rehearsal
DESCRIPTION:Weekly on Thursdays from 5:00-6:45 P.M.\nAt YPC – Cohort B \nVisit the chorister login page for more info or to contact your conductor. \nhttps://zoom.us/j/91710398628\nMeeting ID: 917 1039 8628\nPasscode: 133000 \n< Back to Chorister Calendar
URL:https://old.ypc.org/event/cantare-rehearsal-8-2021-03-11/
LOCATION:Zoom Rehearsal
CATEGORIES:Performance Chorus,Private
END:VEVENT
END:VCALENDAR