BEGIN:VCALENDAR
VERSION:2.0
PRODID:-//Young People&#039;s Chorus of NYC - ECPv6.2.9//NONSGML v1.0//EN
CALSCALE:GREGORIAN
METHOD:PUBLISH
X-ORIGINAL-URL:https://old.ypc.org
X-WR-CALDESC:Events for Young People&#039;s Chorus of NYC
REFRESH-INTERVAL;VALUE=DURATION:PT1H
X-Robots-Tag:noindex
X-PUBLISHED-TTL:PT1H
BEGIN:VTIMEZONE
TZID:America/New_York
BEGIN:DAYLIGHT
TZOFFSETFROM:-0500
TZOFFSETTO:-0400
TZNAME:EDT
DTSTART:20210314T070000
END:DAYLIGHT
BEGIN:STANDARD
TZOFFSETFROM:-0400
TZOFFSETTO:-0500
TZNAME:EST
DTSTART:20211107T060000
END:STANDARD
END:VTIMEZONE
BEGIN:VEVENT
DTSTART;TZID=America/New_York:20210309T170000
DTEND;TZID=America/New_York:20210309T181500
DTSTAMP:20260424T121015
CREATED:20210219T191940Z
LAST-MODIFIED:20210309T204630Z
UID:24440-1615309200-1615313700@old.ypc.org
SUMMARY:Amani Rehearsal
DESCRIPTION:Weekly on Tuesdays from 5:00-6:15 P.M.\nVisit the chorister login page for more info or to contact your conductor. \nToday we are joining rehearsals with Chorale Lower Voices. Here’s a new link for rehearsal. \nhttps://zoom.us/j/98755558429\nMeeting ID: 987 5555 8429\nPasscode: hJUe95 \n< Back to Chorister Calendar
URL:https://old.ypc.org/event/amani-rehearsal-5-2021-03-09/
LOCATION:Zoom Rehearsal
CATEGORIES:Performance Chorus,Private
END:VEVENT
BEGIN:VEVENT
DTSTART;TZID=America/New_York:20210309T170000
DTEND;TZID=America/New_York:20210309T181500
DTSTAMP:20260424T121015
CREATED:20210219T192139Z
LAST-MODIFIED:20210308T183610Z
UID:24447-1615309200-1615313700@old.ypc.org
SUMMARY:Chorale (Lower Voices) Rehearsal
DESCRIPTION:Weekly on Tuesdays from 5:00-6:15 P.M.\nAt YPC – Cohort B \nVisit the chorister login page for more info or to contact your conductor. \nhttps://zoom.us/j/98755558429\nMeeting ID: 987 5555 8429\nPasscode: hJUe95 \n< Back to Chorister Calendar
URL:https://old.ypc.org/event/chorale-lower-voices-rehearsal-5-2021-03-09/
LOCATION:Zoom Rehearsal
CATEGORIES:Performance Chorus,Private
END:VEVENT
BEGIN:VEVENT
DTSTART;TZID=America/New_York:20210309T173000
DTEND;TZID=America/New_York:20210309T184500
DTSTAMP:20260424T121015
CREATED:20210219T192634Z
LAST-MODIFIED:20210308T182638Z
UID:24501-1615311000-1615315500@old.ypc.org
SUMMARY:Cantare Rehearsal
DESCRIPTION:Weekly on Tuesdays from 5:30-6:45 P.M.\nAt YPC – Cohort A \nVisit the chorister login page for more info or to contact your conductor. \nhttps://zoom.us/j/96154829841\nMeeting ID: 961 5482 9841\nPasscode: 852083 \n< Back to Chorister Calendar
URL:https://old.ypc.org/event/cantare-rehearsal-7-2021-03-09/
LOCATION:Zoom Rehearsal
CATEGORIES:Performance Chorus,Private
END:VEVENT
END:VCALENDAR