BEGIN:VCALENDAR
VERSION:2.0
PRODID:-//Young People&#039;s Chorus of NYC - ECPv6.2.9//NONSGML v1.0//EN
CALSCALE:GREGORIAN
METHOD:PUBLISH
X-ORIGINAL-URL:https://old.ypc.org
X-WR-CALDESC:Events for Young People&#039;s Chorus of NYC
REFRESH-INTERVAL;VALUE=DURATION:PT1H
X-Robots-Tag:noindex
X-PUBLISHED-TTL:PT1H
BEGIN:VTIMEZONE
TZID:America/New_York
BEGIN:DAYLIGHT
TZOFFSETFROM:-0500
TZOFFSETTO:-0400
TZNAME:EDT
DTSTART:20210314T070000
END:DAYLIGHT
BEGIN:STANDARD
TZOFFSETFROM:-0400
TZOFFSETTO:-0500
TZNAME:EST
DTSTART:20211107T060000
END:STANDARD
END:VTIMEZONE
BEGIN:VEVENT
DTSTART;TZID=America/New_York:20210307T103000
DTEND;TZID=America/New_York:20210307T160000
DTSTAMP:20260422T140544
CREATED:20210304T000921Z
LAST-MODIFIED:20210304T000921Z
UID:24709-1615113000-1615132800@old.ypc.org
SUMMARY:Invited Chorale Lincoln Center Filming
DESCRIPTION:See memo for all the details.\n\n\n\n\nThis will be a COVID-safe set. Masks will be required at all times except when filming under the supervision of YPC staff and a certified COVID Compliance Officer. \nCome dressed and ready to film. Lunch will be provided. \n\n\n\n\nVisit the chorister login page for more info or to contact your conductor. \n< Back to Chorister Calendar
URL:https://old.ypc.org/event/invited-chorale-lincoln-center-filming/
LOCATION:Lincoln Center\, 10 Lincoln Center Plaza\, New York\, 10023\, United States
CATEGORIES:Performance Chorus,Private
GEO:40.7725776;-73.9832521
X-APPLE-STRUCTURED-LOCATION;VALUE=URI;X-ADDRESS=Lincoln Center 10 Lincoln Center Plaza New York 10023 United States;X-APPLE-RADIUS=500;X-TITLE=10 Lincoln Center Plaza:geo:-73.9832521,40.7725776
END:VEVENT
END:VCALENDAR