BEGIN:VCALENDAR
VERSION:2.0
PRODID:-//Young People&#039;s Chorus of NYC - ECPv6.2.9//NONSGML v1.0//EN
CALSCALE:GREGORIAN
METHOD:PUBLISH
X-ORIGINAL-URL:https://old.ypc.org
X-WR-CALDESC:Events for Young People&#039;s Chorus of NYC
REFRESH-INTERVAL;VALUE=DURATION:PT1H
X-Robots-Tag:noindex
X-PUBLISHED-TTL:PT1H
BEGIN:VTIMEZONE
TZID:America/New_York
BEGIN:DAYLIGHT
TZOFFSETFROM:-0500
TZOFFSETTO:-0400
TZNAME:EDT
DTSTART:20210314T070000
END:DAYLIGHT
BEGIN:STANDARD
TZOFFSETFROM:-0400
TZOFFSETTO:-0500
TZNAME:EST
DTSTART:20211107T060000
END:STANDARD
END:VTIMEZONE
BEGIN:VEVENT
DTSTART;TZID=America/New_York:20210305T170000
DTEND;TZID=America/New_York:20210305T181500
DTSTAMP:20260422T125645
CREATED:20210305T203911Z
LAST-MODIFIED:20210308T183419Z
UID:24847-1614963600-1614968100@old.ypc.org
SUMMARY:Chorale (Full) Rehearsal
DESCRIPTION:Weekly on Fridays from 5:00-6:15 P.M.\nAt YPC – Cohort D \nVisit the chorister login page for more info or to contact your conductor. \nhttps://zoom.us/j/410977031\nMeeting ID: 410 977 031\nPasscode: 931525 \n< Back to Chorister Calendar
URL:https://old.ypc.org/event/chorale-full-rehearsal-6/
LOCATION:Zoom Rehearsal
CATEGORIES:Performance Chorus,Private
END:VEVENT
END:VCALENDAR