BEGIN:VCALENDAR
VERSION:2.0
PRODID:-//Young People&#039;s Chorus of NYC - ECPv6.2.9//NONSGML v1.0//EN
CALSCALE:GREGORIAN
METHOD:PUBLISH
X-WR-CALNAME:Young People&#039;s Chorus of NYC
X-ORIGINAL-URL:https://old.ypc.org
X-WR-CALDESC:Events for Young People&#039;s Chorus of NYC
REFRESH-INTERVAL;VALUE=DURATION:PT1H
X-Robots-Tag:noindex
X-PUBLISHED-TTL:PT1H
BEGIN:VTIMEZONE
TZID:America/New_York
BEGIN:DAYLIGHT
TZOFFSETFROM:-0500
TZOFFSETTO:-0400
TZNAME:EDT
DTSTART:20210314T070000
END:DAYLIGHT
BEGIN:STANDARD
TZOFFSETFROM:-0400
TZOFFSETTO:-0500
TZNAME:EST
DTSTART:20211107T060000
END:STANDARD
END:VTIMEZONE
BEGIN:VEVENT
DTSTART;TZID=America/New_York:20210302T161500
DTEND;TZID=America/New_York:20210302T171500
DTSTAMP:20260424T104048
CREATED:20210219T192451Z
LAST-MODIFIED:20210219T192451Z
UID:24459-1614701700-1614705300@old.ypc.org
SUMMARY:Community Junior Choruses Rehearsal
DESCRIPTION:Weekly on Tuesdays from 4:15-5:15 P.M.\nVisit the chorister login page for more info or to contact your conductor. \nhttps://zoom.us/j/923826848\nMeeting ID: 923 826 848\nPasscode: 746364 \n< Back to Chorister Calendar
URL:https://old.ypc.org/event/community-junior-choruses-rehearsal-5/2021-03-02/
LOCATION:Zoom Rehearsal
CATEGORIES:Community Chorus,Private
END:VEVENT
BEGIN:VEVENT
DTSTART;TZID=America/New_York:20210302T170000
DTEND;TZID=America/New_York:20210302T181500
DTSTAMP:20260424T104048
CREATED:20210219T191940Z
LAST-MODIFIED:20210219T192214Z
UID:24438-1614704400-1614708900@old.ypc.org
SUMMARY:Amani Rehearsal
DESCRIPTION:Weekly on Tuesdays from 5:00-6:15 P.M.\nVisit the chorister login page for more info or to contact your conductor. \nhttps://us02web.zoom.us/j/659605439\nMeeting ID: 659 605 439\nPasscode: 913289 \n< Back to Chorister Calendar
URL:https://old.ypc.org/event/amani-rehearsal-5/
LOCATION:Zoom Rehearsal
CATEGORIES:Performance Chorus,Private
END:VEVENT
BEGIN:VEVENT
DTSTART;TZID=America/New_York:20210302T170000
DTEND;TZID=America/New_York:20210302T181500
DTSTAMP:20260424T104048
CREATED:20210219T192139Z
LAST-MODIFIED:20210219T192139Z
UID:24445-1614704400-1614708900@old.ypc.org
SUMMARY:Chorale (Lower Voices) Rehearsal
DESCRIPTION:Weekly on Tuesdays from 5:00-6:15 P.M.\nVisit the chorister login page for more info or to contact your conductor. \nhttps://zoom.us/j/98755558429\nMeeting ID: 987 5555 8429\nPasscode: hJUe95 \n< Back to Chorister Calendar
URL:https://old.ypc.org/event/chorale-lower-voices-rehearsal-5/2021-03-02/
LOCATION:Zoom Rehearsal
CATEGORIES:Performance Chorus,Private
END:VEVENT
BEGIN:VEVENT
DTSTART;TZID=America/New_York:20210302T173000
DTEND;TZID=America/New_York:20210302T184500
DTSTAMP:20260424T104048
CREATED:20210219T192634Z
LAST-MODIFIED:20210308T183316Z
UID:24466-1614706200-1614710700@old.ypc.org
SUMMARY:Cantare Rehearsal
DESCRIPTION:Weekly on Tuesdays from 5:30-6:45 P.M.\nVisit the chorister login page for more info or to contact your conductor. \nhttps://zoom.us/j/96154829841\nMeeting ID: 961 5482 9841\nPasscode: 852083 \n< Back to Chorister Calendar
URL:https://old.ypc.org/event/cantare-rehearsal-7/
LOCATION:Zoom Rehearsal
CATEGORIES:Performance Chorus,Private
END:VEVENT
END:VCALENDAR