BEGIN:VCALENDAR
VERSION:2.0
PRODID:-//Young People&#039;s Chorus of NYC - ECPv6.2.9//NONSGML v1.0//EN
CALSCALE:GREGORIAN
METHOD:PUBLISH
X-ORIGINAL-URL:https://old.ypc.org
X-WR-CALDESC:Events for Young People&#039;s Chorus of NYC
REFRESH-INTERVAL;VALUE=DURATION:PT1H
X-Robots-Tag:noindex
X-PUBLISHED-TTL:PT1H
BEGIN:VTIMEZONE
TZID:America/New_York
BEGIN:DAYLIGHT
TZOFFSETFROM:-0500
TZOFFSETTO:-0400
TZNAME:EDT
DTSTART:20210314T070000
END:DAYLIGHT
BEGIN:STANDARD
TZOFFSETFROM:-0400
TZOFFSETTO:-0500
TZNAME:EST
DTSTART:20211107T060000
END:STANDARD
END:VTIMEZONE
BEGIN:VEVENT
DTSTART;TZID=America/New_York:20210901T130000
DTEND;TZID=America/New_York:20210901T140000
DTSTAMP:20260421T212322
CREATED:20210828T144832Z
LAST-MODIFIED:20210831T150241Z
UID:30650-1630501200-1630504800@old.ypc.org
SUMMARY:9/11 Group Rehearsal
DESCRIPTION:Wednesday\, 1:00-2:00 p.m.\nYPC’s Home \nVisit the chorister login page for more info or to contact your conductor. \n< Back to Chorister Calendar
URL:https://old.ypc.org/event/9-11-group-rehearsal/
LOCATION:YPC’s Home\, 37 W 65th Street\, 2nd Floor\, New York\, NY\, 10023\, United States
CATEGORIES:Performance Chorus,Private
GEO:40.7728753;-73.9812519
X-APPLE-STRUCTURED-LOCATION;VALUE=URI;X-ADDRESS=YPC’s Home 37 W 65th Street 2nd Floor New York NY 10023 United States;X-APPLE-RADIUS=500;X-TITLE=37 W 65th Street\, 2nd Floor:geo:-73.9812519,40.7728753
END:VEVENT
BEGIN:VEVENT
DTSTART;TZID=America/New_York:20210901T140000
DTEND;TZID=America/New_York:20210901T160000
DTSTAMP:20260421T212322
CREATED:20210901T001412Z
LAST-MODIFIED:20210901T001412Z
UID:30897-1630504800-1630512000@old.ypc.org
SUMMARY:Chorale Rehearsal
DESCRIPTION:Wednesday 9/1\, 2:00-4:00 p.m.\nYPC’s Home \nVisit the chorister login page for more info or to contact your conductor. \n< Back to Chorister Calendar
URL:https://old.ypc.org/event/chorale-rehearsal-2/
LOCATION:YPC’s Home\, 37 W 65th Street\, 2nd Floor\, New York\, NY\, 10023\, United States
CATEGORIES:Performance Chorus,Private
GEO:40.7728753;-73.9812519
X-APPLE-STRUCTURED-LOCATION;VALUE=URI;X-ADDRESS=YPC’s Home 37 W 65th Street 2nd Floor New York NY 10023 United States;X-APPLE-RADIUS=500;X-TITLE=37 W 65th Street\, 2nd Floor:geo:-73.9812519,40.7728753
END:VEVENT
BEGIN:VEVENT
DTSTART;TZID=America/New_York:20210901T163000
DTEND;TZID=America/New_York:20210901T180000
DTSTAMP:20260421T212322
CREATED:20210831T210059Z
LAST-MODIFIED:20210901T000728Z
UID:30764-1630513800-1630519200@old.ypc.org
SUMMARY:Julia Wolfe Group Rehearsal
DESCRIPTION:Wednesday 9/1\, 4:30-6:00 p.m.\nYPC’s Home \nVisit the chorister login page for more info or to contact your conductor. \n< Back to Chorister Calendar
URL:https://old.ypc.org/event/julia-wolfe-group-rehearsal-2/
LOCATION:YPC’s Home\, 37 W 65th Street\, 2nd Floor\, New York\, NY\, 10023\, United States
CATEGORIES:Performance Chorus,Private
GEO:40.7728753;-73.9812519
X-APPLE-STRUCTURED-LOCATION;VALUE=URI;X-ADDRESS=YPC’s Home 37 W 65th Street 2nd Floor New York NY 10023 United States;X-APPLE-RADIUS=500;X-TITLE=37 W 65th Street\, 2nd Floor:geo:-73.9812519,40.7728753
END:VEVENT
BEGIN:VEVENT
DTSTART;TZID=America/New_York:20210902T150000
DTEND;TZID=America/New_York:20210902T180000
DTSTAMP:20260421T212322
CREATED:20210901T001533Z
LAST-MODIFIED:20210902T173321Z
UID:30900-1630594800-1630605600@old.ypc.org
SUMMARY:Chorale Rehearsal - updated time
DESCRIPTION:Thursday 9/2\, 3:00-6:00 p.m.\nYPC’s Home \nA zoom link is available for this rehearsal.  Please go to the chorister login and click the pink “Join Full Chorale Rehearsal” button.  The password is listed directly underneath the button. \nVisit the chorister login page for more info or to contact your conductor. \n< Back to Chorister Calendar
URL:https://old.ypc.org/event/chorale-rehearsal-3/
LOCATION:YPC’s Home\, 37 W 65th Street\, 2nd Floor\, New York\, NY\, 10023\, United States
CATEGORIES:Performance Chorus,Private
GEO:40.7728753;-73.9812519
X-APPLE-STRUCTURED-LOCATION;VALUE=URI;X-ADDRESS=YPC’s Home 37 W 65th Street 2nd Floor New York NY 10023 United States;X-APPLE-RADIUS=500;X-TITLE=37 W 65th Street\, 2nd Floor:geo:-73.9812519,40.7728753
END:VEVENT
BEGIN:VEVENT
DTSTART;TZID=America/New_York:20210909T160000
DTEND;TZID=America/New_York:20210909T170000
DTSTAMP:20260421T212322
CREATED:20210906T155052Z
LAST-MODIFIED:20210906T155052Z
UID:30757-1631203200-1631206800@old.ypc.org
SUMMARY:9/11 Group Rehearsal - Updated Time
DESCRIPTION:Thursday 9/9\, 4:00-5:00 p.m.\nYPC’s Home \nVisit the chorister login page for more info or to contact your conductor. \n< Back to Chorister Calendar
URL:https://old.ypc.org/event/9-11-group-rehearsal-3-2/
LOCATION:YPC’s Home\, 37 W 65th Street\, 2nd Floor\, New York\, NY\, 10023\, United States
CATEGORIES:Performance Chorus,Private
GEO:40.7728753;-73.9812519
X-APPLE-STRUCTURED-LOCATION;VALUE=URI;X-ADDRESS=YPC’s Home 37 W 65th Street 2nd Floor New York NY 10023 United States;X-APPLE-RADIUS=500;X-TITLE=37 W 65th Street\, 2nd Floor:geo:-73.9812519,40.7728753
END:VEVENT
BEGIN:VEVENT
DTSTART;TZID=America/New_York:20210909T170000
DTEND;TZID=America/New_York:20210909T193000
DTSTAMP:20260421T212322
CREATED:20210831T210351Z
LAST-MODIFIED:20210906T155412Z
UID:30842-1631206800-1631215800@old.ypc.org
SUMMARY:Julia Wolfe Group Rehearsal - Updated Time
DESCRIPTION:Thursday 9/9\, 5:00-7:30 p.m.\nYPC’s Home \nVisit the chorister login page for more info or to contact your conductor. \n< Back to Chorister Calendar
URL:https://old.ypc.org/event/julia-wolfe-group-rehearsal-4/
LOCATION:YPC’s Home\, 37 W 65th Street\, 2nd Floor\, New York\, NY\, 10023\, United States
CATEGORIES:Performance Chorus,Private
GEO:40.7728753;-73.9812519
X-APPLE-STRUCTURED-LOCATION;VALUE=URI;X-ADDRESS=YPC’s Home 37 W 65th Street 2nd Floor New York NY 10023 United States;X-APPLE-RADIUS=500;X-TITLE=37 W 65th Street\, 2nd Floor:geo:-73.9812519,40.7728753
END:VEVENT
BEGIN:VEVENT
DTSTART;TZID=America/New_York:20210910T133000
DTEND;TZID=America/New_York:20210910T190000
DTSTAMP:20260421T212322
CREATED:20210901T001843Z
LAST-MODIFIED:20210909T161050Z
UID:30903-1631280600-1631300400@old.ypc.org
SUMMARY:9/11 Group - Tech Rehearsal
DESCRIPTION:Friday 9/10\, 1:30-7:00 p.m.\nArrival and Dismissal at YPC’s Home \nWe will take a coach bus together to and from Ground Zero \nVisit the chorister login page for more info or to contact your conductor. \n< Back to Chorister Calendar
URL:https://old.ypc.org/event/9-11-group-tech-rehearsal/
LOCATION:Off-Site\, NY\, United States
CATEGORIES:Performance Chorus,Private
GEO:40.7127753;-74.0059728
END:VEVENT
BEGIN:VEVENT
DTSTART;TZID=America/New_York:20210911T050000
DTEND;TZID=America/New_York:20210911T113000
DTSTAMP:20260421T212322
CREATED:20210901T002113Z
LAST-MODIFIED:20210907T201142Z
UID:30906-1631336400-1631359800@old.ypc.org
SUMMARY:9/11 Group -Live Event
DESCRIPTION:Saturday 9/11\, 5:00 a.m. – 11:30 a.m.\nArrival and Dismissal at YPC’s Home \nWe will take a coach bus together to and from Ground Zero \nTimes are subject to change \nVisit the chorister login page for more info or to contact your conductor. \n< Back to Chorister Calendar
URL:https://old.ypc.org/event/9-11-group-live-event/
LOCATION:Off-Site\, NY\, United States
CATEGORIES:Performance Chorus,Private
GEO:40.7127753;-74.0059728
END:VEVENT
BEGIN:VEVENT
DTSTART;TZID=America/New_York:20210911T110000
DTEND;TZID=America/New_York:20210911T133000
DTSTAMP:20260421T212322
CREATED:20210906T155542Z
LAST-MODIFIED:20210911T145545Z
UID:31369-1631358000-1631367000@old.ypc.org
SUMMARY:Julia Wolfe Group Rehearsal - Added Rehearsal
DESCRIPTION:Saturday 9/11\, 11:00 a.m. – 1:30 p.m.\nYPC’s Home \nVisit the chorister login page for more info or to contact your conductor. \n< Back to Chorister Calendar
URL:https://old.ypc.org/event/julia-wolfe-group-rehearsal-added-rehearsal/
LOCATION:YPC’s Home\, 37 W 65th Street\, 2nd Floor\, New York\, NY\, 10023\, United States
CATEGORIES:Performance Chorus,Private
GEO:40.7728753;-73.9812519
X-APPLE-STRUCTURED-LOCATION;VALUE=URI;X-ADDRESS=YPC’s Home 37 W 65th Street 2nd Floor New York NY 10023 United States;X-APPLE-RADIUS=500;X-TITLE=37 W 65th Street\, 2nd Floor:geo:-73.9812519,40.7728753
END:VEVENT
BEGIN:VEVENT
DTSTART;TZID=America/New_York:20210912T130000
DTEND;TZID=America/New_York:20210912T160000
DTSTAMP:20260421T212322
CREATED:20210906T155700Z
LAST-MODIFIED:20210906T155700Z
UID:31372-1631451600-1631462400@old.ypc.org
SUMMARY:Julia Wolfe Group Rehearsal - Added Rehearsal
DESCRIPTION:Saturday 9/11\, 1:00-4:00 p.m.\nYPC’s Home \nVisit the chorister login page for more info or to contact your conductor. \n< Back to Chorister Calendar
URL:https://old.ypc.org/event/julia-wolfe-group-rehearsal-added-rehearsal-2/
LOCATION:YPC’s Home\, 37 W 65th Street\, 2nd Floor\, New York\, NY\, 10023\, United States
CATEGORIES:Performance Chorus,Private
GEO:40.7728753;-73.9812519
X-APPLE-STRUCTURED-LOCATION;VALUE=URI;X-ADDRESS=YPC’s Home 37 W 65th Street 2nd Floor New York NY 10023 United States;X-APPLE-RADIUS=500;X-TITLE=37 W 65th Street\, 2nd Floor:geo:-73.9812519,40.7728753
END:VEVENT
BEGIN:VEVENT
DTSTART;VALUE=DATE:20210913
DTEND;VALUE=DATE:20210914
DTSTAMP:20260421T212322
CREATED:20210901T012809Z
LAST-MODIFIED:20211105T220823Z
UID:30916-1631491200-1631577599@old.ypc.org
SUMMARY:Intermezzo (Cohort A) Rehearsal
DESCRIPTION:Mondays\, 4:00-5:15 p.m.\nYPC’s Home \nVisit the chorister login page for more info or to contact your conductor. \n< Back to Chorister Calendar
URL:https://old.ypc.org/event/intermezzo-m-cohort-a-rehearsal/2021-09-13/
LOCATION:YPC’s Home\, 37 W 65th Street\, 2nd Floor\, New York\, NY\, 10023\, United States
CATEGORIES:Performance Chorus,Private
GEO:40.7728753;-73.9812519
X-APPLE-STRUCTURED-LOCATION;VALUE=URI;X-ADDRESS=YPC’s Home 37 W 65th Street 2nd Floor New York NY 10023 United States;X-APPLE-RADIUS=500;X-TITLE=37 W 65th Street\, 2nd Floor:geo:-73.9812519,40.7728753
END:VEVENT
BEGIN:VEVENT
DTSTART;TZID=America/New_York:20210913T163000
DTEND;TZID=America/New_York:20210913T183000
DTSTAMP:20260421T212322
CREATED:20210831T231938Z
LAST-MODIFIED:20210912T210938Z
UID:30847-1631550600-1631557800@old.ypc.org
SUMMARY:Julia Wolfe Group Rehearsal
DESCRIPTION:Monday 9/13\, 4:30-6:30 p.m.\nYPC’s Home \nVisit the chorister login page for more info or to contact your conductor. \n< Back to Chorister Calendar
URL:https://old.ypc.org/event/julia-wolfe-group-rehearsal-5/
LOCATION:YPC’s Home\, 37 W 65th Street\, 2nd Floor\, New York\, NY\, 10023\, United States
CATEGORIES:Performance Chorus,Private
GEO:40.7728753;-73.9812519
X-APPLE-STRUCTURED-LOCATION;VALUE=URI;X-ADDRESS=YPC’s Home 37 W 65th Street 2nd Floor New York NY 10023 United States;X-APPLE-RADIUS=500;X-TITLE=37 W 65th Street\, 2nd Floor:geo:-73.9812519,40.7728753
END:VEVENT
BEGIN:VEVENT
DTSTART;TZID=America/New_York:20210913T173000
DTEND;TZID=America/New_York:20210913T184500
DTSTAMP:20260421T212322
CREATED:20210901T013817Z
LAST-MODIFIED:20211105T220918Z
UID:30923-1631554200-1631558700@old.ypc.org
SUMMARY:Intermezzo (Cohort B) Rehearsal
DESCRIPTION:Mondays\, 5:30-6:45 p.m.\nYPC’s Home \nVisit the chorister login page for more info or to contact your conductor. \n< Back to Chorister Calendar
URL:https://old.ypc.org/event/intermezzo-m-cohort-b-rehearsal/2021-09-13/
LOCATION:YPC’s Home\, 37 W 65th Street\, 2nd Floor\, New York\, NY\, 10023\, United States
CATEGORIES:Performance Chorus,Private
GEO:40.7728753;-73.9812519
X-APPLE-STRUCTURED-LOCATION;VALUE=URI;X-ADDRESS=YPC’s Home 37 W 65th Street 2nd Floor New York NY 10023 United States;X-APPLE-RADIUS=500;X-TITLE=37 W 65th Street\, 2nd Floor:geo:-73.9812519,40.7728753
END:VEVENT
BEGIN:VEVENT
DTSTART;TZID=America/New_York:20210914T163000
DTEND;TZID=America/New_York:20210914T183000
DTSTAMP:20260421T212322
CREATED:20210907T201756Z
LAST-MODIFIED:20210921T235524Z
UID:31417-1631637000-1631644200@old.ypc.org
SUMMARY:Cantare (Cohort A/C) Rehearsal
DESCRIPTION:Tuesdays\, 4:30-6:30 p.m.\nYPC’s Home \nVisit the chorister login page for more info or to contact your conductor. \n< Back to Chorister Calendar
URL:https://old.ypc.org/event/cantare-rehearsal-cohorts-a-c/2021-09-14/
LOCATION:YPC’s Home\, 37 W 65th Street\, 2nd Floor\, New York\, NY\, 10023\, United States
CATEGORIES:Performance Chorus,Private
GEO:40.7728753;-73.9812519
X-APPLE-STRUCTURED-LOCATION;VALUE=URI;X-ADDRESS=YPC’s Home 37 W 65th Street 2nd Floor New York NY 10023 United States;X-APPLE-RADIUS=500;X-TITLE=37 W 65th Street\, 2nd Floor:geo:-73.9812519,40.7728753
END:VEVENT
BEGIN:VEVENT
DTSTART;TZID=America/New_York:20210914T163000
DTEND;TZID=America/New_York:20210914T193000
DTSTAMP:20260421T212322
CREATED:20210901T000326Z
LAST-MODIFIED:20210901T000450Z
UID:30878-1631637000-1631647800@old.ypc.org
SUMMARY:Julia Wolfe Group - Live Event
DESCRIPTION:Tuesday 9/14\, 4:30-7:30 p.m.\nYPC’s Home \nVisit the chorister login page for more info or to contact your conductor. \n< Back to Chorister Calendar
URL:https://old.ypc.org/event/julia-wolfe-group-rehearsal-5-2/
LOCATION:Off-Site\, NY\, United States
CATEGORIES:Performance Chorus,Private
GEO:40.7127753;-74.0059728
END:VEVENT
BEGIN:VEVENT
DTSTART;TZID=America/New_York:20210917T160000
DTEND;TZID=America/New_York:20210917T171500
DTSTAMP:20260421T212322
CREATED:20210901T014724Z
LAST-MODIFIED:20211105T220225Z
UID:30932-1631894400-1631898900@old.ypc.org
SUMMARY:Intermezzo (Cohort C) Rehearsal
DESCRIPTION:Fridays\, 4:00-5:15 p.m.\nYPC’s Home \nVisit the chorister login page for more info or to contact your conductor. \n< Back to Chorister Calendar
URL:https://old.ypc.org/event/intermezzo-m-cohort-b-rehearsal-2/2021-09-17/
LOCATION:YPC’s Home\, 37 W 65th Street\, 2nd Floor\, New York\, NY\, 10023\, United States
CATEGORIES:Performance Chorus,Private
GEO:40.7728753;-73.9812519
X-APPLE-STRUCTURED-LOCATION;VALUE=URI;X-ADDRESS=YPC’s Home 37 W 65th Street 2nd Floor New York NY 10023 United States;X-APPLE-RADIUS=500;X-TITLE=37 W 65th Street\, 2nd Floor:geo:-73.9812519,40.7728753
END:VEVENT
BEGIN:VEVENT
DTSTART;TZID=America/New_York:20210917T163000
DTEND;TZID=America/New_York:20210917T180000
DTSTAMP:20260421T212322
CREATED:20210909T160241Z
LAST-MODIFIED:20210924T015120Z
UID:31486-1631896200-1631901600@old.ypc.org
SUMMARY:Chorale Rehearsal
DESCRIPTION:Fridays\, 4:30-6:00 p.m.\nYPC’s Home \nVisit the chorister login page for more info or to contact your conductor. \n< Back to Chorister Calendar
URL:https://old.ypc.org/event/treble-voices-rehearsal-2-2-2/2021-09-17/
LOCATION:YPC’s Home\, 37 W 65th Street\, 2nd Floor\, New York\, NY\, 10023\, United States
CATEGORIES:Performance Chorus,Private
GEO:40.7728753;-73.9812519
X-APPLE-STRUCTURED-LOCATION;VALUE=URI;X-ADDRESS=YPC’s Home 37 W 65th Street 2nd Floor New York NY 10023 United States;X-APPLE-RADIUS=500;X-TITLE=37 W 65th Street\, 2nd Floor:geo:-73.9812519,40.7728753
END:VEVENT
BEGIN:VEVENT
DTSTART;TZID=America/New_York:20210917T173000
DTEND;TZID=America/New_York:20210917T184500
DTSTAMP:20260421T212322
CREATED:20210901T015600Z
LAST-MODIFIED:20211106T002224Z
UID:30950-1631899800-1631904300@old.ypc.org
SUMMARY:Intermezzo (Cohort D) Rehearsal
DESCRIPTION:Fridays\, 5:30-6:45 p.m.\nYPC’s Home \nVisit the chorister login page for more info or to contact your conductor. \n< Back to Chorister Calendar
URL:https://old.ypc.org/event/intermezzo-cohort-d-rehearsal/2021-09-17/
LOCATION:YPC’s Home\, 37 W 65th Street\, 2nd Floor\, New York\, NY\, 10023\, United States
CATEGORIES:Performance Chorus,Private
GEO:40.7728753;-73.9812519
X-APPLE-STRUCTURED-LOCATION;VALUE=URI;X-ADDRESS=YPC’s Home 37 W 65th Street 2nd Floor New York NY 10023 United States;X-APPLE-RADIUS=500;X-TITLE=37 W 65th Street\, 2nd Floor:geo:-73.9812519,40.7728753
END:VEVENT
BEGIN:VEVENT
DTSTART;TZID=America/New_York:20210918T103000
DTEND;TZID=America/New_York:20210918T113000
DTSTAMP:20260421T212322
CREATED:20210901T020533Z
LAST-MODIFIED:20210907T154615Z
UID:30961-1631961000-1631964600@old.ypc.org
SUMMARY:Prelude (Group 1) Rehearsal
DESCRIPTION:Saturday 9/18\, 10:30-11:30 a.m.\nYPC’s Home \nVisit the chorister login page for more info or to contact your conductor. \n< Back to Chorister Calendar
URL:https://old.ypc.org/event/prelude-cohort-a-welcome-rehearsal/
LOCATION:YPC’s Home\, 37 W 65th Street\, 2nd Floor\, New York\, NY\, 10023\, United States
CATEGORIES:Performance Chorus,Private
GEO:40.7728753;-73.9812519
X-APPLE-STRUCTURED-LOCATION;VALUE=URI;X-ADDRESS=YPC’s Home 37 W 65th Street 2nd Floor New York NY 10023 United States;X-APPLE-RADIUS=500;X-TITLE=37 W 65th Street\, 2nd Floor:geo:-73.9812519,40.7728753
END:VEVENT
BEGIN:VEVENT
DTSTART;TZID=America/New_York:20210918T120000
DTEND;TZID=America/New_York:20210918T130000
DTSTAMP:20260421T212322
CREATED:20210901T020655Z
LAST-MODIFIED:20210907T154756Z
UID:30964-1631966400-1631970000@old.ypc.org
SUMMARY:Prelude (Group 2) Rehearsal
DESCRIPTION:Saturday 9/18\, 12:00-1:00 p.m.\nYPC’s Home \nVisit the chorister login page for more info or to contact your conductor. \n< Back to Chorister Calendar
URL:https://old.ypc.org/event/prelude-group-2-welcome-rehearsal/
LOCATION:YPC’s Home\, 37 W 65th Street\, 2nd Floor\, New York\, NY\, 10023\, United States
CATEGORIES:Performance Chorus,Private
GEO:40.7728753;-73.9812519
X-APPLE-STRUCTURED-LOCATION;VALUE=URI;X-ADDRESS=YPC’s Home 37 W 65th Street 2nd Floor New York NY 10023 United States;X-APPLE-RADIUS=500;X-TITLE=37 W 65th Street\, 2nd Floor:geo:-73.9812519,40.7728753
END:VEVENT
BEGIN:VEVENT
DTSTART;TZID=America/New_York:20210918T120000
DTEND;TZID=America/New_York:20210918T140000
DTSTAMP:20260421T212322
CREATED:20210918T000614Z
LAST-MODIFIED:20210918T194138Z
UID:31817-1631966400-1631973600@old.ypc.org
SUMMARY:University Club Group Rehearsal
DESCRIPTION:Saturday 9/18\, 12:00-2:00 p.m.\nYPC’s Home \nVisit the chorister login page for more info or to contact your conductor. \n< Back to Chorister Calendar
URL:https://old.ypc.org/event/university-club-group-rehearsal-4/2021-09-18/
LOCATION:YPC’s Home\, 37 W 65th Street\, 2nd Floor\, New York\, NY\, 10023\, United States
CATEGORIES:Performance Chorus,Private
GEO:40.7728753;-73.9812519
X-APPLE-STRUCTURED-LOCATION;VALUE=URI;X-ADDRESS=YPC’s Home 37 W 65th Street 2nd Floor New York NY 10023 United States;X-APPLE-RADIUS=500;X-TITLE=37 W 65th Street\, 2nd Floor:geo:-73.9812519,40.7728753
END:VEVENT
BEGIN:VEVENT
DTSTART;TZID=America/New_York:20210918T140000
DTEND;TZID=America/New_York:20210918T153000
DTSTAMP:20260421T212322
CREATED:20210917T184619Z
LAST-MODIFIED:20210917T184931Z
UID:31786-1631973600-1631979000@old.ypc.org
SUMMARY:Global Citizens Group Rehearsal
DESCRIPTION:Saturday 9/18\, 2:00-3:30 p.m.\nYPC’s Home \nVisit the chorister login page for more info or to contact your conductor. \n< Back to Chorister Calendar
URL:https://old.ypc.org/event/amani-rehearsal-13-2-2-2/2021-09-18/
LOCATION:YPC’s Home\, 37 W 65th Street\, 2nd Floor\, New York\, NY\, 10023\, United States
CATEGORIES:Performance Chorus,Private
GEO:40.7728753;-73.9812519
X-APPLE-STRUCTURED-LOCATION;VALUE=URI;X-ADDRESS=YPC’s Home 37 W 65th Street 2nd Floor New York NY 10023 United States;X-APPLE-RADIUS=500;X-TITLE=37 W 65th Street\, 2nd Floor:geo:-73.9812519,40.7728753
END:VEVENT
BEGIN:VEVENT
DTSTART;TZID=America/New_York:20210921T163000
DTEND;TZID=America/New_York:20210921T180000
DTSTAMP:20260421T212322
CREATED:20210901T022426Z
LAST-MODIFIED:20210921T235905Z
UID:31003-1632241800-1632247200@old.ypc.org
SUMMARY:Lower Voices Rehearsal
DESCRIPTION:Tuesday 9/21\, 4:30-6:00 p.m.\nYPC’s Home \nVisit the chorister login page for more info or to contact your conductor. \n< Back to Chorister Calendar
URL:https://old.ypc.org/event/lower-voices-rehearsal/
LOCATION:YPC’s Home\, 37 W 65th Street\, 2nd Floor\, New York\, NY\, 10023\, United States
CATEGORIES:Performance Chorus,Private
GEO:40.7728753;-73.9812519
X-APPLE-STRUCTURED-LOCATION;VALUE=URI;X-ADDRESS=YPC’s Home 37 W 65th Street 2nd Floor New York NY 10023 United States;X-APPLE-RADIUS=500;X-TITLE=37 W 65th Street\, 2nd Floor:geo:-73.9812519,40.7728753
END:VEVENT
BEGIN:VEVENT
DTSTART;TZID=America/New_York:20210921T180000
DTEND;TZID=America/New_York:20210921T193000
DTSTAMP:20260421T212322
CREATED:20210921T150357Z
LAST-MODIFIED:20210921T150357Z
UID:31988-1632247200-1632252600@old.ypc.org
SUMMARY:University Club Group Rehearsal
DESCRIPTION:Tuesday 9/21\, 6:00-7:30 p.m.\nYPC’s Home \nVisit the chorister login page for more info or to contact your conductor. \n< Back to Chorister Calendar
URL:https://old.ypc.org/event/lower-voices-rehearsal-2/2021-09-21/
LOCATION:YPC’s Home\, 37 W 65th Street\, 2nd Floor\, New York\, NY\, 10023\, United States
CATEGORIES:Performance Chorus,Private
GEO:40.7728753;-73.9812519
X-APPLE-STRUCTURED-LOCATION;VALUE=URI;X-ADDRESS=YPC’s Home 37 W 65th Street 2nd Floor New York NY 10023 United States;X-APPLE-RADIUS=500;X-TITLE=37 W 65th Street\, 2nd Floor:geo:-73.9812519,40.7728753
END:VEVENT
BEGIN:VEVENT
DTSTART;TZID=America/New_York:20210922T163000
DTEND;TZID=America/New_York:20210922T173000
DTSTAMP:20260421T212322
CREATED:20210917T184857Z
LAST-MODIFIED:20210917T184947Z
UID:31789-1632328200-1632331800@old.ypc.org
SUMMARY:Global Citizens Group Rehearsal
DESCRIPTION:Wednesday 9/22\, 4:30-5:30 p.m.\nYPC’s Home \nVisit the chorister login page for more info or to contact your conductor. \n< Back to Chorister Calendar
URL:https://old.ypc.org/event/amani-rehearsal-13-2-2-2-2/2021-09-22/
LOCATION:YPC’s Home\, 37 W 65th Street\, 2nd Floor\, New York\, NY\, 10023\, United States
CATEGORIES:Performance Chorus,Private
GEO:40.7728753;-73.9812519
X-APPLE-STRUCTURED-LOCATION;VALUE=URI;X-ADDRESS=YPC’s Home 37 W 65th Street 2nd Floor New York NY 10023 United States;X-APPLE-RADIUS=500;X-TITLE=37 W 65th Street\, 2nd Floor:geo:-73.9812519,40.7728753
END:VEVENT
BEGIN:VEVENT
DTSTART;TZID=America/New_York:20210922T163000
DTEND;TZID=America/New_York:20210922T183000
DTSTAMP:20260421T212322
CREATED:20210901T014101Z
LAST-MODIFIED:20211011T194113Z
UID:30927-1632328200-1632335400@old.ypc.org
SUMMARY:Amani Rehearsal
DESCRIPTION:Wednesdays\, 4:30-6:30 p.m.\nAnnunciation Greek Orthodox Church (AGOC) \n302 West 91st Street\, between West End Avenue and Riverside Drive \nVisit the chorister login page for more info or to contact your conductor. \n< Back to Chorister Calendar
URL:https://old.ypc.org/event/amani-rehearsal-13/2021-09-22/
LOCATION:Annunciation Greek Orthodox Church (AGOC)\, 302 West 91st Street\, New York\, NY\, 10024\, United States
CATEGORIES:Performance Chorus,Private
GEO:40.792102;-73.9759781
X-APPLE-STRUCTURED-LOCATION;VALUE=URI;X-ADDRESS=Annunciation Greek Orthodox Church (AGOC) 302 West 91st Street New York NY 10024 United States;X-APPLE-RADIUS=500;X-TITLE=302 West 91st Street:geo:-73.9759781,40.792102
END:VEVENT
BEGIN:VEVENT
DTSTART;TZID=America/New_York:20210922T163000
DTEND;TZID=America/New_York:20210922T183000
DTSTAMP:20260421T212322
CREATED:20210901T021155Z
LAST-MODIFIED:20211103T025429Z
UID:30972-1632328200-1632335400@old.ypc.org
SUMMARY:Chorale Rehearsal
DESCRIPTION:Wednesdays and Fridays\, 4:30-6:30 p.m.\nYPC’s Home \nVisit the chorister login page for more info or to contact your conductor. \n< Back to Chorister Calendar
URL:https://old.ypc.org/event/treble-voices-rehearsal-2-2/2021-09-22/
LOCATION:YPC’s Home\, 37 W 65th Street\, 2nd Floor\, New York\, NY\, 10023\, United States
CATEGORIES:Performance Chorus,Private
GEO:40.7728753;-73.9812519
X-APPLE-STRUCTURED-LOCATION;VALUE=URI;X-ADDRESS=YPC’s Home 37 W 65th Street 2nd Floor New York NY 10023 United States;X-APPLE-RADIUS=500;X-TITLE=37 W 65th Street\, 2nd Floor:geo:-73.9812519,40.7728753
END:VEVENT
BEGIN:VEVENT
DTSTART;TZID=America/New_York:20210922T173000
DTEND;TZID=America/New_York:20210922T183000
DTSTAMP:20260421T212322
CREATED:20210921T150525Z
LAST-MODIFIED:20210921T150525Z
UID:31991-1632331800-1632335400@old.ypc.org
SUMMARY:University Club Group Rehearsal
DESCRIPTION:Wednesday 9/22\, 5:30-6:30 p.m.\nYPC’s Home \n(During Chorale Rehearsal) \nVisit the chorister login page for more info or to contact your conductor. \n< Back to Chorister Calendar
URL:https://old.ypc.org/event/lower-voices-rehearsal-2-2/2021-09-22/
LOCATION:YPC’s Home\, 37 W 65th Street\, 2nd Floor\, New York\, NY\, 10023\, United States
CATEGORIES:Performance Chorus,Private
GEO:40.7728753;-73.9812519
X-APPLE-STRUCTURED-LOCATION;VALUE=URI;X-ADDRESS=YPC’s Home 37 W 65th Street 2nd Floor New York NY 10023 United States;X-APPLE-RADIUS=500;X-TITLE=37 W 65th Street\, 2nd Floor:geo:-73.9812519,40.7728753
END:VEVENT
BEGIN:VEVENT
DTSTART;TZID=America/New_York:20210923T150000
DTEND;TZID=America/New_York:20210923T164500
DTSTAMP:20260421T212322
CREATED:20210917T184249Z
LAST-MODIFIED:20210920T164117Z
UID:31778-1632409200-1632415500@old.ypc.org
SUMMARY:Global Citizens Group Rehearsal
DESCRIPTION:Thursday 9/23\, 3:00-4:45 p.m.\nCarroll Rehearsal Studio \n625 West 55th Street\, #6 \nBetween 11th and 12th Avenue \nVisit the chorister login page for more info or to contact your conductor. \n< Back to Chorister Calendar
URL:https://old.ypc.org/event/global-citizens-group-rehearsal-2/2021-09-23/
LOCATION:Carroll Rehearsal Studio\, 625 West 55th Street\, #6\, New York\, NY\, 10019\, United States
CATEGORIES:Performance Chorus,Private
GEO:40.7697639;-73.9936889
X-APPLE-STRUCTURED-LOCATION;VALUE=URI;X-ADDRESS=Carroll Rehearsal Studio 625 West 55th Street #6 New York NY 10019 United States;X-APPLE-RADIUS=500;X-TITLE=625 West 55th Street\, #6:geo:-73.9936889,40.7697639
END:VEVENT
BEGIN:VEVENT
DTSTART;TZID=America/New_York:20210923T160000
DTEND;TZID=America/New_York:20210923T171500
DTSTAMP:20260421T212322
CREATED:20210901T021543Z
LAST-MODIFIED:20210922T000819Z
UID:30981-1632412800-1632417300@old.ypc.org
SUMMARY:Prelude (Cohort A) Rehearsal
DESCRIPTION:Thursdays\, 4:00-5:15 p.m.\nYPC’s Home \nVisit the chorister login page for more info or to contact your conductor. \n< Back to Chorister Calendar
URL:https://old.ypc.org/event/prelude-cohort-a-rehearsal/2021-09-23/
LOCATION:YPC’s Home\, 37 W 65th Street\, 2nd Floor\, New York\, NY\, 10023\, United States
CATEGORIES:Performance Chorus,Private
GEO:40.7728753;-73.9812519
X-APPLE-STRUCTURED-LOCATION;VALUE=URI;X-ADDRESS=YPC’s Home 37 W 65th Street 2nd Floor New York NY 10023 United States;X-APPLE-RADIUS=500;X-TITLE=37 W 65th Street\, 2nd Floor:geo:-73.9812519,40.7728753
END:VEVENT
END:VCALENDAR