BEGIN:VCALENDAR
VERSION:2.0
PRODID:-//Young People&#039;s Chorus of NYC - ECPv6.2.9//NONSGML v1.0//EN
CALSCALE:GREGORIAN
METHOD:PUBLISH
X-WR-CALNAME:Young People&#039;s Chorus of NYC
X-ORIGINAL-URL:https://old.ypc.org
X-WR-CALDESC:Events for Young People&#039;s Chorus of NYC
REFRESH-INTERVAL;VALUE=DURATION:PT1H
X-Robots-Tag:noindex
X-PUBLISHED-TTL:PT1H
BEGIN:VTIMEZONE
TZID:UTC
BEGIN:STANDARD
TZOFFSETFROM:+0000
TZOFFSETTO:+0000
TZNAME:UTC
DTSTART:20170101T000000
END:STANDARD
END:VTIMEZONE
BEGIN:VEVENT
DTSTART;VALUE=DATE:20170725
DTEND;VALUE=DATE:20170727
DTSTAMP:20260424T143044
CREATED:20170518T211744Z
LAST-MODIFIED:20201207T181621Z
UID:3544-1500940800-1501113599@old.ypc.org
SUMMARY:Mostly Mozart
DESCRIPTION:« All Events \n\n\n\n\n \n \n\nTuesday\, July 25 at 8:00 p.m.\nWednesday\, July 26 at 7:30 p.m.\n \n \n\nThe Singing Heart\nSpecial Opening-Night Presentation \nIn their Mostly Mozart debut\, the Young People’s Chorus of New York City conducted by Artistic Director Francisco J. Núñez will be featured in the festival’s opening concert: an exuberant evening of symphony and song\, under Mostly Mozart Music Director Louis Langrée.\n\n \n \n \n \n\n \n \n\n\n\n\nDate & Time: \nTuesday\, July 25 at 8:00 p.m.\nWednesday\, July 26 at 7:30 p.m. \nVenue: \nDavid Geffen Hall\n10 Lincoln Center Plaza\n\n\n\n\n\n \n\n\nTickets:\nOnline \nBy Phone at CenterCharge: 212-721-6500\nAt box office: David Geffen Hall Box Office  or Alice Tully Hall Box Office
URL:https://old.ypc.org/event/mostly-mozart/
LOCATION:David Geffen Hall\, 10 Lincoln Center Plaza\, New York\, NY\, 10023\, United States
CATEGORIES:Event,Performance
ATTACH;FMTTYPE=image/jpeg:https://old.ypc.org/wp-content/uploads/2020/10/MostlyMozart.jpg
GEO:40.7725776;-73.9832521
X-APPLE-STRUCTURED-LOCATION;VALUE=URI;X-ADDRESS=David Geffen Hall 10 Lincoln Center Plaza New York NY 10023 United States;X-APPLE-RADIUS=500;X-TITLE=10 Lincoln Center Plaza:geo:-73.9832521,40.7725776
END:VEVENT
END:VCALENDAR