BEGIN:VCALENDAR
VERSION:2.0
PRODID:-//Young People&#039;s Chorus of NYC - ECPv6.2.9//NONSGML v1.0//EN
CALSCALE:GREGORIAN
METHOD:PUBLISH
X-ORIGINAL-URL:https://old.ypc.org
X-WR-CALDESC:Events for Young People&#039;s Chorus of NYC
REFRESH-INTERVAL;VALUE=DURATION:PT1H
X-Robots-Tag:noindex
X-PUBLISHED-TTL:PT1H
BEGIN:VTIMEZONE
TZID:UTC
BEGIN:STANDARD
TZOFFSETFROM:+0000
TZOFFSETTO:+0000
TZNAME:UTC
DTSTART:20170101T000000
END:STANDARD
END:VTIMEZONE
BEGIN:VEVENT
DTSTART;VALUE=DATE:20170711
DTEND;VALUE=DATE:20170717
DTSTAMP:20260424T143253
CREATED:20170504T012443Z
LAST-MODIFIED:20201207T181616Z
UID:3450-1499731200-1500249599@old.ypc.org
SUMMARY:YPC On Tour in Spain
DESCRIPTION:« All Events \n\n\n\n\n \n \n\nJuly 11 to July 16\, 2017\n \n \n\nIn July the Young People’s Chorus of New York City and Artistic Director/Founder Francisco J. Núñez return to Spain for their second tour\, beginning with a concert in Catalana followed by a festival of competitions and performances in Vic. \nPalau de la Musica Catalana – July 11\nFirst\, YPC performs at the world famous Palau de la Musica Catalana\, listed as a “World Heritage Site” by UNESCO\, and is the home of the Orfeo Català\, the historic symphonic choir led by Simon Halsey. \nFestival Internacional de Música de Cantonigròs – July 13-16\nYPC is honored to be invited to participate in the Festival Internacional De Música De Cantonigròs\, an international festival founded in 1983.  Choruses from throughout the world take part in this festival of competitions and performances of mixed choral music.  The festival’s aims are for participants to achieve a deeper knowledge and understanding of different cultures and to foster a spirit of friendship and peace among all countries and nationalities.\n\n \n \n \n \n \n \n\n \n \n\n\n\n\nDate:\nJuly 11 to 16\, 2017 \n\n\n\n\n\n \n\n\nVenues: \nPalau de la Musica Catalana \nFestival Internacional de Música de Cantonigròs
URL:https://old.ypc.org/event/summer-tour-in-spain/
LOCATION:Festival Internacional de Música de Cantonigròs\, Carrer Major\, 35\, 08569 Cantonigròs\, Barcelona\, Spain
CATEGORIES:Event,Performance
ATTACH;FMTTYPE=image/jpeg:https://old.ypc.org/wp-content/uploads/2020/10/spain.jpg
GEO:42.03937;2.4032
X-APPLE-STRUCTURED-LOCATION;VALUE=URI;X-ADDRESS=Festival Internacional de Música de Cantonigròs Carrer Major 35 08569 Cantonigròs Barcelona Spain;X-APPLE-RADIUS=500;X-TITLE=Carrer Major\, 35\, 08569 Cantonigròs:geo:2.4032,42.03937
END:VEVENT
END:VCALENDAR