BEGIN:VCALENDAR
VERSION:2.0
PRODID:-//Young People&#039;s Chorus of NYC - ECPv6.2.9//NONSGML v1.0//EN
CALSCALE:GREGORIAN
METHOD:PUBLISH
X-ORIGINAL-URL:https://old.ypc.org
X-WR-CALDESC:Events for Young People&#039;s Chorus of NYC
REFRESH-INTERVAL;VALUE=DURATION:PT1H
X-Robots-Tag:noindex
X-PUBLISHED-TTL:PT1H
BEGIN:VTIMEZONE
TZID:America/New_York
BEGIN:DAYLIGHT
TZOFFSETFROM:-0500
TZOFFSETTO:-0400
TZNAME:EDT
DTSTART:20210314T070000
END:DAYLIGHT
BEGIN:STANDARD
TZOFFSETFROM:-0400
TZOFFSETTO:-0500
TZNAME:EST
DTSTART:20211107T060000
END:STANDARD
END:VTIMEZONE
BEGIN:VEVENT
DTSTART;TZID=America/New_York:20210204T170000
DTEND;TZID=America/New_York:20210204T180000
DTSTAMP:20260421T090357
CREATED:20210121T195354Z
LAST-MODIFIED:20210121T195510Z
UID:23984-1612458000-1612461600@old.ypc.org
SUMMARY:Community Senior Choruses Rehearsal
DESCRIPTION:Weekly on Thursdays from 5:00-6:00 P.M.\nVisit the chorister login page for more info or to contact your conductor. \nhttps://us02web.zoom.us/j/94242263758\nMeeting ID: 942 4226 3758\nPasscode: 105289 \n< Back to Chorister Calendar
URL:https://old.ypc.org/event/community-senior-choruses-rehearsal-3/2021-02-04/
LOCATION:Zoom Rehearsal
CATEGORIES:Community Chorus,Private
END:VEVENT
END:VCALENDAR